{"text_format":"1","workbook":"xlsx","n_sheets":2,"sheets":["1st_BTC","BTC"],"not_rendered":{"charts":91,"images":93,"macros":1,"external_links":2,"defined_names":44,"comments":1,"pivot_tables":0},"unopened":[],"bounds":{"document_bytes":16777216,"sheet_cells":100000,"rows_first":2000,"rows_last":500,"rows_between":2000,"halvings":0,"cell_chars":16384,"cell_head_chars":4096},"cells_cut":0,"cells_raw":0,"read":"whole","date_system":"1900"}

{"sheet":"1st_BTC","index":0,"n_rows":37,"n_cols":25,"rows_kept":37,"cut":false,"hidden":false,"merged":[[30,6,31,6],[48,15,49,23],[34,6,34,7],[30,0,31,5],[0,15,1,22],[2,17,5,23],[7,15,8,23],[9,15,10,23],[11,15,15,23],[36,11,37,12],[32,11,33,12],[23,15,26,23],[28,15,29,23],[16,15,22,23]]}
[null,null,null,null,null,null,null,null,null,null,null,null,null,null,null,"Computer simulation to model the performance of trading on the Bitcoin market."]
["Computer simulation to model the performance of trading on the Bitcoin market."]
[null,null,null,null,null,null,null,null,null,null,null,null,null,null,null,null,null,"The Model interprets the real market trading in figures, graphs and formal functional dependencies accomplishing a maximal isomorphism between them. It is formed in hierarchical structure (pyramid) of five stratification layers. Zero Level is this Worksheet \"Intro\" and the import data panel."]
[null,null,null,null,null,null,null,null,null,null,null,null,null,null,null,null,null,null,null,null,null,null,null,null,"1900-01-02"]
[]
[]
[null,null,null,null,null,null,null,null,null,null,null,null,null,null,null,null,null,"Steps-to-Follow"]
[null,null,null,null,null,null,null,null,null,null,null,null,null,null,null,"1) Read More Information about the right and roles of use the program by clicking on the respective Button and, if agree, click Continue \u0086  Button to go to Worksheet \"FORECAST\"."]
[]
[null,null,null,null,null,null,null,null,null,null,null,null,null,null,null,"1) Read More Information about the right and roles of use the program by clicking on the respective Button and, if agree, click Continue \u0086  Button to go to Worksheet \"FORECAST\"."]
[]
[null,null,null,null,null,null,null,null,null,null,null,null,null,null,null,"3) On the zoomed 100+ screen you see graphical representation and tables of the 1st (A), 2nd (B)and 3rd (C) level forecastings of each one of the ten currencies on one Sheet BTC—A Short position (20 periods; refresh every 6 min, 2h smoothing average); B Operational position (2h); and C Long (36h) showing the long trend. Gharts B and C are construed by Weighted Moving Average Exponential Smoothing Method with exponential smoothing constant α (0 ≤ α ≤ 1). "]
[]
[]
[]
[]
[null,null,null,null,null,null,null,null,null,null,null,null,null,null,null,"      Important. By default α = 0.2. When the Sales  time series contains substantial random variability, a small value of α is preferred; in contrary, for relatively little random variability, larger values of α have the advantage of quickly adjusting the forecasts when errors occur and therefore allowing the forecast to react faster to changing the trend projection. You must change the value of α manually (after Up/Down Bars hide) by the Spin Button           for each currency on every one time position B - prevailing ↘; C -prevailing ↗. The idea is to remember the dealer to se-lect an appropriate α for the trading in interest, thus to reduce the error of the forecasting of this Tail ."]
[]
[null,null,null,null,null,null,null,null," PROFESSIONAL-FULL VERSION COMPLEX SOFTWARE PACKAGES  "]
[]
[]
[]
["    \u0086  ","  "]
["    \u0086    This file is generated for online use only.  Any distribution or reproduction of this file in whole or in part, OR the divulgence of any of its contents is expressly prohibited.",null,null,null,null,null,null,null,null,null,null,null,null,null,null,"This information is applied for: ï   fast visual guidance for the direction of change the error with the growth of α from 0.1 to 1; and  ï   the next higher level in the hierarchical structure of the model—quali- tative assessment of the dealing by the trader."]
["    \u0086    It is a professional version in which all editing functions are enabled.  You are able to make changes to it.  The program is protected from potentially malicious virus attack. "]
["    \u0086    We provide this basic program for operation without warranty, if you make changes, either expressed or implied. This includes, but not limited to, the implied warranties"]
["    \u0086    of fitness for a particular purpose. It assumes you are not familiar with the program language that is being applied. Our support team can help explain the functionality of"]
["    \u0086    every particular procedure and can modify this version to provide added functionality or construct procedures to meet your specific requirements. ",null,null,null,null,null,null,null,null,null,null,"Click Continue Ø",null,null,null,"4) \u0085Refresh the imported exchange data of the current transactions by clicking on the big currency icon."]
[null,null,null,null,null,null,null,null,null,null,null,null,null,null,null,"5) Use the small currency icons (i) to move the screen to the selceted surrency; and (ii) to refresh the background collors of the forecasting cells, computing to the trends Up, Down and Equal. "]
[]
["Click Bitcoin to visit the author's website, and then select BTC ",null,null,null,null,null,"\u0086",null,null,null,null,null,null,null,null,"In case one currency is withdrawn from the exchange temporary or forever, it appears visible indication of this event."]
[null,null,null,null,null,null,null,null,null,null,null,null,null,null,null,"Enjoy"]
[null,null,null,null,null,null,null,null,null,null,null,"Прочети описанието на работната страница"]
[null,null,null,null,null,null,null,null,null,null,null,null,null,null,null,null,null,null,null,null,null,null,"      More info"]
[null,null,null,null,null,null,"BitCoins"]
[]
[null,null,null,null,null,null,null,null,null,null,null,"Read Description of the Worksheet BTC"]

{"sheet":"BTC","index":1,"n_rows":501,"n_cols":44,"rows_kept":501,"cut":false,"hidden":false,"merged":[[451,0,451,1],[494,0,494,1],[434,0,434,1],[493,0,493,1],[323,24,326,24],[405,24,407,24],[378,24,380,24],[351,24,353,24],[436,0,437,1],[433,0,433,1],[450,0,450,1],[435,0,435,1],[401,0,401,1],[392,22,396,22],[393,23,396,23],[385,0,386,0],[390,22,391,22],[392,8,392,9],[347,0,347,1],[374,0,374,1],[387,22,388,22],[330,22,331,22],[331,0,332,0],[333,22,334,22],[358,0,359,0],[360,22,361,22],[338,22,342,22],[347,22,348,22],[248,0,249,0],[303,22,304,22],[277,0,278,0],[284,8,284,9],[255,8,255,9],[292,0,292,1],[319,0,319,1],[279,22,280,22],[282,22,283,22],[255,22,259,22],[201,8,201,9],[140,0,141,0],[142,22,143,22],[145,22,146,22],[338,8,338,9],[304,0,305,0],[306,22,307,22],[311,8,311,9],[311,22,315,22],[318,22,319,22],[336,22,337,22],[182,0,182,1],[75,0,75,1],[91,22,92,22],[93,22,97,22],[93,8,93,9],[147,22,151,22],[174,22,177,22],[120,8,120,9],[156,0,156,1],[86,0,87,0],[113,0,114,0],[112,22,113,22],[115,22,116,22],[118,22,119,22],[139,22,140,22],[102,0,102,1],[167,0,168,0],[384,22,385,22],[5,0,6,0],[59,0,60,0],[12,8,12,9],[4,22,5,22],[7,22,8,22],[10,22,11,22],[31,22,32,22],[17,22,18,22],[12,22,16,22],[37,22,38,22],[58,22,59,22],[46,22,47,22],[20,0,20,1],[47,0,47,1],[32,0,33,0],[39,8,39,9],[34,22,35,22],[39,22,43,22],[129,0,129,1],[66,8,66,9],[61,22,62,22],[210,0,210,1],[210,22,211,22],[366,23,369,23],[365,8,365,9],[309,22,310,22],[229,23,232,23],[147,8,147,9],[169,22,170,22],[172,22,173,22],[174,8,174,9],[175,23,178,23],[196,22,197,22],[226,22,227,22],[228,8,228,9],[365,22,369,22],[152,22,153,22],[166,22,167,22],[193,22,194,22],[148,23,151,23],[339,23,342,23],[347,23,348,23],[363,22,364,22],[357,22,358,22],[312,23,315,23],[318,23,319,23],[223,22,224,22],[256,23,259,23],[289,23,290,23],[285,23,288,23],[289,22,290,22],[276,22,277,22],[181,22,182,22],[64,22,65,22],[85,22,86,22],[88,22,89,22],[66,22,70,22],[228,22,231,22],[120,22,124,22],[75,22,76,22],[178,22,179,22],[202,23,205,23],[247,22,248,22],[284,22,288,22],[253,22,254,22],[250,22,251,22],[232,22,233,22],[496,0,496,1],[10,30,11,32],[497,0,497,1],[5,26,6,26],[18,26,19,26],[86,26,87,26],[39,26,40,26],[201,22,205,22],[199,22,200,22],[220,22,221,22],[13,26,14,26],[32,26,33,26],[59,26,60,26],[66,26,67,26],[93,26,94,26],[113,26,114,26],[120,26,121,26],[13,23,16,23],[40,23,43,23],[67,23,70,23],[94,23,97,23],[121,23,124,23],[194,0,195,0],[221,0,222,0]]}
["1900-01-17",null,null,null,null,null,null,"❿",null,null,null,null,"  ê ê ê   FORECASTING  ê ê ê",null,null,null,null,null,null,null,null,"Прочети \u0086 описанието",null,{"$f":"TODAY()","v":"2014-04-29"},null,null,null,null,null,null,null,null,null,null,null,null,null,null,null,"  Register New Account"]
["SXC/BTC",null,null,{"$f":"IF(A31=\"FALCE\",\"❷\",\"\")","v":""},{"$f":"IF(A58=\"FALCE\",\"❸\",\"\")","v":""},{"$f":"IF(A85=\"FALCE\",\"❹\",\"\")","v":""},{"$f":"IF(A112=\"FALCE\",\"❺\",\"\")","v":""},{"$f":"IF(A139=\"FALCE\",\"❻\",\"\")","v":""},{"$f":"IF(A166=\"FALCE\",\"❼\",\"\")","v":""},{"$f":"IF(A193=\"FALCE\",\"❽\",\"\")","v":""},{"$f":"IF(A220=\"FALCE\",\"❾\",\"\")","v":""},{"$f":"IF(A247=\"FALCE\",\"❿\",\"\")","v":""},null,null,null,null,null,null,null,{"$f":"IF(A3=\"FALSE\",\"THERE IS CHANGE IN THE IMPORT DATA. ADJUST THE INPUT !\",\"\")","v":""},"SXC/BTC 0.00000520 ","SXC/BTC","00:00:00.449","New Date",null,"       To source","SexCoin",null,null,null,null,null,null,null,null,null,null,null,null,"  Login"]
[{"$f":"IF(V2=A2,\"TRUE\",\"FALSE\")","v":"TRUE"},"time",1,2,3,4,5,6,7,8,9,10,11,12,13,14,15,16,17,18,19,20,21,"1900-01-20",0.06,"QUALITY ASSESMENT MODELING"]
[-1,"Price Yt",5.0200000000000002E-6,5.0200000000000002E-6,5.0200000000000002E-6,5.0200000000000002E-6,5.0200000000000002E-6,5.0200000000000002E-6,5.0200000000000002E-6,5.0200000000000002E-6,5.0200000000000002E-6,5.0200000000000002E-6,5.0200000000000002E-6,5.1100000000000002E-6,5.1100000000000002E-6,5.1100000000000002E-6,5.1100000000000002E-6,5.1100000000000002E-6,5.1100000000000002E-6,5.1100000000000002E-6,5.2000000000000002E-6,5.2000000000000002E-6,null,3,1,{"$f":"$Y$3/365*AA5","v":1.6438356164383563E-3},"00:00:14.203",null,null,null,null,null,null,null,null,null,null,null,null,"Apr 28th 05:24PM EST"]
["Fd","F↗↘",null,null,null,{"$f":"3/6*E4+2/6*D4+1/6*C4","v":5.0200000000000002E-6},{"$f":"3/6*F4+2/6*E4+1/6*D4","v":5.0200000000000002E-6},{"$f":"3/6*G4+2/6*F4+1/6*E4","v":5.0200000000000002E-6},{"$f":"3/6*H4+2/6*G4+1/6*F4","v":5.0200000000000002E-6},{"$f":"3/6*I4+2/6*H4+1/6*G4","v":5.0200000000000002E-6},{"$f":"3/6*J4+2/6*I4+1/6*H4","v":5.0200000000000002E-6},5.0200000000000002E-6,5.0200000000000002E-6,5.0200000000000002E-6,5.0649999999999998E-6,5.0949999999999995E-6,5.1099999999999994E-6,5.1099999999999994E-6,5.1099999999999994E-6,5.1099999999999994E-6,{"$f":"3/6*T4+2/6*S4+1/6*R4","v":5.1099999999999994E-6},{"$f":"3/6*U4+2/6*T4+1/6*S4","v":5.1549999999999998E-6},{"$f":"3/6*V4+2/6*U4+1/6*T4","v":5.1849999999999995E-6},2,0,1.6438356164383562E-4,10,null,null,null,null,null,null,null,null,null,null,null,null,"USD Markets"]
["❶",-0.05,-1.9736839999999999E-2,-3.1412312914321894E-2,-5.2240002271581397E-2,-3.2552692899029192E-2,-3.3388766200753789E-2,-3.2389486200753791E-2,-3.4532646200753789E-2,-4.2421914195839988E-2,-3.4532646200753789E-2,-3.4532646200753789E-2,-3.4532646200753789E-2,0,0,0,0,0,0,0,0,0,null,{"$f":"IF(X5>$X$3,0,X5)","v":2},{"$f":"IF(Y5>$X$3,0,Y5)","v":0},null,{"$f":"IF(X7=0,\"\",IF(X7>0,\"C\",\"N\"))","v":"N"}]
[null,"Price Yt",5.0200000000000002E-6,5.0099999999999995E-6,5.0099999999999995E-6,5.0099999999999995E-6,5.0099999999999995E-6,5.0200000000000002E-6,5.0200000000000002E-6,5.0200000000000002E-6,5.0200000000000002E-6,5.0200000000000002E-6,5.0200000000000002E-6,5.0300000000000001E-6,5.0300000000000001E-6,5.0200000000000002E-6,5.0200000000000002E-6,5.0200000000000002E-6,5.0200000000000002E-6,5.0200000000000002E-6,5.0200000000000002E-6,5.1099999999999994E-6,null,{"$f":"NPV($AA$4,C6:V6)+B6","v":-0.4318869249167871},null,null,null,null,null,null,null,null,null,null,null,null,null,null,null,"BTC/USD 0.00000000 "]
[{"$f":"A9/10","v":0.2},"F↗↘",{"$f":"ABS(C7)","v":5.0200000000000002E-6},{"$f":"ABS(C7)","v":5.0200000000000002E-6},{"$f":"D8+а*(D7-D8)","v":5.0180000000000001E-6},5.0163999999999999E-6,5.0151200000000002E-6,{"$f":"G8+а*(G7-G8)","v":5.0140959999999999E-6},5.0152767999999998E-6,5.0162214400000002E-6,5.0169771520000005E-6,5.0175817216000001E-6,5.0180653772799998E-6,5.0184523018239996E-6,5.0207618414591997E-6,5.0226094731673601E-6,5.0220875785338885E-6,5.0216700628271105E-6,5.0213360502616881E-6,5.0210688402093507E-6,{"$f":"T8+а*(T7-T8)","v":5.0208550721674806E-6},{"$f":"U8+а*(U7-U8)","v":5.0206840577339847E-6},5.0385472461871873E-6,{"$f":"IF(B6=0,0,AA8*365/$AA$5)","v":{"$error":"#NUM!"}},null,null,{"$f":"IRR(B6:V6)","v":{"$error":"#NUM!"}},null,null,null,null,null,null,null,null,null,null,null,null,"DOGE/USD 0.00000000 "]
["1900-01-02",-0.01,-3.9898499999999996E-3,-5.9160999999999936E-4,4.8748000000000107E-4,-4.4418899999999987E-3,2.3206600000000013E-3,4.0218200000000006E-3,8.7237700000000005E-3,4.789980000000001E-3,null,null,null,null,null,null,null,null,null,null,null,null,null,{"$f":"NPV($AA$4,C9:V9)+B9","v":1.3016922797974145E-3},null,null,null,null,null,null,null,null,null,null,null,null,null,null,null,"FTC/USD 0.00000000 "]
["1900-01-02","Price Yt",5.1926388279066628E-6,5.1901110623253303E-6,5.1491558145531902E-6,5.1491558145531902E-6,5.1491558145531902E-6,5.1696597213140423E-6,5.1696597213140423E-6,5.195727777051234E-6,5.1397381327532375E-6,5.1358481522778211E-6,5.0969923008949819E-6,5.0817091328664457E-6,5.0167757925009042E-6,5.0167757925009042E-6,5.0124833293090805E-6,5.0184523018239996E-6,5.0207618414591997E-6,5.0385472461871873E-6,5.0385472461871873E-6,5.0385472461871873E-6,null,{"$f":"IF(B9=0,0,AA16*365/$AA$5)","v":0.44672017601301856},null,"1900-01-01",null,null,null,null,null,null,null,null,null,null,null,null,null,"LTC/USD 0.00000000 "]
[{"$f":"A12/10","v":0.2},"F↗↘",{"$f":"ABS(C10)","v":5.1926388279066628E-6},{"$f":"ABS(C10)","v":5.1926388279066628E-6},{"$f":"D11+а13*(D10-D11)","v":5.1921332747903961E-6},5.1835377827429551E-6,5.176661389105002E-6,5.1711602741946399E-6,5.1708601636185207E-6,5.1706200751576254E-6,5.1756416155363471E-6,5.1684609189797254E-6,5.1619383656393445E-6,5.148949152690472E-6,5.1355011487256664E-6,5.1117560774807138E-6,{"$f":"P11+а13*(P10-P11)","v":5.0927600204847519E-6},5.0767046822496179E-6,5.0650542061644939E-6,{"$f":"S11+а13*(S10-S11)","v":5.0561957332234351E-6},5.0526660358161853E-6,5.0498422778903861E-6,5.0475832715497461E-6,null,null,null,null,null,null,null,"Click here to START"]
["1900-01-02",-0.05,-1.9736839999999999E-2,-3.1412312914321894E-2,-5.2240002271581397E-2,-3.2552692899029192E-2,-3.3388766200753789E-2,-3.2389486200753791E-2,-3.4532646200753789E-2,-4.2421914195839988E-2,-3.4532646200753789E-2,-3.4532646200753789E-2,-3.4532646200753789E-2,"00:00:00","00:00:00","00:00:00","00:00:00","00:00:00","00:00:00","00:00:00","00:00:00","00:00:00"]
["1900-01-02","A",null,null,null,null,null,null,"  B",null,null,null,null,null,null,null,"     C",null,null,null,null,null,"Go to:",null,"2014-03-30","Primary graph"]
["α#",null,null,null,null,null,null,null,null,null,null,null,null,null,null,null,null,null,null,null,null,null,null,"Go to:",null,null,{"$f":"IF(X9=0,\"\",IF(X9>0,\"C\",\"N\"))","v":"C"},null,null,null,null,null,null,null,null,null,null,null,null,"BTC Markets"]
[]
[null," SXC",null,null,null,null,null,null,null,null,null,null,null,null,null,null,null,null,null,null,null,null,null,null,null,null,{"$f":"IRR(B9:V9)","v":1.2238908931863524E-2}]
[]
[null,null,null,null,null,null,null,null,null,null,null,null,null,null,null,null,null,null,null,null,null,null,"       SXC",null,null,null,null,null,null,null,null,null,null,null,null,null,null,null,null,"42/BTC 37.00000000 "]
[null,null,null,null,null,null,null,null,null,null,null,null,null,null,null,null,null,null,null,null,null,null,null,null,"2014-03-30",8,{"$f":"IF(X12=0,\"\",IF(X12>0,\"C\",\"N\"))","v":""},null,null,null,null,null,null,null,null,null,null,null,null,"AC/BTC 0.00001000 "]
[null,null,null,null,null,null,null,null,null,null,null,null,null,null,null,null,null,null,null,null,null,null,null,null,null,null,null,null,null,null,null,null,null,null,null,null,null,null,null,"ALF/BTC 0.00000139 "]
["SexCoin",null,null,null,null,null,null,null,null,null,null,null,null,null,null,null,null,null,null,null,null,null,null,null,null,null,null,null,null,null,null,null,null,null,null,null,null,null,null,"AMC/BTC 0.00000213 "]
[null,null,null,null,null,null,null,null,null,null,null,null,null,null,null,null,null,null,null,null,null,null,null,null,null,null,null,null,null,null,null,null,null,null,null,null,null,null,null,"ANC/BTC 0.00157000 "]
[null,null,null,null,null,null,null,null,null,null,null,null,null,null,null,null,null,null,null,null,null,null,null,null,null,null,null,null,null,null,null,null,null,null,null,null,null,null,null,"ARG/BTC 0.00005005 "]
[null,null,null,null,null,null,null,null,null,null,null,null,null,null,null,null,null,null,null,null,null,null,null,null,null,null,null,null,null,null,null,null,null,null,null,null,null,null,null,"AUR/BTC 0.00174649 "]
[null,null,null,null,null,null,null,null,null,null,null,null,null,null,null,null,null,null,null,null,null,null,null,null,"2014-04-18",{"$f":"AA5","v":10},null,null,null,null,null,null,null,null,null,null,null,null,null,"BC/BTC 0.00029198 "]
[null,null,null,null,null,null,null,null,null,null,null,null,null,null,null,null,null,null,null,null,null,null,null,null,null,null,null,null,null,null,null,null,null,null,null,null,null,null,null,"BCX/BTC 0.00000493 "]
[null,null,null,null,null,null,null,null,null,null,null,null,null,null,null,null,null,null,null,null,null,null,null,null,null,null,null,null,null,null,null,null,null,null,null,null,null,null,null,"BEN/BTC 0.00000655 "]
[null,null,null,null,null,null,null,null,null,null,null,null,null,null,null,null,null,null,null,null,null,null,null,null,null,null,null,null,null,null,null,null,null,null,null,null,null,null,null,"BET/BTC 0.00000747 "]
[null,null,null,null,null,null,null,null,null,null,null,null,null,null,null,null,null,null,null,null,null,null,null,null,null,"       To source","AuroraCoin",null,null,null,null,null,null,null,null,null,null,null,null,"BQC/BTC 0.00001052 "]
["AUR/BTC",null,{"$f":"IF(A4=\"FALCE\",\"❶\",\"\")","v":""},{"$f":"IF(A4=\"FALCE\",\"❶\",\"\")","v":""},{"$f":"IF(A58=\"FALCE\",\"❸\",\"\")","v":""},{"$f":"IF(A85=\"FALCE\",\"❹\",\"\")","v":""},{"$f":"IF(A112=\"FALCE\",\"❺\",\"\")","v":""},{"$f":"IF(A139=\"FALCE\",\"❻\",\"\")","v":""},{"$f":"IF(A166=\"FALCE\",\"❼\",\"\")","v":""},{"$f":"IF(A193=\"FALCE\",\"❽\",\"\")","v":""},{"$f":"IF(A220=\"FALCE\",\"❾\",\"\")","v":""},{"$f":"IF(A247=\"FALCE\",\"❿\",\"\")","v":""},{"$f":"IF(A247=\"FALCE\",\"❿\",\"\")","v":""},null,null,null,null,null,null,{"$f":"IF(A31=\"FALSE\",\"THERE IS CHANGE IN THE IMPORT DATA. ADJUST THE INPUT !\",\"\")","v":""},"AUR/BTC 0.00174649 ","AUR/BTC",1.7464900000000001E-3,null,null,null,null,null,null,null,null,null,null,null,null,null,null,null,null,"BTB/BTC 0.03200003 "]
[{"$f":"IF(V30=A30,\"TRUE\",\"FALSE\")","v":"TRUE"},"Price Yt",8.8128999999999996E-4,8.899E-4,8.899E-4,8.899E-4,8.899E-4,8.899E-4,8.899E-4,8.899E-4,8.899E-4,8.899E-4,8.899E-4,8.9006999999999997E-4,8.9006999999999997E-4,8.9006999999999997E-4,8.9006999999999997E-4,8.9006999999999997E-4,8.9006999999999997E-4,8.9006999999999997E-4,1.7464900000000001E-3,1.7464900000000001E-3,null,{"$f":"$X$3","v":"1900-01-20"},"↙ Number of periods for A and B cycles",null,null,null,null,null,null,null,null,null,null,null,null,null,null,"BTE/BTC 0.00002500 "]
["Fd","F↗↘",null,null,null,{"$f":"3/6*E31+2/6*D31+1/6*C31","v":8.8846499999999996E-4},8.8989999999999989E-4,8.8989999999999989E-4,8.8989999999999989E-4,8.8989999999999989E-4,8.8989999999999989E-4,8.8989999999999989E-4,8.8989999999999989E-4,8.8989999999999989E-4,8.8998499999999993E-4,8.9004166666666659E-4,8.9006999999999997E-4,8.9006999999999997E-4,8.9006999999999997E-4,8.9006999999999997E-4,8.9006999999999997E-4,{"$f":"3/6*U31+2/6*T31+1/6*S31","v":1.31828E-3},{"$f":"3/6*V31+2/6*U31+1/6*T31","v":1.6037533333333332E-3},2,0,null,null,null,null,null,null,null,null,null,null,null,null,null,null,"BTG/BTC 0.00373395 "]
["❷",0.05,-9.9103000000000004E-3,-3.5075686862380696E-2,-5.6818906483666803E-2,-7.4814119213960195E-2,-7.3703849871365995E-2,-6.5293829871366005E-2,-6.7436989871365996E-2,0,0,0,0,0,0,0,0,0,0,0,0,0,null,{"$f":"IF(X32>$X$3,0,X32)","v":2},{"$f":"IF(Y32>$X$3,0,Y32)","v":0},null,{"$f":"IF(X34=0,\"\",IF(X34>0,\"C\",\"N\"))","v":"N"},null,null,null,null,null,null,null,null,null,null,null,null,"BUK/BTC 0.00012000 "]
[null,"Price Yt",8.8006E-4,8.705500000000001E-4,8.705500000000001E-4,8.705500000000001E-4,8.705500000000001E-4,8.6964999999999992E-4,8.6964999999999992E-4,8.6964999999999992E-4,8.6964999999999992E-4,8.6964999999999992E-4,8.6964999999999992E-4,8.7989999999999997E-4,8.7989999999999997E-4,8.8239999999999998E-4,8.8239999999999998E-4,8.8129000000000007E-4,8.8129000000000007E-4,8.8989999999999989E-4,8.8989999999999989E-4,8.9006999999999997E-4,null,{"$f":"NPV($Y$3,C33:L33)+B33","v":-0.24348744295261698},null,null,null,null,null,null,null,null,null,null,null,null,null,null,null,"CACH/BTC 0.00050546 "]
[{"$f":"A36/10","v":0.2},"F↗↘",{"$f":"ABS(C34)","v":8.8006E-4},{"$f":"ABS(C34)","v":8.8006E-4},{"$f":"D35+а2*(D34-D35)","v":8.7815799999999998E-4},8.766364E-4,8.7541912000000006E-4,8.7444529600000007E-4,8.734862368E-4,8.7271898943999996E-4,8.7210519155199993E-4,8.716141532415999E-4,8.7122132259327993E-4,8.7090705807462397E-4,8.7270564645969913E-4,8.7414451716775934E-4,8.7579561373420751E-4,8.7711649098736605E-4,8.7795119278989285E-4,8.7861895423191425E-4,8.8087516338553138E-4,8.8268013070842504E-4,8.8415810456674005E-4,{"$f":"IF(B33=0,0,AA35*365/$AA$5)","v":24.781469777917675},null,null,{"$f":"IRR(B33:V33)","v":0.6789443774771966},null,null,null,null,null,null,null,null,null,null,null,null,"CAP/BTC 0.00001113 "]
["1900-01-02",null,null,null,null,null,null,null,null,null,null,null,null,null,null,null,null,null,null,null,null,null,null,{"$f":"NPV($Y$3,C36:L36)+B36","v":0},null,null,null,null,null,null,null,null,null,null,null,null,null,null,null,"CASH/BTC 0.00001202 "]
["1900-01-02","Price Yt",1.3267731976973145E-3,1.3405193245210278E-3,1.3405193245210278E-3,1.3373054596168223E-3,1.3381676680602362E-3,1.3381676680602362E-3,1.3381676680602362E-3,1.337934134448189E-3,1.3031533075585511E-3,1.1230074159714165E-3,1.1024219327771332E-3,1.0319177900405404E-3,1.0252161810227534E-3,9.7656707012460796E-4,9.4316746037407119E-4,8.7115130728197723E-4,8.7290104582558176E-4,8.8415810456674005E-4,8.8415810456674005E-4,8.8415810456674005E-4,null,{"$f":"IF(B36=0,0,AA42*365/$AA$5)","v":0},null,null,null,null,null,null,null,null,null,null,null,null,null,null,null,"CAT/BTC 0.00007725 "]
[{"$f":"A39/10","v":0.2},"F↗↘",{"$f":"ABS(C37)","v":1.3267731976973145E-3},{"$f":"ABS(C37)","v":1.3267731976973145E-3},{"$f":"D38+а23*(D37-D38)","v":1.3295224230620573E-3},1.3317218033538514E-3,1.3328385346064455E-3,1.3339043612972036E-3,1.3347570226498102E-3,1.3354391517318954E-3,1.3359381482751541E-3,1.3293811801318336E-3,1.2881064272997503E-3,1.2509695283952269E-3,1.2071591807242897E-3,1.1707705807839823E-3,1.1319298786521075E-3,1.0941773949965003E-3,1.0495721774535958E-3,{"$f":"S38+а23*(S37-S38)","v":1.0142379511279931E-3},9.8822198181574249E-4,9.6740920636594204E-4,{"$f":"V38+а23*(V37-V38)","v":9.5075898600610164E-4},null,null,null,null,null,null,null,null,null,null,null,null,null,null,null,null,"CGB/BTC 0.00082968 "]
["1900-01-02",null,null,null,null,null,null,null,null,null,null,null,null,null,null,null,null,null,null,null,null,null,null,null,null,null,null,null,null,null,null,null,null,null,null,null,null,null,null,"CINNI/BTC 0.00007325 "]
["1900-01-02","A",null,null,null,null,null,null,"  B",null,null,null,null,null,null,null,"     C",null,null,null,null,null,"Go to:","↙ Refresh","2014-04-18",0,null,null,null,null,null,null,null,null,null,null,null,null,null,"CLR/BTC 0.00010000 "]
["α#",null,null,null,null,null,null,null,null,null,null,null,null,null,null,null,null,null,null,null,null,null,null,"Go to:",null,null,null,null,null,null,null,null,null,null,null,null,null,null,null,"CMC/BTC 0.00004000 "]
[null,null,null,null,null,null,null,null,null,null,null,null,null,null,null,null,null,null,null,null,null,null,null,null,null,null,{"$f":"IRR(B36:V36)","v":{"$error":"#NUM!"}},null,null,null,null,null,null,null,null,null,null,null,null,"CNC/BTC 0.00000380 "]
[null,"AUR",null,null,null,null,null,null,null,null,null,null,null,null,null,null,null,null,null,null,null,null,null,null,null,null,null,null,null,null,null,null,null,null,null,null,null,null,null,"COMM/BTC 0.00000063 "]
[null,null,null,null,null,null,null,null,null,null,null,null,null,null,null,null,null,null,null,null,null,null,null,null,null,null,null,null,null,null,null,null,null,null,null,null,null,null,null,"CRC/BTC 0.00004350 "]
[null,null,null,null,null,null,null,null,null,null,null,null,null,null,null,null,null,null,null,null,null,null,null,null,null,null,null,null,null,null,null,null,null,null,null,null,null,null,null,"CSC/BTC 0.00000326 "]
[null,null,null,null,null,null,null,null,null,null,null,null,null,null,null,null,null,null,null,null,null,null,null,null,"2014-04-18",0,null,null,null,null,null,null,null,null,null,null,null,null,null,"DEM/BTC 0.00002011 "]
[null,"       ",null,null,null,null,null,null,null,null,null,null,null,null,null,null,null,null,null,null,null,null,"      AUR",null,null,null,null,null,null,null,null,null,null,null,null,null,null,null,null,"DGB/BTC 0.00000028 "]
["AuroraCoin",null,null,null,null,null,null,null,null,null,null,null,null,null,null,null,null,null,null,null,null,null,null,null,null,null,null,null,null,null,null,null,null,null,null,null,null,null,null,"DGC/BTC 0.00005678 "]
[null,null,null,null,null,null,null,null,null,null,null,null,null,null,null,null,null,null,null,null,null,null,null,null,null,null,null,null,null,null,null,null,null,null,null,null,null,null,null,"DMD/BTC 0.00090546 "]
[null,null,null,null,null,null,null,null,null,null,null,null,null,null,null,null,null,null,null,null,null,null,null,null,null,null,null,null,null,null,null,null,null,null,null,null,null,null,null,"DOGE/BTC 0.00000108 "]
[null,null,null,null,null,null,null,null,null,null,null,null,null,null,null,null,null,null,null,null,null,null,null,null,null,null,null,null,null,null,null,null,null,null,null,null,null,null,null,"DRK/BTC 0.00383659 "]
[null,null,null,null,null,null,null,null,null,null,null,null,null,null,null,null,null,null,null,null,null,null,null,null,null,null,null,null,null,null,null,null,null,null,null,null,null,null,null,"DVC/BTC 0.00000026 "]
[null,null,null,null,null,null,null,null,null,null,"$",null,null,null,null,null,null,null,null,null,null,null,null,null,null,null,null,null,null,null,null,null,null,null,null,null,null,null,null,"EAC/BTC 0.00000006 "]
[null,null,null,null,null,null,null,null,null,null,"α",null,null,null,null,null,null,null,null,null,null,null,null,null,null,null,null,null,null,null,null,null,null,null,null,null,null,null,null,"ELC/BTC 0.00031670 "]
[null,null,null,null,null,null,null,null,null,null,null,null,null,null,null,null,null,null,null,null,null,null,null,null,null,null,null,null,null,null,null,null,null,null,null,null,null,null,null,"EMC2/BTC 0.00000495 "]
[null,null,null,null,null,null,null,null,null,null,null,null,null,null,null,null,null,null,null,null,null,null,null,null,null,"                To source","DogeCoin",null,null,null,null,null,null,null,null,null,null,null,null,"EMD/BTC 0.00000425 "]
["DOGE/BTC",null,{"$f":"IF(A4=\"FALCE\",\"❶\",\"\")","v":""},{"$f":"IF(A31=\"FALCE\",\"❷\",\"\")","v":""},{"$f":"IF(A31=\"FALCE\",\"❷\",\"\")","v":""},{"$f":"IF(A85=\"FALCE\",\"❹\",\"\")","v":""},{"$f":"IF(A112=\"FALCE\",\"❺\",\"\")","v":""},{"$f":"IF(A139=\"FALCE\",\"❻\",\"\")","v":""},{"$f":"IF(A166=\"FALCE\",\"❼\",\"\")","v":""},{"$f":"IF(A193=\"FALCE\",\"❽\",\"\")","v":""},{"$f":"IF(A220=\"FALCE\",\"❾\",\"\")","v":""},{"$f":"IF(A247=\"FALCE\",\"❿\",\"\")","v":""},{"$f":"IF(A247=\"FALCE\",\"❿\",\"\")","v":""},null,null,null,null,null,null,{"$f":"IF(A58=\"FALSE\",\"THERE IS CHANGE IN THE IMPORT DATA. ADJUST THE INPUT !\",\"\")","v":""},"DOGE/BTC 0.00000108 ","DOGE/BTC",1.08E-6,null,null,null,null,null,null,null,null,null,null,null,null,null,null,null,null,"EXE/BTC 0.00002280 "]
[{"$f":"IF(V57=A57,\"TRUE\",\"FALSE\")","v":"TRUE"},"Price Yt",1.04E-6,1.0699999999999999E-6,1.0699999999999999E-6,1.0699999999999999E-6,1.0699999999999999E-6,1.0699999999999999E-6,1.0699999999999999E-6,1.0699999999999999E-6,1.0699999999999999E-6,1.0699999999999999E-6,1.0699999999999999E-6,1.0699999999999999E-6,1.0699999999999999E-6,1.0699999999999999E-6,1.0699999999999999E-6,1.0699999999999999E-6,1.0699999999999999E-6,1.0699999999999999E-6,1.08E-6,1.08E-6,null,{"$f":"$X$3","v":"1900-01-20"},"↙ Number of periods for A and B cycles",null,null,null,null,null,null,null,null,null,null,null,null,null,null,"EZC/BTC 0.00000326 "]
["Fd","F↗↘",null,null,null,{"$f":"3/6*E58+2/6*D58+1/6*C58","v":1.065E-6},1.0699999999999999E-6,1.0699999999999999E-6,1.0699999999999999E-6,1.0699999999999999E-6,1.0699999999999999E-6,1.0699999999999999E-6,1.0699999999999999E-6,1.0699999999999999E-6,1.0699999999999999E-6,1.0699999999999999E-6,1.0699999999999999E-6,1.0699999999999999E-6,1.0699999999999999E-6,1.0699999999999999E-6,1.0699999999999999E-6,1.0749999999999999E-6,1.0783333333333333E-6,2,0,null,null,null,null,null,null,null,null,null,null,null,null,null,null,"FFC/BTC 0.00000032 "]
["❸",-0.01,-3.9898499999999996E-3,-5.9160999999999936E-4,4.8748000000000107E-4,-4.4418899999999987E-3,2.3206600000000013E-3,4.0218200000000006E-3,8.7237700000000005E-3,4.789980000000001E-3,null,null,null,null,null,null,null,null,null,null,null,null,null,{"$f":"IF(X59>$X$3,0,X59)","v":2},{"$f":"IF(Y59>$X$3,0,Y59)","v":0},null,{"$f":"IF(X61=0,\"\",IF(X61>0,\"C\",\"N\"))","v":"N"},null,null,null,null,null,null,null,null,null,null,null,null,"FLAP/BTC 0.00000001 "]
[null,"Price Yt",1.04E-6,1.0300000000000001E-6,1.0300000000000001E-6,1.0300000000000001E-6,1.0300000000000001E-6,1.0300000000000001E-6,1.0300000000000001E-6,1.0300000000000001E-6,1.0300000000000001E-6,1.0300000000000001E-6,1.0300000000000001E-6,1.02E-6,1.02E-6,1.0300000000000001E-6,1.0300000000000001E-6,1.04E-6,1.04E-6,1.0699999999999999E-6,1.0699999999999999E-6,1.0699999999999999E-6,null,{"$f":"NPV($Y$3,C60:L60)+B60","v":-4.0231809827673349E-3},null,null,null,null,null,null,null,null,null,null,null,null,null,null,null,"FLT/BTC 0.00001301 "]
[{"$f":"A63/10","v":0.2},"F↗↘",{"$f":"ABS(C61)","v":1.04E-6},{"$f":"ABS(C61)","v":1.04E-6},{"$f":"D62+а3*(D61-D62)","v":1.0380000000000001E-6},1.0364000000000001E-6,1.0351200000000002E-6,1.0340960000000001E-6,1.0332768E-6,1.0326214400000001E-6,1.0320971520000001E-6,1.0316777216E-6,1.0313421772800001E-6,1.0310737418240001E-6,1.0288589934592001E-6,1.02708719476736E-6,1.0276697558138879E-6,1.0281358046511104E-6,1.0305086437208884E-6,1.0324069149767107E-6,1.0399255319813685E-6,1.0459404255850948E-6,{"$f":"V62+а3*(V61-V62)","v":1.0507523404680758E-6},{"$f":"IF(B60=0,0,AA62*365/$AA$5)","v":0.44672017601301856},null,null,{"$f":"IRR(B60:V60)","v":1.2238908931863524E-2},null,null,null,null,null,null,null,null,null,null,null,null,"FRC/BTC 0.00002259 "]
["1900-01-02",-0.01,-3.9898499999999996E-3,-5.9160999999999936E-4,"00:00:42.118",-4.4418899999999987E-3,"00:03:20.505","00:05:47.485","00:12:33.734",4.789980000000001E-3,null,null,null,null,null,null,null,null,null,null,null,null,null,{"$f":"NPV($Y$3,C90:L90)+B90","v":5.9768190172326654E-3},null,null,null,null,null,null,null,null,null,null,null,null,null,null,null,"FRK/BTC 0.00046900 "]
["1900-01-02","Price Yt",1.14756E-6,1.146048E-6,1.1666305381248793E-6,1.1666305381248793E-6,1.1666305381248793E-6,1.1433044304999035E-6,1.1306435443999228E-6,1.0642631416108026E-6,1.061410513288642E-6,1.039790474315432E-6,1.0398323794523457E-6,1.0317433216119243E-6,1.02950994944E-6,1.0063634476154661E-6,1.0104580851791187E-6,1.0302736492027E-6,1.02821891936216E-6,1.0507523404680758E-6,1.0507523404680758E-6,1.0507523404680758E-6,null,{"$f":"IF(B63=0,0,AA69*365/$AA$5)","v":0.44672017601301856},null,null,null,null,null,null,null,null,null,null,null,null,null,null,null,"FST/BTC 0.00000284 "]
[{"$f":"A66/10","v":0.2},"F↗↘",{"$f":"ABS(C64)","v":1.14756E-6},{"$f":"ABS(C64)","v":1.14756E-6},{"$f":"D65+а33*(D64-D65)","v":1.1472575999999999E-6},1.1511321876249759E-6,1.1542318577249566E-6,1.1567115938049412E-6,1.1540301611439337E-6,1.1493528377951315E-6,1.1323348985582658E-6,1.118150021504341E-6,1.1024781120665593E-6,1.0899489655437166E-6,1.0783078367573582E-6,1.0685482592938866E-6,1.0561112969582025E-6,1.0469806546023857E-6,1.0436392535224485E-6,1.0405551866903908E-6,1.0425946174459277E-6,1.0442261620503573E-6,{"$f":"V65+а33*(V64-V65)","v":1.045531397733901E-6},null,null,null,null,null,null,null,null,null,null,null,null,null,null,null,null,"FTC/BTC 0.00019722 "]
["1900-01-02",null,null,null,null,null,null,null,null,null,null,null,null,null,null,null,null,null,null,null,null,null,null,null,null,null,null,null,null,null,null,null,null,null,null,null,null,null,null,"GDC/BTC 0.00000030 "]
["1900-01-02","A",null,null,null,null,null,null,"  B",null,null,null,null,null,null,null,"     C",null,null,null,null,null,"Go to:","↙ Refresh","2014-03-30",0,{"$f":"IF(X63=0,\"\",IF(X63>0,\"C\",\"N\"))","v":"C"},null,null,null,null,null,null,null,null,null,null,null,null,"GLC/BTC 0.00000186 "]
["α#",null,null,null,null,null,null,null,null,null,null,null,null,null,null,null,null,null,null,null,null,null,null,"Go to:",null,null,null,null,null,null,null,null,null,null,null,null,null,null,null,"GLD/BTC 0.00002603 "]
[null,null,null,null,null,null,null,null,null,null,null,null,null,null,null,null,null,null,null,null,null,null,null,null,null,null,{"$f":"IRR(B63:V63)","v":1.2238908931863524E-2},null,null,null,null,null,null,null,null,null,null,null,null,"GLX/BTC 0.00000084 "]
[null,"  DOGE",null,null,null,null,null,null,null,null,null,null,null,null,null,null,null,null,null,null,null,null,null,null,null,null,null,null,null,null,null,null,null,null,null,null,null,null,null,"HBN/BTC 0.00042500 "]
[null,null,null,null,null,null,null,null,null,null,null,null,null,null,null,null,null,null,null,null,null,null,null,null,null,null,null,null,null,null,null,null,null,null,null,null,null,null,null,"HVC/BTC 0.00000747 "]
[null,null,null,null,null,null,null,null,null,null,null,null,null,null,null,null,null,null,null,null,null,null,null,null,null,null,null,null,null,null,null,null,null,null,null,null,null,null,null,"IFC/BTC 0.00000005 "]
[null,null,null,null,null,null,null,null,null,null,null,null,null,null,null,null,null,null,null,null,null,null,null,null,null,0,null,null,null,null,null,null,null,null,null,null,null,null,null,"IXC/BTC 0.00012734 "]
[null,null,null,null,null,null,null,null,null,null,null,null,null,null,null,null,null,null,null,null,null,null,null,null,null,null,null,null,null,null,null,null,null,null,null,null,null,null,null,"JKC/BTC 0.00000500 "]
[null,null,null,null,null,null,null,null,null,null,null,null,null,null,null,null,null,null,null,null,null,null,null,null,null,null,null,null,null,null,null,null,null,null,null,null,null,null,null,"KDC/BTC 0.00002050 "]
["DogeCoin",null,null,null,null,null,null,null,null,null,null,null,null,null,null,null,null,null,null,null,null,null,"   DOGE",null,null,null,null,null,null,null,null,null,null,null,null,null,null,null,null,"KGC/BTC 0.00000110 "]
[null,null,null,null,null,null,null,null,null,null,null,null,null,null,null,null,null,null,null,null,null,null,null,null,null,null,null,null,null,null,null,null,null,null,null,null,null,null,null,"LEAF/BTC 0.00000001 "]
[null,null,null,null,null,null,null,null,null,null,null,null,null,null,null,null,null,null,null,null,null,null,null,null,null,null,null,null,null,null,null,null,null,null,null,null,null,null,null,"LK7/BTC 0.00000055 "]
[null,null,null,null,null,null,null,null,null,null,null,null,null,null,null,null,null,null,null,null,null,null,null,null,null,null,null,null,null,null,null,null,null,null,null,null,null,null,null,"LKY/BTC 0.00000571 "]
[null,null,null,null,null,null,null,null,null,null,null,null,null,null,null,null,null,null,null,null,null,null,null,null,null,null,null,null,null,null,null,null,null,null,null,null,null,null,null,"LOT/BTC 0.00000001 "]
[null,null,null,null,null,null,null,null,null,null,null,null,null,null,null,null,null,null,null,null,null,null,null,null,null,null,null,null,null,null,null,null,null,null,null,null,null,null,null,"LTC/BTC 0.02334818 "]
[null,null,null,null,null,null,null,null,null,null,null,null,null,null,null,null,null,null,null,null,null,null,null,null,null,null,null,null,null,null,null,null,null,null,null,null,null,null,null,"LYC/BTC 0.00000061 "]
[null,null,null,null,null,null,null,null,null,null,null,null,null,null,null,null,null,null,null,null,null,null,null,null,null,"       To source","NetCoin",null,null,null,null,null,null,null,null,null,null,null,null,"MAX/BTC 0.00017113 "]
["NET/BTC",null,{"$f":"IF(A4=\"FALCE\",\"❶\",\"\")","v":""},{"$f":"IF(A31=\"FALCE\",\"❷\",\"\")","v":""},{"$f":"IF(A58=\"FALCE\",\"❸\",\"\")","v":""},{"$f":"IF(A85=\"FALCE\",\"❸\",\"\")","v":""},{"$f":"IF(A112=\"FALCE\",\"❺\",\"\")","v":""},{"$f":"IF(A139=\"FALCE\",\"❻\",\"\")","v":""},{"$f":"IF(A166=\"FALCE\",\"❼\",\"\")","v":""},{"$f":"IF(A193=\"FALCE\",\"❽\",\"\")","v":""},{"$f":"IF(A220=\"FALCE\",\"❾\",\"\")","v":""},{"$f":"IF(A247=\"FALCE\",\"❿\",\"\")","v":""},{"$f":"IF(A247=\"FALCE\",\"❿\",\"\")","v":""},null,null,null,null,null,null,{"$f":"IF(A85=\"FALSE\",\"THERE IS CHANGE IN THE IMPORT DATA. ADJUST THE INPUT !\",\"\")","v":""},"NET/BTC 0.00000299 ","NET/BTC",2.9900000000000002E-6,null,null,null,null,null,null,null,null,null,null,null,null,null,null,null,null,"MEC/BTC 0.00017400 "]
[{"$f":"IF(V84=A84,\"TRUE\",\"FALSE\")","v":"TRUE"},"Price Yt",3.01E-6,3.01E-6,3.01E-6,3.01E-6,3.01E-6,3.01E-6,3.01E-6,3.01E-6,3.01E-6,3.01E-6,3.01E-6,3.0199999999999999E-6,3.0199999999999999E-6,3.0199999999999999E-6,3.0199999999999999E-6,3.0199999999999999E-6,3.0199999999999999E-6,3.0199999999999999E-6,2.9900000000000002E-6,2.9900000000000002E-6,null,{"$f":"$X$3","v":"1900-01-20"},"↙ Number of periods for A and B cycles",null,null,null,null,null,null,null,null,null,null,null,null,null,null,"MEOW/BTC 0.00000002 "]
["Fd","F↗↘",null,null,null,{"$f":"3/6*E85+2/6*D85+1/6*C85","v":3.01E-6},{"$f":"3/6*F85+2/6*E85+1/6*D85","v":3.01E-6},3.01E-6,3.01E-6,3.01E-6,3.01E-6,3.01E-6,3.01E-6,3.01E-6,3.0149999999999999E-6,3.018333333333333E-6,3.0199999999999999E-6,3.0199999999999999E-6,3.0199999999999999E-6,3.0199999999999999E-6,3.0199999999999999E-6,3.005E-6,{"$f":"3/6*V85+2/6*U85+1/6*T85","v":2.9950000000000001E-6},2,0,null,null,null,null,null,null,null,null,null,null,null,null,null,null,"MINT/BTC 0.00000011 "]
["❹",-0.01,-3.9898499999999996E-3,-5.9160999999999936E-4,"00:00:42.118",-4.4418899999999987E-3,"00:03:20.505","00:05:47.485","00:12:33.734","00:06:53.854",null,null,null,null,null,null,null,null,null,null,null,null,null,{"$f":"IF(X86>$X$3,0,X86)","v":2},{"$f":"IF(Y86>$X$3,0,Y86)","v":0},null,{"$f":"IF(X88=0,\"\",IF(X88>0,\"C\",\"N\"))","v":"N"},null,null,null,null,null,null,null,null,null,null,null,null,"MN1/BTC 0.01270000 "]
[null,"Price Yt",3.3299999999999995E-6,3.2799999999999999E-6,3.2799999999999999E-6,3.2799999999999999E-6,3.2799999999999999E-6,3.1200000000000002E-6,3.1200000000000002E-6,3.1200000000000002E-6,3.1200000000000002E-6,3.1200000000000002E-6,3.1200000000000002E-6,3.1E-6,3.1E-6,3.01E-6,3.01E-6,3.01E-6,3.01E-6,3.01E-6,3.01E-6,3.0199999999999999E-6,null,{"$f":"NPV($Y$3,C87:L87)+B87","v":-4.0231809827673349E-3},null,null,null,null,null,null,null,null,null,null,null,null,null,null,null,"MN2/BTC 0.11989999 "]
[{"$f":"A90/10","v":0.2},"F↗↘",{"$f":"ABS(C88)","v":3.3299999999999995E-6},{"$f":"ABS(C88)","v":3.3299999999999995E-6},{"$f":"D89+а4*(D88-D89)","v":3.3199999999999996E-6},3.3119999999999998E-6,3.3055999999999997E-6,{"$f":"G89+а4*(G88-G89)","v":3.3004799999999999E-6},3.264384E-6,3.2355072000000001E-6,3.2124057600000001E-6,3.1939246079999999E-6,3.1791396863999998E-6,3.1673117491199999E-6,3.1538493992959998E-6,3.1430795194368E-6,3.1164636155494402E-6,3.095170892439552E-6,3.0781367139516414E-6,3.064509371161313E-6,3.0536074969290503E-6,3.0448859975432401E-6,3.0399087980345922E-6,{"$f":"IF(B87=0,0,AA89*365/$AA$5)","v":0.44672017601301856},null,null,{"$f":"IRR(B87:V87)","v":1.2238908931863524E-2},null,null,null,null,null,null,null,null,null,null,null,null,"MNC/BTC 0.00020301 "]
["1900-01-02",null,-3.9898499999999996E-3,-5.9160999999999936E-4,"00:00:42.118",-4.4418899999999987E-3,"00:03:20.505","00:05:47.485","00:12:33.734","00:06:53.854",null,null,null,null,null,null,null,null,null,null,null,null,null,{"$f":"NPV($Y$3,C90:L90)+B90","v":5.9768190172326654E-3},null,null,null,null,null,null,null,null,null,null,null,null,null,null,null,"MRY/BTC 0.00000856 "]
[2,"Price Yt",4.0392095727128847E-6,4.0313676581703081E-6,4.0430332804871207E-6,4.0430332804871207E-6,4.0430332804871207E-6,4.0384266243896963E-6,3.9364079661784237E-6,3.8350495115090984E-6,3.567310911114972E-6,3.567310911114972E-6,3.541791082816747E-6,3.3864476967592398E-6,3.3791581574073918E-6,3.3526061726800775E-6,3.3480087557302958E-6,3.1674918931050946E-6,3.1539935144840757E-6,3.0399087980345922E-6,3.0399087980345922E-6,3.0399087980345922E-6,null,{"$f":"IF(B90=0,0,AA96*365/$AA$5)","v":0},null,null,null,null,null,null,null,null,null,null,null,null,null,null,null,"MZC/BTC 0.00000088 "]
[{"$f":"A93/10","v":0.2},"F↗↘",{"$f":"ABS(C91)","v":4.0392095727128847E-6},{"$f":"ABS(C91)","v":4.0392095727128847E-6},{"$f":"D92+а43*(D91-D92)","v":4.0376411898043691E-6},4.0387196079409194E-6,4.0395823424501598E-6,{"$f":"G92+а43*(G91-G92)","v":4.0402725300575518E-6},4.0399033489239807E-6,4.0192042723748695E-6,3.9823733202017149E-6,3.8993608383843665E-6,3.8329508529304873E-6,3.7747188989077392E-6,3.6970646584780392E-6,3.6334833582639096E-6,3.577307921147143E-6,3.5314480880637737E-6,3.4586568490720377E-6,3.3977241821544454E-6,3.3261611053304748E-6,3.2689106438712982E-6,3.2231102747039571E-6,null,null,null,null,null,null,null,null,null,null,null,null,null,null,null,null,"NAN/BTC 0.00000221 "]
["1900-01-02",null,null,null,null,null,null,null,null,null,null,null,null,null,null,null,null,null,null,null,null,null,null,null,null,null,null,null,null,null,null,null,null,null,null,null,null,null,null,"NBL/BTC 0.00001273 "]
[2,"A",null,null,null,null,null,null,"  B",null,null,null,null,null,null,null,"     C",null,null,null,null,null,"Go to:","↙ Refresh","2014-03-30",0,{"$f":"IF(X90=0,\"\",IF(X90>0,\"C\",\"N\"))","v":"C"},null,null,null,null,null,null,null,null,null,null,null,null,"NEC/BTC 0.00001339 "]
["α#",null,null,null,null,null,null,null,null,null,null,null,null,null,null,null,null,null,null,null,null,null,null,"Go to:",null,null,null,null,null,null,null,null,null,null,null,null,null,null,null,"NET/BTC 0.00000299 "]
[null,null,null,null,null,null,null,null,null,null,null,null,null,null,null,null,null,null,null,null,null,null,null,null,null,null,{"$f":"IRR(B90:V90)","v":0.21084410027823086},null,null,null,null,null,null,null,null,null,null,null,null,"NMC/BTC 0.00474885 "]
[null," NET",null,null,null,null,null,null,null,null,null,null,null,null,null,null,null,null,null,null,null,null,null,null,null,null,null,null,null,null,null,null,null,null,null,null,null,null,null,"NRB/BTC 0.00000984 "]
[null,null,null,null,null,null,null,null,null,null,null,null,null,null,null,null,null,null,null,null,null,null,null,null,null,null,null,null,null,null,null,null,null,null,null,null,null,null,null,"NVC/BTC 0.00691186 "]
[null,null,null,null,null,null,null,null,null,null,null,null,null,null,null,null,null,null,null,null,null,null,null,null,null,null,null,null,null,null,null,null,null,null,null,null,null,null,null,"NXT/BTC 0.00004707 "]
[null,null,null,null,null,null,null,null,null,null,null,null,null,null,null,null,null,null,null,null,null,null,null,null,null,0,null,null,null,null,null,null,null,null,null,null,null,null,null,"NYAN/BTC 0.00000067 "]
[null,null,null,null,null,null,null,null,null,null,null,null,null,null,null,null,null,null,null,null,null,null,null,null,null,null,null,null,null,null,null,null,null,null,null,null,null,null,null,"ORB/BTC 0.00004902 "]
[null,null,null,null,null,null,null,null,null,null,null,null,null,null,null,null,null,null,null,null,null,null,null,null,null,null,null,null,null,null,null,null,null,null,null,null,null,null,null,"OSC/BTC 0.00000256 "]
["NetCoin",null,null,null,null,null,null,null,null,null,null,null,null,null,null,null,null,null,null,null,null,null,null,null,null,null,null,null,null,null,null,null,null,null,null,null,null,null,null,"PHS/BTC 0.00013505 "]
[null,null,null,null,null,null,null,null,null,null,null,null,null,null,null,null,null,null,null,null,null,null,null,null,null,null,null,null,null,null,null,null,null,null,null,null,null,null,null,"Points/BTC 0.00085000 "]
[null,null,null,null,null,null,null,null,null,null,null,null,null,null,null,null,null,null,null,null,null,null,null,null,null,null,null,null,null,null,null,null,null,null,null,null,null,null,null,"POT/BTC 0.00001183 "]
[null,null,null,null,null,null,null,null,null,null,null,null,null,null,null,null,null,null,null,null,null,null,"     NET",null,null,null,null,null,null,null,null,null,null,null,null,null,null,null,null,"PPC/BTC 0.00479152 "]
[null,null,null,null,null,null,null,null,null,null,null,null,null,null,null,null,null,null,null,null,null,null,null,null,null,null,null,null,null,null,null,null,null,null,null,null,null,null,null,"PTS/BTC 0.00813303 "]
[null,null,null,null,null,null,null,null,null,null,null,null,null,null,null,null,null,null,null,null,null,null,null,null,null,null,null,null,null,null,null,null,null,null,null,null,null,null,null,"PXC/BTC 0.00000341 "]
[null,null,null,null,null,null,null,null,null,null,null,null,null,null,null,null,null,null,null,null,null,null,null,null,null,null,null,null,null,null,null,null,null,null,null,null,null,null,null,"PYC/BTC 0.00001601 "]
[null,null,null,null,null,null,null,null,null,null,null,null,null,null,null,null,null,null,null,null,null,null,null,null,null,"       To source","EarthCoin",null,null,null,null,null,null,null,null,null,null,null,null,"QRK/BTC 0.00004048 "]
["EAC/BTC",null,{"$f":"IF(A4=\"FALCE\",\"❶\",\"\")","v":""},{"$f":"IF(A31=\"FALCE\",\"❷\",\"\")","v":""},{"$f":"IF(A58=\"FALCE\",\"❸\",\"\")","v":""},{"$f":"IF(A85=\"FALCE\",\"❹\",\"\")","v":""},{"$f":"IF(A85=\"FALCE\",\"❹\",\"\")","v":""},{"$f":"IF(A139=\"FALCE\",\"❻\",\"\")","v":""},{"$f":"IF(A166=\"FALCE\",\"❼\",\"\")","v":""},{"$f":"IF(A193=\"FALCE\",\"❽\",\"\")","v":""},{"$f":"IF(A220=\"FALCE\",\"❾\",\"\")","v":""},{"$f":"IF(A247=\"FALCE\",\"❿\",\"\")","v":""},{"$f":"IF(A247=\"FALCE\",\"❿\",\"\")","v":""},null,null,null,null,null,null,{"$f":"IF(A112=\"FALSE\",\"THERE IS CHANGE IN THE IMPORT DATA. ADJUST THE INPUT !\",\"\")","v":""},"EAC/BTC 0.00000006 ","EAC/BTC",5.9999999999999995E-8,null,null,null,null,null,null,null,null,null,null,null,null,null,null,null,null,"RDD/BTC 0.00000003 "]
[{"$f":"IF(V111=A111,\"TRUE\",\"FALSE\")","v":"TRUE"},"Price Yt",5.9999999999999995E-8,5.9999999999999995E-8,5.9999999999999995E-8,5.9999999999999995E-8,5.9999999999999995E-8,5.9999999999999995E-8,5.9999999999999995E-8,5.9999999999999995E-8,5.9999999999999995E-8,5.9999999999999995E-8,5.9999999999999995E-8,8.0000000000000002E-8,8.0000000000000002E-8,8.0000000000000002E-8,8.0000000000000002E-8,8.0000000000000002E-8,8.0000000000000002E-8,8.0000000000000002E-8,5.9999999999999995E-8,5.9999999999999995E-8,null,{"$f":"$X$3","v":"1900-01-20"},"↙ Number of periods for A and B cycles",null,null,null,null,null,null,null,null,null,null,null,null,null,null,"RPC/BTC 0.00090000 "]
["Fd","F↗↘",null,null,null,{"$f":"3/6*E112+2/6*D112+1/6*C112","v":5.9999999999999995E-8},{"$f":"3/6*F112+2/6*E112+1/6*D112","v":5.9999999999999995E-8},5.9999999999999995E-8,5.9999999999999995E-8,5.9999999999999995E-8,5.9999999999999995E-8,5.9999999999999995E-8,5.9999999999999995E-8,{"$f":"3/6*M112+2/6*L112+1/6*K112","v":5.9999999999999995E-8},6.9999999999999992E-8,7.6666666666666665E-8,8.0000000000000002E-8,8.0000000000000002E-8,8.0000000000000002E-8,8.0000000000000002E-8,8.0000000000000002E-8,6.9999999999999992E-8,6.3333333333333331E-8,2,0,null,null,null,null,null,null,null,null,null,null,null,null,null,null,"RYC/BTC 0.00000129 "]
["❺",null,null,null,null,null,null,null,null,null,null,null,null,null,null,null,null,null,null,null,null,null,null,{"$f":"IF(X113>$X$3,0,X113)","v":2},{"$f":"IF(Y113>$X$3,0,Y113)","v":0},null,{"$f":"IF(X115=0,\"\",IF(X115>0,\"C\",\"N\"))","v":""},null,null,null,null,null,null,null,null,null,null,null,null,"SAT/BTC 0.00000003 "]
[null,"Price Yt",7.0000000000000005E-8,7.0000000000000005E-8,7.0000000000000005E-8,7.0000000000000005E-8,7.0000000000000005E-8,7.0000000000000005E-8,7.0000000000000005E-8,7.0000000000000005E-8,7.0000000000000005E-8,7.0000000000000005E-8,7.0000000000000005E-8,7.0000000000000005E-8,5.9999999999999995E-8,5.9999999999999995E-8,5.9999999999999995E-8,5.9999999999999995E-8,5.9999999999999995E-8,5.9999999999999995E-8,5.9999999999999995E-8,8.0000000000000002E-8,null,{"$f":"NPV($Y$3,C114:L114)+B114","v":0},null,null,null,null,null,null,null,null,null,null,null,null,null,null,null,"SBC/BTC 0.00000323 "]
[{"$f":"A117/10","v":0.2},"F↗↘",{"$f":"ABS(C115)","v":7.0000000000000005E-8},{"$f":"ABS(C115)","v":7.0000000000000005E-8},{"$f":"D116+а5*(D115-D116)","v":7.0000000000000005E-8},7.0000000000000005E-8,7.0000000000000005E-8,7.0000000000000005E-8,7.0000000000000005E-8,{"$f":"I116+а5*(I115-I116)","v":7.0000000000000005E-8},7.0000000000000005E-8,7.0000000000000005E-8,7.0000000000000005E-8,7.0000000000000005E-8,7.0000000000000005E-8,6.8E-8,6.6399999999999999E-8,6.5120000000000003E-8,6.4096000000000007E-8,6.3276800000000007E-8,6.262144000000001E-8,6.2097152000000012E-8,6.5677721600000005E-8,{"$f":"IF(B114=0,0,AA116*365/$AA$5)","v":0},null,null,{"$f":"IRR(B114:V114)","v":{"$error":"#NUM!"}},null,null,null,null,null,null,null,null,null,null,null,null,"SMC/BTC 0.00000255 "]
["1900-01-02",null,null,null,null,null,null,null,null,null,null,null,null,null,null,null,null,null,null,null,null,null,null,{"$f":"NPV($Y$3,C117:L117)+B117","v":0},null,null,null,null,null,null,null,null,null,null,null,null,null,null,null,"SPA/BTC 0.00000773 "]
[2,"Price Yt",7.7560000000000014E-8,7.6048000000000007E-8,7.8654770716239464E-8,7.8654770716239464E-8,7.8654770716239464E-8,7.8923816572991577E-8,7.9139053258393262E-8,8.0000000000000002E-8,8.0000000000000002E-8,8.0000000000000002E-8,8.0000000000000002E-8,7.8333333333333333E-8,7.6666666666666665E-8,6.9813333333333334E-8,6.8926258176000001E-8,6.9141006540799996E-8,6.2441296014905171E-8,6.5677721600000005E-8,6.5677721600000005E-8,6.5677721600000005E-8,null,{"$f":"IF(B117=0,0,AA123*365/$AA$5)","v":0},null,null,null,null,null,null,null,null,null,null,null,null,null,null,null,"SPT/BTC 0.00000603 "]
[{"$f":"A120/10","v":0.2},"F↗↘",{"$f":"ABS(C118)","v":7.7560000000000014E-8},{"$f":"ABS(C118)","v":7.7560000000000014E-8},{"$f":"D119+а53*(D118-D119)","v":7.7257600000000008E-8},7.7537034143247902E-8,7.7760581457846209E-8,7.7939419309524863E-8,7.8136298762218203E-8,7.833684966145322E-8,7.8669479729162574E-8,7.8935583783330057E-8,7.9148467026664043E-8,7.9318773621331232E-8,7.9121685563731655E-8,7.863068178431866E-8,7.6867212094121597E-8,7.5279021310497283E-8,7.4051418356557831E-8,7.1729393888227299E-8,7.051905943058184E-8,6.9550791864465476E-8,6.8776177811572376E-8,null,null,null,null,null,null,null,null,null,null,null,null,null,null,null,null,"SRC/BTC 0.00019900 "]
["1900-01-02",null,null,null,null,null,null,null,null,null,null,null,null,null,null,null,null,null,null,null,null,null,null,null,null,null,null,null,null,null,null,null,null,null,null,null,null,null,null,"STR/BTC 0.00000040 "]
[2,"A",null,null,null,null,null,null,"  B",null,null,null,null,null,null,null,"     C",null,null,null,null,null,"Go to:","↙ Refresh",null,0,null,null,null,null,null,null,null,null,null,null,null,null,null,"SXC/BTC 0.00000520 "]
["α#",null,null,null,null,null,null,null,null,null,null,null,null,null,null,null,null,null,null,null,null,null,null,"Go to:",null,null,null,null,null,null,null,null,null,null,null,null,null,null,null,"TAG/BTC 0.00022530 "]
[null,null,null,null,null,null,null,null,null,null,null,null,null,null,null,null,null,null,null,null,null,null,null,null,null,null,{"$f":"IRR(B117:V117)","v":{"$error":"#NUM!"}},null,null,null,null,null,null,null,null,null,null,null,null,"TAK/BTC 0.00000020 "]
[null,"  EAC",null,null,null,null,null,null,null,null,null,null,null,null,null,null,null,null,null,null,null,null,null,null,null,null,null,null,null,null,null,null,null,null,null,null,null,null,null,"TEK/BTC 0.00020600 "]
[null,null,null,null,null,null,null,null,null,null,null,null,null,null,null,null,null,null,null,null,null,null,null,null,null,null,null,null,null,null,null,null,null,null,null,null,null,null,null,"TGC/BTC 0.00000118 "]
[null,null,null,null,null,null,null,null,null,null,null,null,null,null,null,null,null,null,null,null,null,null,null,null,null,null,null,null,null,null,null,null,null,null,null,null,null,null,null,"TRC/BTC 0.00019697 "]
["1900-01-05",null,null,null,null,null,null,null,null,null,null,null,null,null,null,null,null,null,null,null,null,null,null,null,null,0,null,null,null,null,null,null,null,null,null,null,null,null,null,"UNO/BTC 0.00485453 "]
[null,null,null,null,null,null,null,null,null,null,null,null,null,null,null,null,null,null,null,null,null,null,null,null,null,null,null,null,null,null,null,null,null,null,null,null,null,null,null,"UTC/BTC 0.00012044 "]
[null,null,null,null,null,null,null,null,null,null,null,null,null,null,null,null,null,null,null,null,null,null,null,null,null,null,null,null,null,null,null,null,null,null,null,null,null,null,null,"VTC/BTC 0.00189560 "]
["EarthCoin",null,null,null,null,null,null,null,null,null,null,null,null,null,null,null,null,null,null,null,null,null,null,null,null,null,null,null,null,null,null,null,null,null,null,null,null,null,null,"WC/BTC 0.00000765 "]
[null,null,null,null,null,null,null,null,null,null,null,null,null,null,null,null,null,null,null,null,null,null,null,null,null,null,null,null,null,null,null,null,null,null,null,null,null,null,null,"WDC/BTC 0.00006450 "]
[null,null,null,null,null,null,null,null,null,null,null,null,null,null,null,null,null,null,null,null,null,null,null,null,null,null,null,null,null,null,null,null,null,null,null,null,null,null,null,"XJO/BTC 0.00000526 "]
[null,null,null,null,null,null,null,null,null,null,null,null,null,null,null,null,null,null,null,null,null,null,null,null,null,null,null,null,null,null,null,null,null,null,null,null,null,null,null,"XPM/BTC 0.00179964 "]
[null,null,null,null,null,null,null,null,null,null,null,null,null,null,null,null,null,null,null,null,null,null,null,null,null,null,null,null,null,null,null,null,null,null,null,null,null,null,null,"YAC/BTC 0.00001176 "]
[null,null,null,null,null,null,null,null,null,null,null,null,null,null,null,null,null,null,null,null,null,null,"    EAC",null,null,null,null,null,null,null,null,null,null,null,null,null,null,null,null,"YBC/BTC 0.00277334 "]
[null,null,null,null,null,null,null,null,null,null,null,null,null,null,null,null,null,null,null,null,null,null,null,null,null,null,null,null,null,null,null,null,null,null,null,null,null,null,null,"ZCC/BTC 0.00007716 "]
[null,null,null,null,null,null,null,null,null,null,null,null,null,null,null,null,null,null,null,null,null,null,null,null,null,"       To source","FastCoin",null,null,null,null,null,null,null,null,null,null,null,null,"ZED/BTC 0.00000478 "]
["FST/BTC",null,{"$f":"IF(A4=\"FALCE\",\"❶\",\"\")","v":""},{"$f":"IF(A31=\"FALCE\",\"❷\",\"\")","v":""},{"$f":"IF(A58=\"FALCE\",\"❸\",\"\")","v":""},{"$f":"IF(A85=\"FALCE\",\"❹\",\"\")","v":""},{"$f":"IF(A112=\"FALCE\",\"❺\",\"\")","v":""},{"$f":"IF(A112=\"FALCE\",\"❺\",\"\")","v":""},{"$f":"IF(A166=\"FALCE\",\"❼\",\"\")","v":""},{"$f":"IF(A193=\"FALCE\",\"❽\",\"\")","v":""},{"$f":"IF(A220=\"FALCE\",\"❾\",\"\")","v":""},{"$f":"IF(A247=\"FALCE\",\"❿\",\"\")","v":""},{"$f":"IF(A247=\"FALCE\",\"❿\",\"\")","v":""},null,null,null,null,null,null,{"$f":"IF(A139=\"FALSE\",\"THERE IS CHANGE IN THE IMPORT DATA. ADJUST THE INPUT !\",\"\")","v":""},"FST/BTC 0.00000284 ","FST/BTC",2.8399999999999999E-6,null,null,null,null,null,null,null,null,null,null,null,null,null,null,null,null,"ZET/BTC 0.00006096 "]
[{"$f":"IF(V138=A138,\"TRUE\",\"FALSE\")","v":"TRUE"},"Price Yt",3.0199999999999999E-6,3.0000000000000001E-6,3.0000000000000001E-6,3.0000000000000001E-6,3.0000000000000001E-6,3.0000000000000001E-6,3.0000000000000001E-6,3.0000000000000001E-6,3.0000000000000001E-6,3.0000000000000001E-6,3.0000000000000001E-6,3.0299999999999998E-6,3.0299999999999998E-6,3.0299999999999998E-6,3.0299999999999998E-6,3.0299999999999998E-6,3.0299999999999998E-6,3.0299999999999998E-6,2.8399999999999999E-6,2.8399999999999999E-6,null,{"$f":"$X$3","v":"1900-01-20"},"↙ Number of periods for A and B cycles"]
["Fd","F↗↘",null,null,null,{"$f":"3/6*E139+2/6*D139+1/6*C139","v":3.0033333333333331E-6},2.9999999999999997E-6,2.9999999999999997E-6,2.9999999999999997E-6,2.9999999999999997E-6,2.9999999999999997E-6,2.9999999999999997E-6,2.9999999999999997E-6,2.9999999999999997E-6,3.0149999999999995E-6,3.0249999999999994E-6,3.0299999999999994E-6,3.0299999999999994E-6,3.0299999999999994E-6,3.0299999999999994E-6,3.0299999999999994E-6,2.9349999999999994E-6,2.8716666666666661E-6,2,0]
["❻",null,null,null,null,null,null,null,null,null,null,null,null,null,null,null,null,null,null,null,null,null,null,{"$f":"IF(X140>$X$3,0,X140)","v":2},{"$f":"IF(Y140>$X$3,0,Y140)","v":0}]
[null,"Price Yt",3.1099999999999999E-6,3.1099999999999999E-6,3.1099999999999999E-6,3.1099999999999999E-6,3.1099999999999999E-6,3.1099999999999999E-6,3.1099999999999999E-6,3.1099999999999999E-6,3.1099999999999999E-6,3.1099999999999999E-6,3.1099999999999999E-6,2.9999999999999997E-6,2.9999999999999997E-6,3.0499999999999996E-6,3.0499999999999996E-6,3.0199999999999999E-6,3.0199999999999999E-6,2.9999999999999997E-6,2.9999999999999997E-6,3.0299999999999994E-6,null,null,null,null,null,null,null,null,null,null,null,null,null,null,null,null,null,"LTC Markets"]
[{"$f":"A144/10","v":0.2},"F↗↘",{"$f":"ABS(C142)","v":3.1099999999999999E-6},{"$f":"ABS(C142)","v":3.1099999999999999E-6},{"$f":"D143+а6*(D142-D143)","v":3.1099999999999999E-6},{"$f":"E143+а6*(E142-E143)","v":3.1099999999999999E-6},3.1099999999999999E-6,3.1099999999999999E-6,3.1099999999999999E-6,3.1099999999999999E-6,3.1099999999999999E-6,3.1099999999999999E-6,3.1099999999999999E-6,3.1099999999999999E-6,3.0879999999999999E-6,3.0703999999999999E-6,3.0663199999999999E-6,3.063056E-6,3.0544447999999998E-6,3.0475558399999997E-6,3.0380446719999998E-6,3.0304357375999998E-6,{"$f":"V143+а6*(V142-V143)","v":3.0303485900799996E-6},{"$f":"IF(B141=0,0,AA142*365/$AA$5)","v":0}]
["1900-01-02"]
[2,"Price Yt",2.6851737240311125E-6,2.6781389792248901E-6,2.6110291239688032E-6,2.6110291239688032E-6,2.6110291239688032E-6,2.6048232991750427E-6,2.6208586393400344E-6,2.654475542529516E-6,2.9066497490915992E-6,2.9066497490915992E-6,2.9493197992732793E-6,3.1030566373086954E-6,3.0783300176964955E-6,2.9936444723675814E-6,3.0562253615103997E-6,3.1099999999999999E-6,3.0879999999999999E-6,3.0303485900799996E-6,3.0303485900799996E-6,3.0303485900799996E-6,null,{"$f":"IF(B144=0,0,AA149*365/$AA$5)","v":0}]
[{"$f":"A147/10","v":0.2},"F↗↘",{"$f":"ABS(C145)","v":2.6851737240311125E-6},{"$f":"ABS(C145)","v":2.6851737240311125E-6},{"$f":"D146+а63*(D145-D146)","v":2.6837667750698678E-6},2.6692192448496551E-6,2.6575812206734846E-6,2.6482708013325485E-6,2.6395813009010474E-6,2.6358367685888448E-6,2.6395645233769791E-6,2.6929815685199033E-6,2.7357152046342426E-6,2.7784361235620498E-6,2.8433602263113787E-6,2.8903541845884022E-6,2.9110122421442382E-6,2.9400548660174705E-6,2.9740438928139764E-6,2.9968351142511812E-6,3.0035378094169447E-6,3.0088999655495557E-6,{"$f":"V146+а63*(V145-V146)","v":3.0131896904556443E-6},null,null,null,null,null,null,null,null,null,null,null,null,null,null,null,null,"ADT/LTC 0.00000017 "]
["1900-01-02","α",null,null,null,null,null,null,null,null,null,null,null,null,null,null,null,null,null,null,null,null,null,null,null,null,null,null,null,null,null,null,null,null,null,null,null,null,null,"ANC/LTC 0.06690000 "]
[2,"A",null,null,null,null,null,null,"  B",null,null,null,null,null,null,null,"     C",null,null,null,null,null,"Go to:","↙ Refresh",null,0,null,null,null,null,null,null,null,null,null,null,null,null,null,"ASC/LTC 0.00001002 "]
["α#",null,null,null,null,null,null,null,null,null,null,null,null,null,null,null,null,null,null,null,null,null,null,"Go to:",null,null,null,null,null,null,null,null,null,null,null,null,null,null,null,"AUR/LTC 0.07766646 "]
[null,null,null,null,null,null,null,null,null,null,null,null,null,null,null,null,null,null,null,null,null,null,null,null,null,null,null,null,null,null,null,null,null,null,null,null,null,null,null,"BAT/LTC 0.00000014 "]
[null,"   FST",null,null,null,null,null,null,null,null,null,null,null,null,null,null,null,null,null,null,null,null,null,null,null,null,null,null,null,null,null,null,null,null,null,null,null,null,null,"BC/LTC 0.01254465 "]
[null,null,null,null,null,null,null,null,null,null,null,null,null,null,null,null,null,null,null,null,null,null,null,null,null,null,null,null,null,null,null,null,null,null,null,null,null,null,null,"CGB/LTC 0.03492998 "]
[null,null,null,null,null,null,null,null,null,null,null,null,null,null,null,null,null,null,null,null,null,null,"                   FST",null,null,null,null,null,null,null,null,null,null,null,null,null,null,null,null,"CNC/LTC 0.00016355 "]
[null,null,null,null,null,null,null,null,null,null,null,null,null,null,null,null,null,null,null,null,null,null,null,null,null,0,null,null,null,null,null,null,null,null,null,null,null,null,null,"COL/LTC 0.00000006 "]
[null,null,null,null,null,null,null,null,null,null,null,null,null,null,null,null,null,null,null,null,null,null,null,null,null,null,null,null,null,null,null,null,null,null,null,null,null,null,null,"CPR/LTC 0.25996069 "]
[null,null,null,null,null,null,null,null,null,null,null,null,null,null,null,null,null,null,null,null,null,null,null,null,null,null,null,null,null,null,null,null,null,null,null,null,null,null,null,"CTM/LTC 0.00000006 "]
["FastCoin",null,null,null,null,null,null,null,null,null,null,null,null,null,null,null,null,null,null,null,null,null,null,null,null,null,null,null,null,null,null,null,null,null,null,null,null,null,null,"DBL/LTC 0.00028034 "]
[null,null,null,null,null,null,null,null,null,null,null,null,null,null,null,null,null,null,null,null,null,null,null,null,null,null,null,null,null,null,null,null,null,null,null,null,null,null,null,"DGC/LTC 0.00241983 "]
[null,null,null,null,null,null,null,null,null,null,null,null,null,null,null,null,null,null,null,null,null,null,null,null,null,null,null,null,null,null,null,null,null,null,null,null,null,null,null,"DMC/LTC 0.00000005 "]
[null,null,null,null,null,null,null,null,null,null,null,null,null,null,null,null,null,null,null,null,null,null,null,null,null,null,null,null,null,null,null,null,null,null,null,null,null,null,null,"DOGE/LTC 0.00004642 "]
[null,null,null,null,null,null,null,null,null,null,null,null,null,null,null,null,null,null,null,null,null,null,null,null,null,null,null,null,null,null,null,null,null,null,null,null,null,null,null,"DVC/LTC 0.00001151 "]
[null,null,null,null,null,null,null,null,null,null,null,null,null,null,null,null,null,null,null,null,null,null,null,null,null,null,null,null,null,null,null,null,null,null,null,null,null,null,null,"ELP/LTC 0.00001601 "]
[null,null,null,null,null,null,null,null,null,null,null,null,null,null,null,null,null,null,null,null,null,null,null,null,null,null,null,null,null,null,null,null,null,null,null,null,null,null,null,"EZC/LTC 0.00014100 "]
[null,null,null,null,null,null,null,null,null,null,null,null,null,null,null,null,null,null,null,null,null,null,null,null,null,"       To source","DarkCoin",null,null,null,null,null,null,null,null,null,null,null,null,"FLO/LTC 0.00013467 "]
["DRK/BTC",null,{"$f":"IF(A4=\"FALCE\",\"❶\",\"\")","v":""},{"$f":"IF(A31=\"FALCE\",\"❷\",\"\")","v":""},{"$f":"IF(A58=\"FALCE\",\"❸\",\"\")","v":""},{"$f":"IF(A85=\"FALCE\",\"❹\",\"\")","v":""},{"$f":"IF(A112=\"FALCE\",\"❺\",\"\")","v":""},{"$f":"IF(A139=\"FALCE\",\"❻\",\"\")","v":""},{"$f":"IF(A139=\"FALCE\",\"❻\",\"\")","v":""},{"$f":"IF(A193=\"FALCE\",\"❽\",\"\")","v":""},{"$f":"IF(A220=\"FALCE\",\"❾\",\"\")","v":""},{"$f":"IF(A247=\"FALCE\",\"❿\",\"\")","v":""},{"$f":"IF(A247=\"FALCE\",\"❿\",\"\")","v":""},null,null,null,null,null,null,{"$f":"IF(A166=\"FALSE\",\"THERE IS CHANGE IN THE IMPORT DATA. ADJUST THE INPUT !\",\"\")","v":""},"DRK/BTC 0.00383659 ","DRK/BTC",3.83659E-3,null,null,null,null,null,null,null,null,null,null,null,null,null,null,null,null,"FRK/LTC 0.01997199 "]
[{"$f":"IF(V165=A165,\"TRUE\",\"FALSE\")","v":"TRUE"},"Price Yt",3.8400000000000001E-3,3.8700200000000001E-3,3.8700200000000001E-3,3.8700200000000001E-3,3.8700200000000001E-3,3.8700200000000001E-3,3.8700200000000001E-3,3.8700200000000001E-3,3.8700200000000001E-3,3.8700200000000001E-3,3.8700200000000001E-3,3.90012E-3,3.90012E-3,3.90012E-3,3.90012E-3,3.90012E-3,3.90012E-3,3.90012E-3,3.83659E-3,3.83659E-3,null,{"$f":"$X$3","v":20},"↙ Number of periods for A and B cycles",null,null,null,null,null,null,null,null,null,null,null,null,null,null,"FST/LTC 0.00013555 "]
["Fd","F↗↘",null,null,null,{"$f":"3/6*E166+2/6*D166+1/6*C166","v":3.8650166666666665E-3},{"$f":"3/6*F166+2/6*E166+1/6*D166","v":3.8700200000000001E-3},3.8700200000000001E-3,{"$f":"3/6*H166+2/6*G166+1/6*F166","v":3.8700200000000001E-3},3.8700200000000001E-3,{"$f":"3/6*J166+2/6*I166+1/6*H166","v":3.8700200000000001E-3},3.8700200000000001E-3,3.8700200000000001E-3,3.8700200000000001E-3,{"$f":"3/6*N166+2/6*M166+1/6*L166","v":3.88507E-3},3.8951033333333327E-3,3.9001199999999995E-3,3.9001199999999995E-3,3.9001199999999995E-3,3.9001199999999995E-3,3.9001199999999995E-3,3.868355E-3,{"$f":"3/6*V166+2/6*U166+1/6*T166","v":3.8471783333333333E-3},2,0,null,null,null,null,null,null,null,null,null,null,null,null,null,null,"GLD/LTC 0.00115119 "]
["❼",null,null,null,null,null,null,null,null,null,null,null,null,null,null,null,null,null,null,null,null,null,null,{"$f":"IF(X167>$X$3,0,X167)","v":2},{"$f":"IF(Y167>$X$3,0,Y167)","v":0},null,null,null,null,null,null,null,null,null,null,null,null,null,null,"GME/LTC 0.00000325 "]
[null,"Price Yt",4.0999900000000004E-3,3.8893299999999999E-3,3.8893299999999999E-3,3.8893299999999999E-3,3.8893299999999999E-3,3.9044799999999997E-3,3.9044799999999997E-3,3.9044799999999997E-3,3.9044799999999997E-3,3.9044799999999997E-3,3.9044799999999997E-3,3.8599900000000002E-3,3.8599900000000002E-3,3.89894E-3,3.89894E-3,3.8399999999999997E-3,3.8399999999999997E-3,3.8700200000000001E-3,3.8700200000000001E-3,3.9001199999999995E-3,null,null,null,null,null,null,null,null,null,null,null,null,null,null,null,null,null,"IFC/LTC 0.00000215 "]
[{"$f":"A171/10","v":0.2},"F↗↘",{"$f":"ABS(C169)","v":4.0999900000000004E-3},{"$f":"ABS(C169)","v":4.0999900000000004E-3},{"$f":"D170+а7*(D169-D170)","v":4.0578580000000001E-3},4.0241523999999997E-3,3.9971879199999999E-3,3.9756163359999999E-3,3.9613890687999996E-3,3.9500072550399997E-3,3.940901804032E-3,3.9336174432255998E-3,3.9277899545804799E-3,3.9231279636643837E-3,3.9105003709315068E-3,3.9003982967452055E-3,3.9001066373961645E-3,3.8998733099169314E-3,3.8878986479335452E-3,3.878318918346836E-3,3.876659134677469E-3,3.8753313077419752E-3,{"$f":"V170+а7*(V169-V170)","v":3.8802890461935801E-3},{"$f":"IF(B168=0,0,AA169*365/$AA$5)","v":0},null,null,null,null,null,null,null,null,null,null,null,null,null,null,null,"JKC/LTC 0.00023133 "]
["1900-01-02","α",null,null,null,null,null,null,null,null,null,null,null,null,null,null,null,null,null,null,null,null,null,null,null,null,null,null,null,null,null,null,null,null,null,null,null,null,null,"KARM/LTC 0.00000043 "]
[2,"Price Yt",2.1919834502843833E-3,2.1919834502843833E-3,2.1544487602275066E-3,2.1968713446110879E-3,2.1968713446110879E-3,2.1968713446110879E-3,2.262045186590924E-3,2.6958180746363696E-3,2.6343981284408769E-3,3.3694728335152873E-3,3.6298379047350676E-3,4.1814777341846448E-3,4.1510028939552744E-3,3.8526727775173124E-3,3.8395199324395058E-3,3.9162307923144343E-3,3.9049826338515476E-3,3.8802890461935801E-3,3.8802890461935801E-3,3.8802890461935801E-3,null,{"$f":"IF(B171=0,0,AA176*365/$AA$5)","v":0},null,null,null,null,null,null,null,null,null,null,null,null,null,null,null,"MEC/LTC 0.00748064 "]
[{"$f":"A174/10","v":0.2},"F↗↘",{"$f":"ABS(C172)","v":2.1919834502843833E-3},{"$f":"ABS(C172)","v":2.1919834502843833E-3},{"$f":"D173+а73*(D172-D173)","v":2.1919834502843833E-3},2.1844765122730082E-3,2.1869554787406239E-3,2.1889386519147167E-3,2.1905251904539911E-3,2.2048291896813775E-3,2.3030269666723759E-3,2.3693011990260763E-3,2.5693355259239184E-3,2.7814360016861482E-3,3.0614443481858473E-3,3.2793560573397326E-3,3.3940194013752484E-3,3.4831195075880998E-3,3.5697417645333667E-3,3.636789938397003E-3,3.6854897599563185E-3,3.7244496172037706E-3,{"$f":"V173+а73*(V172-V173)","v":3.7556175030017324E-3},null,null,null,null,null,null,null,null,null,null,null,null,null,null,null,null,"MEM/LTC 0.00001856 "]
["1900-01-02","α",null,null,null,null,null,null,null,null,null,null,null,null,null,null,null,null,null,null,null,null,null,null,null,null,null,null,null,null,null,null,null,null,null,null,null,null,null,"MOON/LTC 0.00000009 "]
[2,"A",null,null,null,null,null,null,"  B",null,null,null,null,null,null,null,"     C",null,null,null,null,null,null,"↙ Refresh",null,0,null,null,null,null,null,null,null,null,null,null,null,null,null,"MST/LTC 0.00002500 "]
["α#",null,null,null,null,null,null,null,null,null,null,null,null,null,null,null,null,null,null,null,null,null,null,"Go to:",null,null,null,null,null,null,null,null,null,null,null,null,null,null,null,"NET/LTC 0.00012874 "]
[null,null,null,null,null,null,null,null,null,null,null,null,null,null,null,null,null,null,null,null,null,null,null,null,null,null,null,null,null,null,null,null,null,null,null,null,null,null,null,"NXT/LTC 0.00199998 "]
[null,"DRK",null,null,null,null,null,null,null,null,null,null,null,null,null,null,null,null,null,null,null,null,null,null,null,null,null,null,null,null,null,null,null,null,null,null,null,null,null,"PPC/LTC 0.20446040 "]
[null,null,null,null,null,null,null,null,null,null,null,null,null,null,null,null,null,null,null,null,null,null,"Go to:",null,null,null,null,null,null,null,null,null,null,null,null,null,null,null,null,"PXC/LTC 0.00014504 "]
[null,null,null,null,null,null,null,null,null,null,null,null,null,null,null,null,null,null,null,null,null,null,null,null,null,null,null,null,null,null,null,null,null,null,null,null,null,null,null,"QRK/LTC 0.00170268 "]
[null,null,null,null,null,null,null,null,null,null,null,null,null,null,null,null,null,null,null,null,null,null,null,null,null,0,null,null,null,null,null,null,null,null,null,null,null,null,null,"RBBT/LTC 0.00000005 "]
[null,null,null,null,null,null,null,null,null,null,null,null,null,null,null,null,null,null,null,null,null,null,"               DRK",null,null,null,null,null,null,null,null,null,null,null,null,null,null,null,null,"RED/LTC 0.00027100 "]
["DarkCoin",null,null,null,null,null,null,null,null,null,null,null,null,null,null,null,null,null,null,null,null,null,null,null,null,null,null,null,null,null,null,null,null,null,null,null,null,null,null,"RYC/LTC 0.00006041 "]
["1900-01-01",null,null,null,null,null,null,null,null,null,null,null,null,null,null,null,null,null,null,null,null,null,null,null,null,null,null,null,null,null,null,null,null,null,null,null,null,null,null,"SBC/LTC 0.00013953 "]
[null,null,null,null,null,null,null,null,null,null,null,null,null,null,null,null,null,null,null,null,null,null,null,null,null,null,null,null,null,null,null,null,null,null,null,null,null,null,null,"SXC/LTC 0.00022350 "]
[null,null,null,null,null,null,null,null,null,null,null,null,null,null,null,null,null,null,null,null,null,null,null,null,null,null,null,null,null,null,null,null,null,null,null,null,null,null,null,"TIPS/LTC 0.00000008 "]
[null,null,null,null,null,null,null,null,null,null,null,null,null,null,null,null,null,null,null,null,null,null,null,null,null,null,null,null,null,null,null,null,null,null,null,null,null,null,null,"TIX/LTC 0.00000058 "]
[null,null,null,null,null,null,null,null,null,null,null,null,null,null,null,null,null,null,null,null,null,null,null,null,null,null,null,null,null,null,null,null,null,null,null,null,null,null,null,"WDC/LTC 0.00273630 "]
[null,null,null,null,null,null,null,null,null,null,null,null,null,null,null,null,null,null,null,null,null,null,null,null,null,null,null,null,null,null,null,null,null,null,null,null,null,null,null,"XNC/LTC 0.00000414 "]
[null,null,null,null,null,null,null,null,null,null,null,null,null,null,null,null,null,null,null,null,null,null,null,null,null,null,null,null,null,null,null,null,null,null,null,null,null,null,null,"XPM/LTC 0.07665460 "]
[null,null,null,null,null,null,null,null,null,null,null,null,null,null,null,null,null,null,null,null,null,null,null,null,null,"       To source","CatCoin",null,null,null,null,null,null,null,null,null,null,null,null,"YAC/LTC 0.00052773 "]
["CAT/BTC",null,{"$f":"IF(A4=\"FALCE\",\"❶\",\"\")","v":""},{"$f":"IF(A31=\"FALCE\",\"❷\",\"\")","v":""},{"$f":"IF(A58=\"FALCE\",\"❸\",\"\")","v":""},{"$f":"IF(A85=\"FALCE\",\"❹\",\"\")","v":""},{"$f":"IF(A112=\"FALCE\",\"❺\",\"\")","v":""},{"$f":"IF(A139=\"FALCE\",\"❻\",\"\")","v":""},{"$f":"IF(A166=\"FALCE\",\"❼\",\"\")","v":""},{"$f":"IF(A166=\"FALCE\",\"❼\",\"\")","v":""},{"$f":"IF(A220=\"FALCE\",\"❾\",\"\")","v":""},{"$f":"IF(A247=\"FALCE\",\"❿\",\"\")","v":""},{"$f":"IF(A247=\"FALCE\",\"❿\",\"\")","v":""},null,null,null,null,null,null,{"$f":"IF(A193=\"FALSE\",\"THERE IS CHANGE IN THE IMPORT DATA. ADJUST THE INPUT !\",\"\")","v":""},"CAT/BTC 0.00007725 ","CAT/BTC",7.7249999999999994E-5,null,null,null,null,null,null,null,null,null,null,null,null,null,null,null,null,"ZEIT/LTC 0.00000128 "]
[{"$f":"IF(V192=A192,\"TRUE\",\"FALSE\")","v":"TRUE"},"Price Yt",7.9649999999999998E-5,7.737E-5,7.737E-5,7.737E-5,7.737E-5,7.737E-5,7.737E-5,7.737E-5,7.737E-5,7.737E-5,7.737E-5,7.737E-5,7.737E-5,7.737E-5,7.737E-5,7.737E-5,7.737E-5,7.737E-5,7.7249999999999994E-5,7.7249999999999994E-5,null,{"$f":"$X$3","v":20},"↙ Number of periods for A and B cycles",null,null,null,null,null,null,null,null,null,null,null,null,null,null,"ZET/LTC 0.00259406 "]
["Fd","F↗↘",null,null,null,{"$f":"3/6*E193+2/6*D193+1/6*C193","v":7.7749999999999993E-5},7.737E-5,7.737E-5,7.737E-5,7.737E-5,7.737E-5,7.737E-5,7.737E-5,7.737E-5,7.737E-5,7.737E-5,7.737E-5,7.737E-5,7.737E-5,7.737E-5,7.737E-5,7.7310000000000004E-5,7.7269999999999997E-5,2,0]
["❽",null,null,null,null,null,null,null,null,null,null,null,null,null,null,null,null,null,null,null,null,null,null,{"$f":"IF(X194>$X$3,0,X194)","v":2},{"$f":"IF(Y194>$X$3,0,Y194)","v":0}]
[null,"Price Yt",7.1130000000000005E-5,7.4839999999999995E-5,7.4839999999999995E-5,7.4839999999999995E-5,7.4839999999999995E-5,7.4839999999999995E-5,7.4839999999999995E-5,7.4839999999999995E-5,7.4839999999999995E-5,7.4839999999999995E-5,7.4839999999999995E-5,9.0569999999999995E-5,9.0569999999999995E-5,8.7240000000000012E-5,8.7240000000000012E-5,7.9649999999999998E-5,7.9649999999999998E-5,7.737E-5,7.737E-5,7.737E-5]
[{"$f":"A198/10","v":0.2},"F↗↘",{"$f":"ABS(C196)","v":7.1130000000000005E-5},{"$f":"ABS(C196)","v":7.1130000000000005E-5},{"$f":"D197+а8*(D196-D197)","v":7.1872000000000006E-5},{"$f":"E197+а8*(E196-E197)","v":7.2465600000000006E-5},7.2940480000000009E-5,7.3320384000000007E-5,7.3624307200000002E-5,7.386744576E-5,7.4061956608000002E-5,7.4217565286400003E-5,7.4342052229119996E-5,7.4441641783295996E-5,7.766731342663679E-5,8.0247850741309437E-5,8.1646280593047546E-5,8.2765024474438045E-5,8.2142019579550438E-5,8.1643615663640353E-5,8.0788892530912282E-5,8.0105114024729823E-5,7.9558091219783856E-5,{"$f":"IF(B195=0,0,AA196*365/$AA$5)","v":0},null,null,null,null,null,null,null,null,null,null,null,null,null,null,null,"Trade Cryptocurrencies"]
["1900-01-02","α",null,null,null,null,null,null,null,null,null,6.0422091629835352E-7,3.6888006545297356E-7,2.5353508870556855E-7,1.8497192885139795E-7,1.4196598885853475E-7,1.139132331558157E-7,9.5066721061764697E-8,8.2205083330640526E-8,7.3445863204096057E-8,6.7637551459632634E-8]
[2,"Price Yt",6.7490000000000006E-5,6.7490000000000006E-5,6.7482000000000002E-5,6.7038161202604438E-5,6.7038161202604438E-5,6.7038161202604438E-5,6.7112528962083543E-5,6.6173689836333501E-5,6.5222951869066796E-5,6.3838514172836884E-5,6.7470811338269507E-5,8.6273421303939603E-5,8.5150311099815976E-5,8.1243119470670805E-5,8.0642938141095276E-5,7.4571384155373569E-5,7.777110732429886E-5,7.9558091219783856E-5,7.9558091219783856E-5,7.9558091219783856E-5,null,{"$f":"IF(B198=0,0,AA203*365/$AA$5)","v":0}]
[{"$f":"A201/10","v":0.2},"F↗↘",{"$f":"ABS(C199)","v":6.7490000000000006E-5},{"$f":"ABS(C199)","v":6.7490000000000006E-5},{"$f":"D200+а83*(D199-D200)","v":6.7490000000000006E-5},6.7488400000000003E-5,6.7398352240520884E-5,6.7326314032937592E-5,6.7268683466870956E-5,6.7237452565913476E-5,6.7024700019997481E-5,6.6664350389811347E-5,6.6099183146416454E-5,6.637350878478707E-5,7.0353491288617571E-5,7.3312855250857255E-5,7.4898908094819962E-5,7.6047714104075025E-5,7.5752448114334731E-5,7.6156179956327557E-5,7.6836562209018822E-5,7.7380868011171831E-5,7.7816312652894231E-5,null,null,null,null,null,null,null,null,null,null,null,null,null,null,null,null,"Trade over 100 different types of cryptocurrencies"]
["1900-01-02","α"]
[2,"A",null,null,null,null,null,null,"   B",null,null,null,null,null,null,null,"     C",null,null,null,null,null,"Go to","↙ Refresh",null,0,null,null,null,null,null,null,null,null,null,null,null,null,null,"Coin Transfers"]
["α#",null,null,null,null,null,null,null,null,null,null,null,null,null,null,null,null,null,null,null,null,null,null,"Go to:"]
[null,null,null,null,null,null,null,null,null,null,null,null,null,null,null,null,null,null,null,null,null,"CAT/BTC"]
[null,"CAT",null,null,null,null,null,null,null,null,null,null,null,null,null,null,null,null,null,null,null,null,null,null,null,null,null,null,null,null,null,null,null,null,null,null,null,null,null,"Free & Instant User to User coin transfers"]
[]
[null,null,null,null,null,null,null,null,null,null,null,null,null,null,null,null,null,null,null,null,null,null,null,null,null,null,null,null,null,null,null,null,null,null,null,null,null,null,null,"Escrow Services  COMING SOON"]
[null,null,null,null,null,null,null,null,null,null,null,null,null,null,null,null,null,null,null,null,null,null,null,null,null,0]
[]
[null,null,null,null,null,null,null,null,null,null,null,null,null,null,null,null,null,null,null,null,null,null,null,null,null,null,null,null,null,null,null,null,null,null,null,null,null,null,null,"COMING SOON! Low cost escrow service"]
["CatCoin",null,null,null,null,null,null,null,null,null,null,null,null,null,null,null,null,null,null,null,null,null,"                   CAT"]
[null,null,null,null,null,null,null,null,null,null,null,null,null,null,null,null,null,null,null,null,null,null,null,null,null,null,null,null,null,null,null,null,null,null,null,null,null,null,null,"Trade in USD  COMING SOON"]
[]
[]
[null,null,null,null,null,null,null,null,null,null,null,null,null,null,null,null,null,null,null,null,null,null,null,null,null,null,null,null,null,null,null,null,null,null,null,null,null,null,null,"COMING SOON! Trade in USD"]
[]
[null,null,null,null,null,null,null,null,null,null,null,null,null,null,null,null,null,null,null,null,null,null,null,null,null,null,null,null,null,null,null,null,null,null,null,null,null,null,null,"CryptsyPoints Loyalty Program"]
[null,null,null,null,null,null,null,null,null,null,null,null,null,null,null,null,null,null,null,null,null,null,null,null,null,"       To source","WordCoin"]
["WDC/BTC",null,{"$f":"IF(A4=\"FALCE\",\"❶\",\"\")","v":""},{"$f":"IF(A31=\"FALCE\",\"❷\",\"\")","v":""},{"$f":"IF(A58=\"FALCE\",\"❸\",\"\")","v":""},{"$f":"IF(A85=\"FALCE\",\"❹\",\"\")","v":""},{"$f":"IF(A112=\"FALCE\",\"❺\",\"\")","v":""},{"$f":"IF(A139=\"FALCE\",\"❻\",\"\")","v":""},{"$f":"IF(A166=\"FALCE\",\"❼\",\"\")","v":""},{"$f":"IF(A193=\"FALCE\",\"❽\",\"\")","v":""},{"$f":"IF(A193=\"FALCE\",\"❽\",\"\")","v":""},{"$f":"IF(A247=\"FALCE\",\"❿\",\"\")","v":""},{"$f":"IF(A247=\"FALCE\",\"❿\",\"\")","v":""},null,null,null,null,null,null,{"$f":"IF(A220=\"FALSE\",\"THERE IS CHANGE IN THE IMPORT DATA. ADJUST THE INPUT !\",\"\")","v":""},"WDC/BTC 0.00006450 ","WDC/BTC",6.4499999999999996E-5,null,null,null,null,null,null,null,null,null,null,null,null,null,null,null,null,"CryptsyPoints - Earn points for doing the things you already do."]
[{"$f":"IF(V219=A219,\"TRUE\",\"FALSE\")","v":"TRUE"},"Price Yt",6.7059999999999998E-5,6.7420000000000002E-5,6.7420000000000002E-5,6.7420000000000002E-5,6.7420000000000002E-5,6.7420000000000002E-5,6.7420000000000002E-5,6.7420000000000002E-5,6.7420000000000002E-5,6.7420000000000002E-5,6.7420000000000002E-5,6.5900000000000003E-5,6.5900000000000003E-5,6.5900000000000003E-5,6.5900000000000003E-5,6.5900000000000003E-5,6.5900000000000003E-5,6.5900000000000003E-5,6.4499999999999996E-5,6.4499999999999996E-5,null,{"$f":"$X$3","v":20},"↙ Number of periods for A and B cycles"]
["Fd","F↗↘",null,null,null,{"$f":"3/6*E220+2/6*D220+1/6*C220","v":6.7360000000000006E-5},6.7420000000000002E-5,6.7420000000000002E-5,6.7420000000000002E-5,6.7420000000000002E-5,6.7420000000000002E-5,6.7420000000000002E-5,6.7420000000000002E-5,6.7420000000000002E-5,6.6660000000000002E-5,6.6153333333333336E-5,6.5900000000000003E-5,6.5900000000000003E-5,6.5900000000000003E-5,6.5900000000000003E-5,6.5900000000000003E-5,6.5199999999999999E-5,6.4733333333333326E-5,2,0,null,null,null,null,null,null,null,null,null,null,null,null,null,null,"Earn points when you trade, refer other users, and from trades your referred users perform."]
["❾",null,null,null,null,null,null,null,null,null,null,null,null,null,null,null,null,null,null,null,null,null,null,{"$f":"IF(X221>$X$3,0,X221)","v":2},{"$f":"IF(Y221>$X$3,0,Y221)","v":0}]
[null,"Price Yt",6.9999999999999994E-5,6.9529999999999993E-5,6.9529999999999993E-5,6.9529999999999993E-5,6.9529999999999993E-5,6.9800000000000003E-5,6.9800000000000003E-5,6.9800000000000003E-5,6.9800000000000003E-5,6.9800000000000003E-5,6.9800000000000003E-5,6.7050000000000003E-5,6.7050000000000003E-5,6.7059999999999998E-5,6.7059999999999998E-5,6.7059999999999998E-5,6.7059999999999998E-5,6.7420000000000002E-5,6.7420000000000002E-5,6.5900000000000003E-5,null,null,null,null,null,null,null,null,null,null,null,null,null,null,null,null,null,"Trade points on the exchange - use points to enter weekly drawings for prizes."]
[{"$f":"A225/10","v":0.2},"F↗↘",{"$f":"ABS(D223)","v":6.9529999999999993E-5},{"$f":"ABS(D223)","v":6.9529999999999993E-5},{"$f":"D224+а9*(D223-D224)","v":6.9529999999999993E-5},6.9529999999999993E-5,6.9529999999999993E-5,6.9529999999999993E-5,6.958399999999999E-5,6.962719999999999E-5,6.9661759999999995E-5,6.9689407999999999E-5,6.9711526400000003E-5,6.9729221120000005E-5,6.9193376896000005E-5,6.8764701516800007E-5,6.8423761213440011E-5,6.8151008970752003E-5,6.7932807176601599E-5,6.7758245741281285E-5,6.7690596593025033E-5,6.7636477274420032E-5,6.7289181819536029E-5,{"$f":"IF(B222=0,0,AA223*365/$AA$5)","v":0}]
["1900-01-02","α",null,null,null,null,null,null,null,null,null,null,null,null,null,null,null,null,null,null,null,null,null,null,null,null,null,null,null,null,null,null,null,null,null,null,null,null,null,"Market List   -   173 Active Markets"]
[2,"Price Yt",7.9400761906966546E-5,7.8757887620458598E-5,7.8757887620458598E-5,7.8124310096366878E-5,7.7514998316261869E-5,7.7514998316261869E-5,7.7514998316261869E-5,7.6631998653009495E-5,7.4758974444941477E-5,6.5223404770506509E-5,6.6461497230244771E-5,6.8830797547154407E-5,6.9244638037723529E-5,7.0735767287466669E-5,7.0893512851182935E-5,6.9840558764191446E-5,6.9270341335554784E-5,6.7289181819536029E-5,6.7289181819536029E-5,6.7289181819536029E-5,null,{"$f":"IF(B225=0,0,AA230*365/$AA$5)","v":0},null,null,null,null,null,null,null,null,null,null,null,null,null,null,null,"Market","Currency","Volume in BTC","24hr High","24hr Low"]
[{"$f":"A228/10","v":0.2},"F↗↘",{"$f":"ABS(C226)","v":7.9400761906966546E-5},{"$f":"ABS(C226)","v":7.9400761906966546E-5},{"$f":"D227+а93*(D226-D227)","v":7.9272187049664951E-5},7.9169327163823675E-5,7.8960323750332318E-5,7.8671258663518223E-5,7.8440006594066955E-5,7.8255004938505932E-5,7.7930403681406642E-5,7.7296117834113614E-5,7.4881575221392196E-5,7.3197559623162708E-5,7.2324207207961043E-5,7.170829337391354E-5,7.1513788156624171E-5,7.1389733095535927E-5,7.1079898229267036E-5,7.0717986850524591E-5,7.0032225844326879E-5,6.9483617039368709E-5,6.9044729995402178E-5,null,null,null,null,null,null,null,null,null,null,null,null,null,null,null,null,"DOGE/BTC","Dogecoin","1074 BTC","0.00000117 BTC","0.00000101 BTC"]
["1900-01-02","α",null,"00:00:41.452",null,null,null,null,null,null,null,6.0422091629835352E-7,3.6888006545297356E-7,2.5353508870556855E-7,1.8497192885139795E-7,1.4196598885853475E-7,1.139132331558157E-7,9.5066721061764697E-8,8.2205083330640526E-8,7.3445863204096057E-8,6.7637551459632634E-8,null,null,null,null,null,null,null,null,null,null,null,null,null,null,null,null,null,null,"DRK/BTC","DarkCoin","233 BTC","0.00414000 BTC","0.00360000 BTC"]
[2,"A",null,null,null,null,null,null,"   B",null,null,null,null,null,null,null,"     C",null,null,null,null,null,null,"↙ Refresh",null,0,null,null,null,null,null,null,null,null,null,null,null,null,null,"LTC/BTC","LiteCoin","208 BTC","0.02348825 BTC","0.02288000 BTC"]
["α#",null,null,null,null,null,null,null,null,null,null,null,null,null,null,null,null,null,null,null,null,null,null,"Go to:",null,null,null,null,null,null,null,null,null,null,null,null,null,null,null,"BC/BTC","BlackCoin","178 BTC","0.00035048 BTC","0.00028500 BTC"]
[null,null,null,null,null,null,null,null,null,null,null,null,null,null,null,null,null,null,null,null,null,"CAT/BTC",null,null,null,null,null,null,null,null,null,null,null,null,null,null,null,null,null,"AUR/BTC","AuroraCoin","159 BTC","0.00251010 BTC","0.00085200 BTC"]
[null,"WDC",null,null,null,null,null,null,null,null,null,null,null,null,null,null,null,null,null,null,null,null,null,null,null,null,null,null,null,null,null,null,null,null,null,null,null,null,null,"AC/BTC","AsiaCoin","84.3 BTC","0.00001188 BTC","0.00000593 BTC"]
[null,null,null,null,null,null,null,null,null,null,null,null,null,null,null,null,null,null,null,null,null,null,"Go to:",null,null,null,null,null,null,null,null,null,null,null,null,null,null,null,null,"WC/BTC","WhiteCoin","76.0 BTC","0.00001080 BTC","0.00000700 BTC"]
[null,null,null,null,null,null,null,null,null,null,null,null,null,null,null,null,null,null,null,null,null,null,null,null,null,null,null,null,null,null,null,null,null,null,null,null,null,null,null,"DOGE/LTC","Dogecoin","70 BTC","0.00004978 LTC","0.00004100 LTC"]
[null,null,null,null,null,null,null,null,null,null,null,null,null,null,null,null,null,null,null,null,null,null,null,null,null,0,null,null,null,null,null,null,null,null,null,null,null,null,null,"ZET/BTC","ZetaCoin","63.7 BTC","0.00006498 BTC","0.00005700 BTC"]
[null,null,null,null,null,null,null,null,null,null,null,null,null,null,null,null,null,null,null,null,null,null,null,null,null,null,null,null,null,null,null,null,null,null,null,null,null,null,null,"UTC/BTC","UltraCoin","57.1 BTC","0.00019959 BTC","0.00010100 BTC"]
[null,null,null,null,null,null,null,null,null,null,null,null,null,null,null,null,null,null,null,null,null,null,null,null,null,null,null,null,null,null,null,null,null,null,null,null,null,null,null,"VTC/BTC","VertCoin","51.6 BTC","0.00200000 BTC","0.00188050 BTC"]
["WordCoin",null,"ExIm9",null,null,null,null,null,null,null,null,null,null,null,null,null,null,null,null,null,null,null,null,null,null,null,null,null,null,null,null,null,null,null,null,null,null,null,null,"FTC/BTC","FeatherCoin","51.0 BTC","0.00025998 BTC","0.00000131 BTC"]
[null,null,"DECI_9",null,null,null,null,null,null,null,null,null,null,null,null,null,null,null,null,null,null,null,null,null,null,null,null,null,null,null,null,null,null,null,null,null,null,null,null,"MN2/BTC","Mining Contract 2","45.8 BTC","0.15499994 BTC","0.11000000 BTC"]
[null,null,"Move_9_1stLeft",null,null,null,null,null,null,null,null,null,null,null,null,null,null,null,null,null,null,null,null,null,null,null,null,null,null,null,null,null,null,null,null,null,null,null,null,"FLT/BTC","FlutterCoin","37.3 BTC","0.00001630 BTC","0.00001301 BTC"]
[null,null,null,null,null,null,null,null,null,null,null,null,null,null,null,null,null,null,null,null,null,null,"                WDC",null,null,null,null,null,null,null,null,null,null,null,null,null,null,null,null,"MN1/BTC","Mining Contract 1","26.7 BTC","0.01496000 BTC","0.01170000 BTC"]
[null,null,null,null,null,null,null,null,null,null,null,null,null,null,null,null,null,null,null,null,null,null,null,null,null,null,null,null,null,null,null,null,null,null,null,null,null,null,null,"NXT/BTC","Nxt","21.6 BTC","0.00004750 BTC","0.00004039 BTC"]
[null,null,null,null,null,null,null,null,null,null,null,null,null,null,null,null,null,null,null,null,null,null,null,null,null,null,null,null,null,null,null,null,null,null,null,null,null,null,null,"POT/BTC","PotCoin","16.5 BTC","0.00001380 BTC","0.00001160 BTC"]
[null,null,null,null,null,null,null,null,null,null,null,null,null,null,null,null,null,null,null,null,null,null,null,null,null,null,null,null,null,null,null,null,null,null,null,null,null,null,null,"PPC/BTC","Peercoin","13.0 BTC","0.00489994 BTC","0.00420001 BTC"]
[null,null,null,null,null,null,null,null,null,null,null,null,null,null,null,null,null,null,null,null,null,null,null,null,null,"       To source","AnonCoin",null,null,null,null,null,null,null,null,null,null,null,null,"WDC/BTC","WorldCoin","12.9 BTC","0.00007209 BTC","0.00006350 BTC"]
["ANC/BTC",null,{"$f":"IF(A4=\"FALCE\",\"❶\",\"\")","v":""},{"$f":"IF(A31=\"FALCE\",\"❷\",\"\")","v":""},{"$f":"IF(A58=\"FALCE\",\"❸\",\"\")","v":""},{"$f":"IF(A85=\"FALCE\",\"❹\",\"\")","v":""},{"$f":"IF(A112=\"FALCE\",\"❺\",\"\")","v":""},{"$f":"IF(A139=\"FALCE\",\"❻\",\"\")","v":""},{"$f":"IF(A166=\"FALCE\",\"❼\",\"\")","v":""},{"$f":"IF(A166=\"FALCE\",\"❼\",\"\")","v":""},{"$f":"IF(A220=\"FALCE\",\"❾\",\"\")","v":""},{"$f":"IF(A220=\"FALCE\",\"❾\",\"\")","v":""},null,null,null,null,null,null,null,{"$f":"IF(A247=\"FALSE\",\"THERE IS CHANGE IN THE IMPORT DATA. ADJUST THE INPUT !\",\"\")","v":""},"ANC/BTC 0.00157000 ","ANC/BTC",1.57E-3,null,null,null,null,null,null,null,null,null,null,null,null,null,null,null,null,"DMD/BTC","Diamond","10.1 BTC","0.00124714 BTC","0.00085622 BTC"]
[{"$f":"IF(V246=A246,\"TRUE\",\"FALSE\")","v":"TRUE"},"Price Yt",1.43991E-3,1.4399199999999999E-3,1.4399199999999999E-3,1.4399199999999999E-3,1.4399199999999999E-3,1.4399199999999999E-3,1.4399199999999999E-3,1.4399199999999999E-3,1.4399199999999999E-3,1.4399199999999999E-3,1.4399199999999999E-3,1.4579199999999999E-3,1.4579199999999999E-3,1.4579199999999999E-3,1.4579199999999999E-3,1.4579199999999999E-3,1.4579199999999999E-3,1.4579199999999999E-3,1.57E-3,1.57E-3,null,{"$f":"$X$3","v":20},"↙ Number of periods for A and B cycles",null,null,null,null,null,null,null,null,null,null,null,null,null,null,"NMC/BTC","NameCoin","9.79 BTC","0.00474986 BTC","0.00450875 BTC"]
["Fd","F↗↘",null,null,null,{"$f":"3/6*E247+2/6*D247+1/6*C247","v":1.4399183333333333E-3},1.4399199999999999E-3,1.4399199999999999E-3,1.4399199999999999E-3,1.4399199999999999E-3,1.4399199999999999E-3,1.4399199999999999E-3,1.4399199999999999E-3,1.4399199999999999E-3,1.44892E-3,1.45492E-3,1.4579199999999999E-3,1.4579199999999999E-3,1.4579199999999999E-3,1.4579199999999999E-3,1.4579199999999999E-3,1.51396E-3,1.5513199999999999E-3,2,0,null,null,null,null,null,null,null,null,null,null,null,null,null,null,"HBN/BTC","HoboNickels","9.10 BTC","0.00045001 BTC","0.00042000 BTC"]
["❿",null,null,null,null,null,null,null,null,null,null,null,null,null,null,null,null,null,null,null,null,null,null,{"$f":"IF(X248>$X$3,0,X248)","v":2},{"$f":"IF(Y248>$X$3,0,Y248)","v":0},null,null,null,null,null,null,null,null,null,null,null,null,null,null,"QRK/BTC","Quark","8.87 BTC","0.00004195 BTC","0.00003895 BTC"]
[null,"Price Yt",1.5273000000000001E-3,1.50965E-3,1.50965E-3,1.50965E-3,1.50965E-3,1.50062E-3,1.50062E-3,1.50062E-3,1.50062E-3,1.50062E-3,1.50062E-3,1.4958899999999997E-3,1.4958899999999997E-3,1.43991E-3,1.43991E-3,1.43991E-3,1.43991E-3,1.4399199999999999E-3,1.4399199999999999E-3,1.4579199999999999E-3,null,null,null,null,null,null,null,null,null,null,null,null,null,null,null,null,null,"RDD/BTC","ReddCoin","8.36 BTC","0.00000004 BTC","0.00000003 BTC"]
[{"$f":"A252/10","v":0.2},"F↗↘",{"$f":"ABS(D250)","v":1.50965E-3},{"$f":"ABS(D250)","v":1.50965E-3},{"$f":"D251+а0*(D250-D251)","v":1.50965E-3},1.50965E-3,1.50965E-3,1.50965E-3,1.5078439999999999E-3,1.5063991999999999E-3,1.5052433599999999E-3,1.504318688E-3,1.5035789504E-3,1.50298716032E-3,1.5015677282559999E-3,1.5004321826047999E-3,1.4883277460838399E-3,1.478644196867072E-3,1.4708973574936576E-3,1.4646998859949262E-3,1.459743908795941E-3,1.4557791270367528E-3,1.4562073016294022E-3,{"$f":"IF(B249=0,0,AA250*365/$AA$5)","v":0},null,null,null,null,null,null,null,null,null,null,null,null,null,null,null,"KARM/LTC","KarmaCoin","8 BTC","0.00000047 LTC","0.00000037 LTC"]
["1900-01-02","α",null,null,null,null,null,null,null,null,null,null,null,null,null,null,null,null,null,null,null,null,null,null,null,null,null,null,null,null,null,null,null,null,null,null,null,null,null,"SXC/BTC","SexCoin","7.15 BTC","0.00000621 BTC","0.00000501 BTC"]
[2,"Price Yt",1.5677509590467419E-3,1.5677509590467419E-3,1.5643987672373935E-3,1.5866509429337159E-3,1.5866509429337159E-3,1.5866509429337159E-3,1.5797207543469726E-3,1.5656782701442447E-3,1.5527446161153957E-3,1.5091304965459431E-3,1.5075083972367544E-3,1.6789640103575978E-3,1.6514452082860784E-3,1.6095293599265867E-3,1.5841190472207455E-3,1.5047952572438132E-3,1.5032175523254257E-3,1.4562073016294022E-3,1.4562073016294022E-3,1.4562073016294022E-3,null,{"$f":"IF(B252=0,0,AA257*365/$AA$5)","v":0},null,null,null,null,null,null,null,null,null,null,null,null,null,null,null,"42/BTC","42Coin","6.80 BTC","37.89999999 BTC","30.00000000 BTC"]
[{"$f":"A255/10","v":0.2},"F↗↘",{"$f":"ABS(C253)","v":1.5677509590467419E-3},{"$f":"ABS(C253)","v":1.5677509590467419E-3},{"$f":"D254+а03*(D253-D254)","v":1.5677509590467419E-3},1.5670805206848722E-3,1.570994605134641E-3,1.574125872694456E-3,1.5766308867423079E-3,1.5772488602632409E-3,1.5749347422394416E-3,1.5704967170146323E-3,1.5582234729208946E-3,1.5480804577840666E-3,1.5742571682987728E-3,1.5896947762962339E-3,1.5936616930223044E-3,1.5917531638619926E-3,1.5743615825383568E-3,1.5601327764957706E-3,1.5393476815224968E-3,1.5227196055438779E-3,1.5094171447609828E-3,null,null,null,null,null,null,null,null,null,null,null,null,null,null,null,null,"ANC/BTC","AnonCoin","6.51 BTC","0.00159002 BTC","0.00143022 BTC"]
["1900-01-02","α",null,null,null,null,null,null,null,null,null,null,null,null,null,null,null,null,null,null,null,null,null,null,null,null,null,null,null,null,null,null,null,null,null,null,null,null,null,"CINNI/BTC","CinniCoin","6.45 BTC","0.00008077 BTC","0.00006764 BTC"]
[2,"A",null,null,null,null,null,null,"   B",null,null,null,null,null,null,null,"     C",null,null,null,null,null,null,"↙ Refresh",null,0,null,null,null,null,null,null,null,null,null,null,null,null,null,"MZC/BTC","MazaCoin","6.30 BTC","0.00000118 BTC","0.00000085 BTC"]
["α#",null,null,null,null,null,null,null,null,null,null,null,null,null,null,null,null,null,null,null,null,null,null,"Go to:",null,null,null,null,null,null,null,null,null,null,null,null,null,null,null,"XPM/BTC","PrimeCoin","6.11 BTC","0.00185000 BTC","0.00176266 BTC"]
[null,null,null,null,null,null,null,null,null,null,null,null,null,null,null,null,null,null,null,null,null,"CAT/BTC",null,null,null,null,null,null,null,null,null,null,null,null,null,null,null,null,null,"EMC2/BTC","Einsteinium","5.71 BTC","0.00000619 BTC","0.00000390 BTC"]
[null,"ANC",null,null,null,null,null,null,null,null,null,null,null,null,null,null,null,null,null,null,null,null,null,null,null,null,null,null,null,null,null,null,null,null,null,null,null,null,null,"AUR/LTC","AuroraCoin","5 BTC","0.11777938 LTC","0.03682121 LTC"]
[null,null,null,null,null,null,null,null,null,null,null,null,null,null,null,null,null,null,null,null,null,null,null,null,null,null,null,null,null,null,null,null,null,null,null,null,null,null,null,"MEC/BTC","MegaCoin","4.85 BTC","0.00020755 BTC","0.00016301 BTC"]
[null,null,null,null,null,null,null,null,null,null,null,null,null,null,null,null,null,null,null,null,null,null,null,null,null,null,null,null,null,null,null,null,null,null,null,null,null,null,null,"Points/BTC","CryptsyPoints","4.85 BTC","0.00100000 BTC","0.00078101 BTC"]
[null,null,null,null,null,null,null,null,null,null,null,null,null,null,null,null,null,null,null,null,null,null,null,null,null,0,null,null,null,null,null,null,null,null,null,null,null,null,null,"BC/LTC","BlackCoin","5 BTC","0.01508083 LTC","0.01230000 LTC"]
[null,null,null,null,null,null,null,null,null,null,null,null,null,null,null,null,null,null,null,null,null,null,null,null,null,null,null,null,null,null,null,null,null,null,null,null,null,null,null,"UNO/BTC","Unobtanium","4.23 BTC","0.00550000 BTC","0.00463681 BTC"]
[null,null,null,null,null,null,null,null,null,null,null,null,null,null,null,null,null,null,null,null,null,null,null,null,null,null,null,null,null,null,null,null,null,null,null,null,null,null,null,"QRK/LTC","Quark","4 BTC","0.00190552 LTC","0.00150096 LTC"]
["AnonCoin",null,null,null,null,null,null,null,null,null,null,null,null,null,null,null,null,null,null,null,null,null,null,null,null,null,null,null,null,null,null,null,null,null,null,null,null,null,null,"MOON/LTC","MoonCoin","4 BTC","0.00000012 LTC","0.00000009 LTC"]
[null,null,null,null,null,null,null,null,null,null,null,null,null,null,null,null,null,null,null,null,null,null,null,null,null,null,null,null,null,null,null,null,null,null,null,null,null,null,null,"MINT/BTC","MintCoin","3.80 BTC","0.00000012 BTC","0.00000010 BTC"]
[null,null,null,null,null,null,null,null,null,null,null,null,null,null,null,null,null,null,null,null,null,null,null,null,null,null,null,null,null,null,null,null,null,null,null,null,null,null,null,"PTS/BTC","Bitshares PTS","3.16 BTC","0.00867938 BTC","0.00808640 BTC"]
[null,null,null,null,null,null,null,null,null,null,null,null,null,null,null,null,null,null,null,null,null,null,null,null,null,null,null,null,null,null,null,null,null,null,null,null,null,null,null,"DGB/BTC","Digibyte","3.10 BTC","0.00000031 BTC","0.00000027 BTC"]
[null,null,null,null,null,null,null,null,null,null,null,null,null,null,null,null,null,null,null,null,null,null,null,null,null,null,null,null,null,null,null,null,null,null,null,null,null,null,null,"MAX/BTC","MaxCoin","3.02 BTC","0.00019055 BTC","0.00017047 BTC"]
[null,null,null,null,null,null,null,null,null,null,null,null,null,null,null,null,null,null,null,null,null,null,"                   ANC",null,null,null,null,null,null,null,null,null,null,null,null,null,null,null,null,"TRC/BTC","TerraCoin","2.96 BTC","0.00021000 BTC","0.00019106 BTC"]
[null,null,null,null,null,null,null,null,null,null,null,null,null,null,null,null,null,null,null,null,null,null,null,null,null,null,null,null,null,null,null,null,null,null,null,null,null,null,null,"NVC/BTC","NovaCoin","2.96 BTC","0.00729358 BTC","0.00690003 BTC"]
[null,null,null,null,null,null,null,null,null,null,null,null,null,null,null,null,null,null,null,null,null,null,null,null,null,null,null,null,null,null,null,null,null,null,null,null,null,null,null,"EAC/BTC","EarthCoin","2.92 BTC","0.00000009 BTC","0.00000006 BTC"]
[null,null,"iteCoin",null,null,null,null,null,null,null,"  ê ê ê   FORECASTING  ê ê ê",null,null,null,null,{"$f":"O273+1","v":"1900-01-01"},null,null,null,null,null,null,null,null,"     Buy","  Sell",null,null,null,null,null,null,null,null,null,null,null,null,null,"TAG/BTC","TagCoin","2.43 BTC","0.00026088 BTC","0.00022510 BTC"]
["SXC/LTC",null,null,{"$f":"IF(A303=\"FALCE\",\"❷\",\"\")","v":""},{"$f":"IF(A330=\"FALCE\",\"❸\",\"\")","v":""},{"$f":"IF(A357=\"FALCE\",\"❹\",\"\")","v":""},{"$f":"IF(A384=\"FALCE\",\"❺\",\"\")","v":""},{"$f":"IF(A411=\"FALCE\",\"❻\",\"\")","v":""},{"$f":"IF(#REF!=\"FALCE\",\"❼\",\"\")","v":{"$error":"#REF!"}},{"$f":"IF(A498=\"FALCE\",\"❽\",\"\")","v":""},null,null,null,null,null,null,null,null,null,{"$f":"IF(A275=\"FALSE\",\"THERE IS CHANGE IN THE IMPORT DATA. ADJUST THE INPUT !\",\"\")","v":""},"SXC/LTC 0.00022350 ","SXC/LTC",2.2350000000000001E-4,null,null,"       To source","SexCoin",null,null,null,null,null,null,null,null,null,null,null,null,"NET/BTC","Netcoin","2.31 BTC","0.00000336 BTC","0.00000292 BTC"]
[{"$f":"IF(V274=A274,\"TRUE\",\"FALSE\")","v":"TRUE"},"time",1,2,3,4,5,6,7,8,9,10,11,12,13,14,15,16,17,18,19,20,21,20,null,null,null,null,null,null,null,null,null,null,null,null,null,null,null,"TIPS/LTC","FedoraCoin","2.2 BTC","0.00000009 LTC","0.00000007 LTC"]
["Fd","Price Yt",2.1283000000000001E-4,2.1283000000000001E-4,2.1283000000000001E-4,2.1283000000000001E-4,2.1283000000000001E-4,2.1283000000000001E-4,2.1283000000000001E-4,2.1283000000000001E-4,2.1283000000000001E-4,2.1283000000000001E-4,2.1283000000000001E-4,2.1285999999999999E-4,2.1285999999999999E-4,2.1285999999999999E-4,2.1285999999999999E-4,2.1285999999999999E-4,2.1285999999999999E-4,2.1285999999999999E-4,2.2350000000000001E-4,2.2350000000000001E-4,null,0,0,null,null,null,null,null,null,null,null,null,null,null,null,null,null,"CGB/BTC","CryptogenicBullion","2.01 BTC","0.00085800 BTC","0.00077000 BTC"]
["1900-01-02","F↗↘",null,null,null,{"$f":"3/6*E276+2/6*D276+1/6*C276","v":2.1283000000000001E-4},2.1283000000000001E-4,2.1283000000000001E-4,2.1283000000000001E-4,2.1283000000000001E-4,2.1283000000000001E-4,2.1283000000000001E-4,2.1283000000000001E-4,2.1283000000000001E-4,2.12845E-4,2.1285499999999999E-4,2.1285999999999999E-4,2.1285999999999999E-4,2.1285999999999999E-4,2.1285999999999999E-4,2.1285999999999999E-4,2.1818E-4,2.2172666666666667E-4,3,8,null,null,null,null,null,null,null,null,null,null,null,null,null,null,"ANC/LTC","AnonCoin","1.9 BTC","0.06766272 LTC","0.06087600 LTC"]
["⓫",null,-3.9898499999999996E-3,-5.9160999999999936E-4,4.8748000000000107E-4,-4.4418899999999987E-3,2.3206600000000013E-3,4.0218200000000006E-3,8.7237700000000005E-3,4.789980000000001E-3,0,0,null,null,null,null,null,null,null,null,null,null,null,{"$f":"IF(X277>$X$3,0,X277)","v":3},{"$f":"IF(Y277>$X$3,0,Y277)","v":8},null,null,null,null,null,null,null,null,null,null,null,null,null,null,"DGC/BTC","DigitalCoin","1.92 BTC","0.00005868 BTC","0.00005420 BTC"]
[null,"Price Yt",2.1288000000000001E-4,2.1288000000000001E-4,2.1288000000000001E-4,2.1288000000000001E-4,2.1473999999999999E-4,2.1473999999999999E-4,2.1473999999999999E-4,2.1473999999999999E-4,2.1473999999999999E-4,2.1473999999999999E-4,2.1411999999999999E-4,2.1411999999999999E-4,2.1404999999999997E-4,2.1404999999999997E-4,2.1283000000000001E-4,2.1283000000000001E-4,2.1283000000000001E-4,2.1283000000000001E-4,2.1283000000000001E-4,2.1285999999999999E-4,null,"00:00:00",null,null,null,null,null,null,null,null,null,null,null,null,null,null,null,"WDC/LTC","WorldCoin","1.9 BTC","0.00319960 LTC","0.00272619 LTC"]
[{"$f":"A281/10","v":0.2},"F↗↘",{"$f":"ABS(C279)","v":2.1288000000000001E-4},{"$f":"ABS(C279)","v":2.1288000000000001E-4},{"$f":"D280+а11*(D279-D280)","v":2.1288000000000001E-4},2.1288000000000001E-4,2.1288000000000001E-4,2.1325200000000001E-4,2.1354960000000001E-4,2.1378768E-4,2.13978144E-4,2.141305152E-4,2.1425241215999999E-4,2.1422592972799998E-4,2.1420474378239999E-4,2.1417379502592E-4,2.1414903602073599E-4,2.1388522881658881E-4,2.1367418305327104E-4,2.1350534644261685E-4,2.1337027715409348E-4,2.1326222172327478E-4,2.1318177737861981E-4,null,null,null,null,null,null,null,null,null,null,null,null,null,null,null,null,"DEM/BTC","eMark","1.82 BTC","0.00002404 BTC","0.00001911 BTC"]
["1900-01-02","α",null,null,null,null,null,null,null,null,null,null,null,null,null,null,null,null,null,null,null,null,null,null,null,null,null,null,null,null,null,null,null,null,null,null,null,null,null,"COMM/BTC","CommunityCoin","1.61 BTC","0.00000090 BTC","0.00000061 BTC"]
[2,"Price Yt",2.0711332747903958E-4,2.0711332747903958E-4,2.0594866198323165E-4,2.0252829317534435E-4,2.0252829317534435E-4,2.0252829317534435E-4,2.0544663454027549E-4,2.072593076322204E-4,2.1363494526376758E-4,2.1439851986730933E-4,2.1979801855651163E-4,2.1844653013735975E-4,2.1407486254764046E-4,2.1431693273090373E-4,2.1437766157297397E-4,2.1432612925837918E-4,2.1337009701010839E-4,2.1318177737861981E-4,2.1318177737861981E-4,2.1318177737861981E-4,null,null,null,null,null,null,null,null,null,null,null,null,null,null,null,null,null,"SXC/LTC","SexCoin","1.6 BTC","0.00025839 LTC","0.00021283 LTC"]
[{"$f":"A284/10","v":0.2},"F↗↘",{"$f":"ABS(C282)","v":2.0711332747903958E-4},{"$f":"ABS(C282)","v":2.0711332747903958E-4},{"$f":"D283+а113*(D282-D283)","v":2.0711332747903958E-4},2.0688039437987798E-4,2.0600997413897126E-4,2.0531363794624587E-4,2.0475656899206557E-4,2.0489458210170755E-4,2.0536752720781012E-4,2.0702101081900161E-4,2.0849651262866317E-4,2.1075681381423287E-4,2.1229475707885823E-4,2.1265077817261469E-4,2.129840090842725E-4,2.132627395820128E-4,2.1347541751728607E-4,2.1345435341585053E-4,2.133998382084044E-4,2.1335622604244748E-4,2.1332133630968194E-4,null,null,null,null,null,null,null,null,null,null,null,null,null,null,null,null,"BTB/BTC","BitBar","1.56 BTC","0.03990019 BTC","0.03200003 BTC"]
["1900-01-02","α",null,null,null,null,null,null,null,null,null,null,null,null,null,null,null,null,null,null,null,null,null,null,null,null,null,null,null,null,null,null,null,null,null,null,null,null,null,"ZET/LTC","ZetaCoin","1.5 BTC","0.00272193 LTC","0.00250000 LTC"]
[2,"A",null,null,null,null,null,null,"  B",null,null,null,null,null,null,null,"     C",null,null,null,null,null,"Go to:","↙ Refresh","2014-03-30",0,null,null,null,null,null,null,null,null,null,null,null,null,null,"GLD/BTC","GoldCoin","1.50 BTC","0.00002994 BTC","0.00002603 BTC"]
["α#",null,null,null,null,null,null,null,null,null,null,null,null,null,null,null,null,null,null,null,null,null,null,"Go to:",null,null,null,null,null,null,null,null,null,null,null,null,null,null,null,"DVC/BTC","DevCoin","1.48 BTC","0.00000028 BTC","0.00000026 BTC"]
[null,null,null,null,null,null,null,null,null,null,null,null,null,null,null,null,null,null,null,null,null,null,null,null,null,null,null,null,null,null,null,null,null,null,null,null,null,null,null,"ALF/BTC","AlphaCoin","1.45 BTC","0.00000200 BTC","0.00000136 BTC"]
[null,"SXC",null,null,null,null,null,null,null,null,null,null,null,null,null,null,null,null,null,null,null,null,null,null,null,null,null,null,null,null,null,null,null,null,null,null,null,null,null,"IXC/BTC","IXCoin","1.36 BTC","0.00016777 BTC","0.00011851 BTC"]
[null,null,null,null,null,null,null,null,null,null,null,null,null,null,null,null,null,null,null,null,null,null,null,null,null,null,null,null,null,null,null,null,null,null,null,null,null,null,null,"LYC/BTC","LycanCoin","1.27 BTC","0.00000088 BTC","0.00000050 BTC"]
[null,null,null,null,null,null,null,null,null,null,null,null,null,null,null,null,null,null,null,null,null,null,null," 11 - SXC",null,null,null,null,null,null,null,null,null,null,null,null,null,null,null,"PHS/BTC","PhilosopherStone","1.18 BTC","0.00014850 BTC","0.00013505 BTC"]
[null,null,null,null,null,null,null,null,null,null,null,null,null,null,null,null,null,null,null,null,null,null,null,null,null,0,null,null,null,null,null,null,null,null,null,null,null,null,null,"FST/BTC","FastCoin","1.15 BTC","0.00000318 BTC","0.00000275 BTC"]
[null,null,null,null,null,null,null,null,null,null,null,null,null,null,null,null,null,null,null,null,null,null,null,null,null,null,null,null,null,null,null,null,null,null,null,null,null,null,null,"ASC/LTC","AsicCoin","1.1 BTC","0.00001090 LTC","0.00000980 LTC"]
["SexCoin",null,null,null,null,null,null,null,null,null,null,null,null,null,null,null,null,null,null,null,null,null,null,null,null,null,null,null,null,null,null,null,null,null,null,null,null,null,null,"EXE/BTC","ExeCoin","1.13 BTC","0.00002428 BTC","0.00002277 BTC"]
[null,null,null,null,null,null,null,null,null,null,null,null,null,null,null,null,null,null,null,null,null,null,null,null,null,null,null,null,null,null,null,null,null,null,null,null,null,null,null,"MEC/LTC","MegaCoin","1.0 BTC","0.00900000 LTC","0.00550001 LTC"]
[null,null,null,null,null,null,null,null,null,null,null,null,null,null,null,null,null,null,null,null,null,null,null,null,null,null,null,null,null,null,null,null,null,null,null,null,null,null,null,"CNC/BTC","CHNCoin","0.844 BTC","0.00000415 BTC","0.00000380 BTC"]
[null,null,null,null,null,null,null,null,null,null,null,null,null,null,null,null,null,null,null,null,null,null,null,null,null,null,null,null,null,null,null,null,null,null,null,null,null,null,null,"MEOW/BTC","KittehCoin","0.800 BTC","0.00000003 BTC","0.00000002 BTC"]
[null,null,null,null,null,null,null,null,null,null,null,null,null,null,null,null,null,null,null,null,null,null,null,null,null,null,null,null,null,null,null,null,null,null,null,null,null,null,null,"NXT/LTC","Nxt","0.8 BTC","0.00199998 LTC","0.00177948 LTC"]
[null,null,null,null,null,null,null,null,null,null,null,null,null,null,null,null,null,null,null,null,null,null,null,null,null,null,null,null,null,null,null,null,null,null,null,null,null,null,null,"GDC/BTC","GrandCoin","0.778 BTC","0.00000034 BTC","0.00000030 BTC"]
[null,null,null,null,null,null,null,null,null,null,null,null,null,null,null,null,null,null,null,null,null,null,null,null,null,null,null,null,null,null,null,null,null,null,null,null,null,null,null,"ZEIT/LTC","ZeitCoin","0.7 BTC","0.00000136 LTC","0.00000108 LTC"]
[null,null,null,null,null,null,null,null,null,null,null,null,null,null,null,null,null,null,null,null,null,null,null,null,null,null,null,null,null,null,null,null,null,null,null,null,null,null,null,"BQC/BTC","BBQCoin","0.733 BTC","0.00001085 BTC","0.00001005 BTC"]
[null,null,null,null,null,null,null,null,null,null,null,null,null,null,null,null,null,null,null,null,null,null,null,null,null,"       To source","AurCoin",null,null,null,null,null,null,null,null,null,null,null,null,"NYAN/BTC","NyanCoin","0.697 BTC","0.00000115 BTC","0.00000055 BTC"]
["AUR/LTC",null,{"$f":"IF(A276=\"FALCE\",\"❶\",\"\")","v":""},{"$f":"IF(A276=\"FALCE\",\"❶\",\"\")","v":""},{"$f":"IF(A330=\"FALCE\",\"❸\",\"\")","v":""},{"$f":"IF(A357=\"FALCE\",\"❹\",\"\")","v":""},{"$f":"IF(A384=\"FALCE\",\"❺\",\"\")","v":""},{"$f":"IF(A411=\"FALCE\",\"❻\",\"\")","v":""},{"$f":"IF(#REF!=\"FALCE\",\"❼\",\"\")","v":{"$error":"#REF!"}},{"$f":"IF(A498=\"FALCE\",\"❽\",\"\")","v":""},{"$f":"IF(A491=\"FALCE\",\"❾\",\"\")","v":""},{"$f":"IF(A519=\"FALCE\",\"❿\",\"\")","v":""},{"$f":"IF(A519=\"FALCE\",\"❿\",\"\")","v":""},null,null,null,null,null,null,{"$f":"IF(A303=\"FALSE\",\"THERE IS CHANGE IN THE IMPORT DATA. ADJUST THE INPUT !\",\"\")","v":""},"AUR/LTC 0.07766646 ","AUR/LTC",7.7666460000000007E-2,null,null,null,null,null,null,null,null,null,null,null,null,null,null,null,null,"CACH/BTC","CACHeCoin","0.676 BTC","0.00055000 BTC","0.00037934 BTC"]
[{"$f":"IF(V302=A302,\"TRUE\",\"FALSE\")","v":"TRUE"},"Price Yt",3.9186940000000003E-2,3.745884E-2,3.745884E-2,3.745884E-2,3.745884E-2,3.745884E-2,3.745884E-2,3.745884E-2,3.745884E-2,3.745884E-2,3.745884E-2,3.918721E-2,3.918721E-2,3.918721E-2,3.918721E-2,3.918721E-2,3.918721E-2,3.918721E-2,7.7666460000000007E-2,7.7666460000000007E-2,null,{"$f":"$X$3","v":20},null,null,null,null,null,null,null,null,null,null,null,null,null,null,null,"BCX/BTC","BattleCoin","0.667 BTC","0.00000653 BTC","0.00000468 BTC"]
["Fd","F↗↘",null,null,null,{"$f":"3/6*E303+2/6*D303+1/6*C303","v":3.7746856666666669E-2},3.745884E-2,3.745884E-2,3.745884E-2,3.745884E-2,3.745884E-2,3.745884E-2,3.745884E-2,3.745884E-2,3.8323025000000004E-2,3.8899148333333335E-2,3.918721E-2,3.918721E-2,3.918721E-2,3.918721E-2,3.918721E-2,5.8426835000000003E-2,7.125325166666667E-2,2,0,null,null,null,null,null,null,null,null,null,null,null,null,null,null,"SAT/BTC","SaturnCoin","0.650 BTC","0.00000005 BTC","0.00000003 BTC"]
["⓬",null,null,null,null,null,null,null,null,null,null,null,null,null,null,null,null,null,null,null,null,null,null,{"$f":"IF(X304>$X$3,0,X304)","v":2},{"$f":"IF(Y304>$X$3,0,Y304)","v":0},null,null,null,null,null,null,null,null,null,null,null,null,null,null,"BET/BTC","Betacoin","0.629 BTC","0.00000914 BTC","0.00000730 BTC"]
[null,"Price Yt",3.7759870000000001E-2,3.7449389999999999E-2,3.7449389999999999E-2,3.7449389999999999E-2,3.7449389999999999E-2,3.7449379999999997E-2,3.7449379999999997E-2,3.7449379999999997E-2,3.7449379999999997E-2,3.7449379999999997E-2,3.7449379999999997E-2,3.7759859999999992E-2,3.7759859999999992E-2,3.792729999999999E-2,3.792729999999999E-2,3.9186940000000003E-2,3.9186940000000003E-2,3.745884E-2,3.745884E-2,3.918721E-2,null,null,null,null,null,null,null,null,null,null,null,null,null,null,null,null,null,"HVC/BTC","HeavyCoin","0.604 BTC","0.00000929 BTC","0.00000700 BTC"]
[{"$f":"A308/10","v":0.2},"F↗↘",{"$f":"ABS(C306)","v":3.7759870000000001E-2},{"$f":"ABS(C306)","v":3.7759870000000001E-2},{"$f":"D307+а12*(D306-D307)","v":3.7697774000000003E-2},3.7648097200000001E-2,3.7608355760000003E-2,3.7576562608000005E-2,3.7551126086400002E-2,3.753077686912E-2,3.7514497495295999E-2,3.7501473996236802E-2,3.7491055196989441E-2,3.7482720157591555E-2,3.7538148126073242E-2,3.7582490500858594E-2,3.7651452400686874E-2,3.77066219205495E-2,3.8002685536439602E-2,3.8239536429151684E-2,3.8083397143321346E-2,3.7958485714657077E-2,{"$f":"V307+а12*(V306-V307)","v":3.8204230571725659E-2},null,null,null,null,null,null,null,null,null,null,null,null,null,null,null,null,"CSC/BTC","CasinoCoin","0.581 BTC","0.00000374 BTC","0.00000301 BTC"]
["1900-01-02",null,null,null,null,null,null,null,null,null,null,null,null,null,null,null,null,null,null,null,null,null,null,null,null,null,null,null,null,null,null,null,null,null,null,null,null,null,null,"MRY/BTC","MurrayCoin","0.577 BTC","0.00000960 BTC","0.00000856 BTC"]
[2,"Price Yt",5.246930155999821E-2,5.311047174870228E-2,5.311047174870228E-2,5.2988887398961827E-2,5.3294775151779342E-2,5.3294775151779342E-2,5.3294775151779342E-2,5.3543676121423474E-2,5.2695368897138779E-2,4.6661830198629115E-2,4.6317875955773587E-2,4.4116076411134665E-2,4.383354991720588E-2,4.1894785966788785E-2,4.0518165821133469E-2,3.7501931643140543E-2,3.7553517314512432E-2,3.8204230571725659E-2,3.8204230571725659E-2,3.8204230571725659E-2,null,null,null,null,null,null,null,null,null,null,null,null,null,null,null,null,null,"CASH/BTC","CashCoin","0.567 BTC","0.00001408 BTC","0.00001202 BTC"]
[{"$f":"A311/10","v":0.2},"F↗↘",{"$f":"ABS(C309)","v":5.246930155999821E-2},{"$f":"ABS(C309)","v":5.246930155999821E-2},{"$f":"D310+а123*(D309-D310)","v":5.2597535597739026E-2},5.2700122827931677E-2,5.2757875742137708E-2,5.2865255624066035E-2,5.2951159529608695E-2,5.3019882654042824E-2,5.3124641347518951E-2,5.303878685744292E-2,5.1763395525680156E-2,5.0674291611698841E-2,4.9362648571586003E-2,4.8256828840709975E-2,4.6984420265925739E-2,4.5691169376967287E-2,4.4053321830201941E-2,4.2753360927064041E-2,4.1843534855996366E-2,4.1115673999142226E-2,4.053338531365891E-2,null,null,null,null,null,null,null,null,null,null,null,null,null,null,null,null,"RPC/BTC","RonPaulCoin","0.537 BTC","0.00100775 BTC","0.00090000 BTC"]
["1900-01-02",null,null,null,null,null,null,null,null,null,null,6.0422091629835352E-7,3.6888006545297356E-7,2.5353508870556855E-7,1.8497192885139795E-7,1.4196598885853475E-7,1.139132331558157E-7,9.5066721061764697E-8,8.2205083330640526E-8,7.3445863204096057E-8,6.7637551459632634E-8,null,null,null,null,null,null,null,null,null,null,null,null,null,null,null,null,null,null,"TEK/BTC","TekCoin","0.534 BTC","0.00022746 BTC","0.00015944 BTC"]
[2,"A",null,null,null,null,null,null,"  B",null,null,null,null,null,null,null,"    C",null,null,null,null,null,"Go to:","↙ Refresh",null,0,null,null,null,null,null,null,null,null,null,null,null,null,null,"TAK/BTC","TakCoin","0.529 BTC","0.00000023 BTC","0.00000019 BTC"]
["α#",null,null,null,null,null,null,null,null,null,null,null,null,null,null,null,null,null,null,null,null,null,null,"Go to:",null,null,null,null,null,null,null,null,null,null,null,null,null,null,null,"FLO/LTC","FlorinCoin","0.5 BTC","0.00021782 LTC","0.00013467 LTC"]
[null,null,null,null,null,null,null,null,null,null,null,null,null,null,null,null,null,null,null,null,null,null,null,null,null,null,null,null,null,null,null,null,null,null,null,null,null,null,null,"RYC/BTC","RoyalCoin","0.506 BTC","0.00000286 BTC","0.00000101 BTC"]
[null,"AUR",null,null,null,null,null,null,null,null,null,null,null,null,null,null,null,null,null,null,null,null,null,null,null,null,null,null,null,null,null,null,null,null,null,null,null,null,null,"LOT/BTC","LottoCoin","0.496 BTC","0.00000002 BTC","0.00000001 BTC"]
[null,null,null,null,null,null,null,null,null,null,null,null,null,null,null,null,null,null,null,null,null,null,null,null,null,null,null,null,null,null,null,null,null,null,null,null,null,null,null,"ZED/BTC","ZedCoin","0.487 BTC","0.00000620 BTC","0.00000474 BTC"]
[null,null,null,null,null,null,null,null,null,null,null,null,null,null,null,null,null,null,null,null,null,null,null,null,null,null,null,null,null,null,null,null,null,null,null,null,null,null,null,"RBBT/LTC","RabbitCoin","0.5 BTC","0.00000006 LTC","0.00000004 LTC"]
[null,null,null,null,null,null,null,null,null,null,null,null,null,null,null,null,null,null,null,null,null,null,null,null,null,0,null,null,null,null,null,null,null,null,null,null,null,null,null,"MNC/BTC","MinCoin","0.454 BTC","0.00022842 BTC","0.00020222 BTC"]
[null,"       ",null,null,null,null,null,null,null,null,null,null,null,null,null,null,null,null,null,null,null,null,null," 12 - AUR",null,null,null,null,null,null,null,null,null,null,null,null,null,null,null,"RED/LTC","RedCoin","0.4 BTC","0.00032000 LTC","0.00026420 LTC"]
["AuroraCoin",null,null,null,null,null,null,null,null,null,null,null,null,null,null,null,null,null,null,null,null,null,null,null,null,null,null,null,null,null,null,null,null,null,null,null,null,null,null,"SRC/BTC","SecureCoin","0.414 BTC","0.00022913 BTC","0.00018604 BTC"]
[null,null,null,null,null,null,null,null,null,null,null,null,null,null,null,null,null,null,null,null,null,null,null,null,null,null,null,null,null,null,null,null,null,null,null,null,null,null,null,"IFC/BTC","InfiniteCoin","0.408 BTC","0.00000006 BTC","0.00000005 BTC"]
[null,null,null,null,null,null,null,null,null,null,null,null,null,null,null,null,null,null,null,null,null,null,null,null,null,null,null,null,null,null,null,null,null,null,null,null,null,null,null,"NET/LTC","Netcoin","0.4 BTC","0.00014341 LTC","0.00012547 LTC"]
[null,null,null,null,null,null,null,null,null,null,null,null,null,null,null,null,null,null,null,null,null,null,null,null,null,null,null,null,null,null,null,null,null,null,null,null,null,null,null,"FRC/BTC","FreiCoin","0.363 BTC","0.00002360 BTC","0.00002155 BTC"]
[null,null,null,null,null,null,null,null,null,null,null,null,null,null,null,null,null,null,null,null,null,null,null,null,null,null,null,null,null,null,null,null,null,null,null,null,null,null,null,"CLR/BTC","CopperLark","0.350 BTC","0.00013304 BTC","0.00008800 BTC"]
[null,null,null,null,null,null,null,null,null,null,"$",null,null,null,null,null,null,null,null,null,null,null,null,null,null,null,null,null,null,null,null,null,null,null,null,null,null,null,null,"SPA/BTC","SpainCoin","0.341 BTC","0.00000895 BTC","0.00000143 BTC"]
[null,null,null,null,null,null,null,null,null,null,"α",null,null,null,null,null,null,null,null,null,null,null,null,null,null,null,null,null,null,null,null,null,null,null,null,null,null,null,null,"GLC/BTC","Globalcoin","0.319 BTC","0.00000230 BTC","0.00000173 BTC"]
[null,null,null,null,null,null,null,null,null,null,null,null,null,null,null,null,null,null,null,null,null,null,null,null,null,null,null,null,null,null,null,null,null,null,null,null,null,null,null,"ARG/BTC","Argentum","0.306 BTC","0.00005378 BTC","0.00004926 BTC"]
[null,null,null,null,null,null,null,null,null,null,null,null,null,null,null,null,null,null,null,null,null,null,null,null,null,"       To source","DogeCoin",null,null,null,null,null,null,null,null,null,null,null,null,"YAC/BTC","YaCoin","0.296 BTC","0.00001245 BTC","0.00001101 BTC"]
["DOGE/LTC",null,{"$f":"IF(A276=\"FALCE\",\"❶\",\"\")","v":""},{"$f":"IF(A303=\"FALCE\",\"❷\",\"\")","v":""},{"$f":"IF(A303=\"FALCE\",\"❷\",\"\")","v":""},{"$f":"IF(A357=\"FALCE\",\"❹\",\"\")","v":""},{"$f":"IF(A384=\"FALCE\",\"❺\",\"\")","v":""},{"$f":"IF(A411=\"FALCE\",\"❻\",\"\")","v":""},{"$f":"IF(#REF!=\"FALCE\",\"❼\",\"\")","v":{"$error":"#REF!"}},{"$f":"IF(A498=\"FALCE\",\"❽\",\"\")","v":""},{"$f":"IF(A491=\"FALCE\",\"❾\",\"\")","v":""},{"$f":"IF(A519=\"FALCE\",\"❿\",\"\")","v":""},{"$f":"IF(A519=\"FALCE\",\"❿\",\"\")","v":""},null,null,null,null,null,null,{"$f":"IF(A330=\"FALSE\",\"THERE IS CHANGE IN THE IMPORT DATA. ADJUST THE INPUT !\",\"\")","v":""},"DOGE/LTC 0.00004642 ","DOGE/LTC",4.6419999999999999E-5,null,null,null,"DogeCoin",null,null,null,null,null,null,null,null,null,null,null,null,"CAT/BTC","CatCoin","0.287 BTC","0.00009079 BTC","0.00007100 BTC"]
[{"$f":"IF(V329=A329,\"TRUE\",\"FALSE\")","v":"TRUE"},"Price Yt",4.4039999999999998E-5,4.4450000000000003E-5,4.4450000000000003E-5,4.4450000000000003E-5,4.4450000000000003E-5,4.4450000000000003E-5,4.4450000000000003E-5,4.4450000000000003E-5,4.4450000000000003E-5,4.4450000000000003E-5,4.4450000000000003E-5,4.5099999999999998E-5,4.5099999999999998E-5,4.5099999999999998E-5,4.5099999999999998E-5,4.5099999999999998E-5,4.5099999999999998E-5,4.5099999999999998E-5,4.6419999999999999E-5,4.6419999999999999E-5,null,{"$f":"$X$3","v":20},"↙ Number of periods for A and B cycles",null,null,null,null,null,null,null,null,null,null,null,null,null,null,"NEC/BTC","NeoCoin","0.268 BTC","0.00001666 BTC","0.00000900 BTC"]
["Fd","F↗↘",null,null,null,{"$f":"3/6*E330+2/6*D330+1/6*C330","v":4.4381666666666669E-5},4.4450000000000003E-5,4.4450000000000003E-5,4.4450000000000003E-5,4.4450000000000003E-5,4.4450000000000003E-5,4.4450000000000003E-5,4.4450000000000003E-5,4.4450000000000003E-5,4.4774999999999997E-5,4.4991666666666665E-5,4.5099999999999998E-5,4.5099999999999998E-5,4.5099999999999998E-5,4.5099999999999998E-5,4.5099999999999998E-5,4.5760000000000002E-5,4.6199999999999998E-5,2,0,null,null,null,null,null,null,null,null,null,null,null,null,null,null,"XJO/BTC","JouleCoin","0.253 BTC","0.00000528 BTC","0.00000526 BTC"]
["⓭",null,null,null,null,null,null,null,null,null,null,null,null,null,null,null,null,null,null,null,null,null,null,{"$f":"IF(X331>$X$3,0,X331)","v":2},{"$f":"IF(Y331>$X$3,0,Y331)","v":0},null,null,null,null,null,null,null,null,null,null,null,null,null,null,"DVC/LTC","DevCoin","0.2 BTC","0.00001171 LTC","0.00001105 LTC"]
[null,"Price Yt",4.4490000000000003E-5,4.3970000000000001E-5,4.3970000000000001E-5,4.3970000000000001E-5,4.3970000000000001E-5,4.4069999999999996E-5,4.4069999999999996E-5,4.4069999999999996E-5,4.4069999999999996E-5,4.4069999999999996E-5,4.4069999999999996E-5,4.4020000000000002E-5,4.4020000000000002E-5,4.4039999999999998E-5,4.4039999999999998E-5,4.4039999999999998E-5,4.4039999999999998E-5,4.4450000000000003E-5,4.4450000000000003E-5,4.5099999999999998E-5,null,null,null,null,null,null,null,null,null,null,null,null,null,null,null,null,null,"FRK/BTC","Franko","0.245 BTC","0.00047500 BTC","0.00046000 BTC"]
[{"$f":"A335/10","v":0.2},"F↗↘",{"$f":"ABS(C333)","v":4.4490000000000003E-5},{"$f":"ABS(C333)","v":4.4490000000000003E-5},{"$f":"D334+а132*(D333-D334)","v":4.4386000000000005E-5},4.4302800000000006E-5,4.4236240000000005E-5,4.4182992000000005E-5,4.4160393600000002E-5,4.4142314880000002E-5,4.4127851904E-5,4.4116281523199998E-5,4.4107025218559998E-5,4.4099620174847999E-5,4.4083696139878399E-5,4.407095691190272E-5,4.4064765529522176E-5,4.4059812423617739E-5,4.4055849938894192E-5,4.4052679951115355E-5,4.4132143960892283E-5,4.4195715168713827E-5,4.4376572134971063E-5,null,null,null,null,null,null,null,null,null,null,null,null,null,null,null,null,"GME/LTC","GameCoin","0.2 BTC","0.00000325 LTC","0.00000281 LTC"]
["1900-01-02",null,null,null,null,null,null,null,null,null,null,null,null,null,null,null,null,null,null,null,null,null,null,null,null,null,null,null,null,null,null,null,null,null,null,null,null,null,null,"GLX/BTC","Galaxycoin","0.239 BTC","0.00000115 BTC","0.00000082 BTC"]
[2,"Price Yt",4.5899302628885624E-5,4.5582372283718859E-5,4.5582372283718859E-5,4.556389782697509E-5,4.6186036510937084E-5,4.6186036510937084E-5,4.6186036510937084E-5,4.562282920874967E-5,4.5538263366999735E-5,4.4900050578913393E-5,4.4880040463130714E-5,4.4588381936130421E-5,4.4397131492240052E-5,4.3490725727138241E-5,4.3718045488876762E-5,4.4078149263624512E-5,4.4066519410899607E-5,4.4376572134971063E-5,4.4376572134971063E-5,4.4376572134971063E-5,null,null,null,null,null,null,null,null,null,null,null,null,null,null,null,null,null,"BAT/LTC","BatCoin","0.2 BTC","0.00000016 LTC","0.00000014 LTC"]
[{"$f":"A338/10","v":0.2},"F↗↘",{"$f":"ABS(C336)","v":4.5899302628885624E-5},{"$f":"ABS(C336)","v":4.5899302628885624E-5},{"$f":"D337+а133*(D336-D337)","v":4.5835916559852271E-5},4.578520770462559E-5,4.5740945729095492E-5,4.5829963885463813E-5,4.5901178410558469E-5,4.5958150030634193E-5,4.5891085866257286E-5,4.5820521366405775E-5,4.5636427208907296E-5,4.5485149859751977E-5,4.5305796275027666E-5,4.512406331847014E-5,4.479739580020376E-5,4.4581525737938358E-5,4.4480850443075589E-5,4.4397984236640392E-5,4.4393701816306526E-5,4.4390275880039435E-5,4.4387535131025762E-5,null,null,null,null,null,null,null,null,null,null,null,null,null,null,null,null,"ELC/BTC","ElaCoin","0.213 BTC","0.00033460 BTC","0.00031575 BTC"]
["1900-01-02",null,null,null,null,null,null,null,null,null,null,null,null,null,null,null,null,null,null,null,null,null,null,null,null,null,null,null,null,null,null,null,null,null,null,null,null,null,null,"PPC/LTC","Peercoin","0.21 BTC","0.20505417 LTC","0.19613415 LTC"]
[2,"A",null,null,null,null,null,null,"  B",null,null,null,null,null,null,null,"     C",null,null,null,null,null,"Go to:","↙ Refresh",null,0,null,null,null,null,null,null,null,null,null,null,null,null,null,"PXC/BTC","PhoenixCoin","0.203 BTC","0.00000395 BTC","0.00000340 BTC"]
["α#",null,null,null,null,null,null,null,null,null,null,null,null,null,null,null,null,null,null,null,null,null,null,"Go to:",null,null,null,null,null,null,null,null,null,null,null,null,null,null,null,"LKY/BTC","LuckyCoin","0.200 BTC","0.00000622 BTC","0.00000571 BTC"]
[null,null,null,null,null,null,null,null,null,null,null,null,null,null,null,null,null,null,null,null,null,null,null,null,null,null,null,null,null,null,null,null,null,null,null,null,null,null,null,"DGC/LTC","DigitalCoin","0.19 BTC","0.00250921 LTC","0.00235000 LTC"]
[null,"  DOGE",null,null,null,null,null,null,null,null,null,null,null,null,null,null,null,null,null,null,null,null,null,null,null,null,null,null,null,null,null,null,null,null,null,null,null,null,null,"CRC/BTC","CraftCoin","0.190 BTC","0.00004840 BTC","0.00004308 BTC"]
[null,null,null,null,null,null,null,null,null,null,null,null,null,null,null,null,null,null,null,null,null,null,null,null,null,null,null,null,null,null,null,null,null,null,null,null,null,null,null,"XPM/LTC","PrimeCoin","0.19 BTC","0.07957699 LTC","0.07641627 LTC"]
[null,null,null,null,null,null,null,null,null,null,null,null,null,null,null,null,null,null,null,null,null,null,null,null,null,null,null,null,null,null,null,null,null,null,null,null,null,null,null,"JKC/BTC","JunkCoin","0.181 BTC","0.00000619 BTC","0.00000485 BTC"]
[null,null,null,null,null,null,null,null,null,null,null,null,null,null,null,null,null,null,null,null,null,null,null,null,null,0,null,null,null,null,null,null,null,null,null,null,null,null,null,"KGC/BTC","KrugerCoin","0.170 BTC","0.00000111 BTC","0.00000108 BTC"]
[null,null,null,null,null,null,null,null,null,null,null,null,null,null,null,null,null,null,null,null,null,null,null,null,null,null,null,null,null,null,null,null,null,null,null,null,null,null,null,"EZC/LTC","EZCoin","0.16 BTC","0.00014283 LTC","0.00014100 LTC"]
[null,null,null,null,null,null,null,null,null,null,null,null,null,null,null,null,null,null,null,null,null,null,null,null,null,null,null,null,null,null,null,null,null,null,null,null,null,null,null,"GLD/LTC","GoldCoin","0.15 BTC","0.00128265 LTC","0.00080081 LTC"]
["DodeCoin",null,null,null,null,null,null,null,null,null,null,null,null,null,null,null,null,null,null,null,null,null,null,"13 - DOGE",null,null,null,null,null,null,null,null,null,null,null,null,null,null,null,"KDC/BTC","KlondikeCoin","0.154 BTC","0.00002245 BTC","0.00002000 BTC"]
[null,null,null,null,null,null,null,null,null,null,null,null,null,null,null,null,null,null,null,null,null,null,null,null,null,null,null,null,null,null,null,null,null,null,null,null,null,null,null,"LEAF/BTC","LeafCoin","0.151 BTC","0.00000002 BTC","0.00000001 BTC"]
[null,null,null,null,null,null,null,null,null,null,null,null,null,null,null,null,null,null,null,null,null,null,null,null,null,null,null,null,null,null,null,null,null,null,null,null,null,null,null,"SBC/BTC","StableCoin","0.148 BTC","0.00000339 BTC","0.00000321 BTC"]
[null,null,null,null,null,null,null,null,null,null,null,null,null,null,null,null,null,null,null,null,null,null,null,null,null,null,null,null,null,null,null,null,null,null,null,null,null,null,null,"BTE/BTC","ByteCoin","0.142 BTC","0.00003862 BTC","0.00002497 BTC"]
[null,null,null,null,null,null,null,null,null,null,null,null,null,null,null,null,null,null,null,null,null,null,null,null,null,null,null,null,null,null,null,null,null,null,null,null,null,null,null,"PXC/LTC","PhoenixCoin","0.13 BTC","0.00017235 LTC","0.00014504 LTC"]
[null,null,null,null,null,null,null,null,null,null,null,null,null,null,null,null,null,null,null,null,null,null,null,null,null,null,null,null,null,null,null,null,null,null,null,null,null,null,null,"CMC/BTC","Cosmoscoin","0.127 BTC","0.00004463 BTC","0.00004000 BTC"]
[null,null,null,null,null,null,null,null,null,null,null,null,null,null,null,null,null,null,null,null,null,null,null,null,null,null,null,null,null,null,null,null,null,null,null,null,null,null,null,"CGB/LTC","CryptogenicBullion","0.13 BTC","0.03649570 LTC","0.03206808 LTC"]
[null,null,null,null,null,null,null,null,null,null,null,null,null,null,null,null,null,null,null,null,null,null,null,null,null,"       To source","NetCoin",null,null,null,null,null,null,null,null,null,null,null,null,"EMD/BTC","Emerald","0.119 BTC","0.00000453 BTC","0.00000425 BTC"]
["NET/LTC",null,{"$f":"IF(A276=\"FALCE\",\"❶\",\"\")","v":""},{"$f":"IF(A303=\"FALCE\",\"❷\",\"\")","v":""},{"$f":"IF(A330=\"FALCE\",\"❸\",\"\")","v":""},{"$f":"IF(A357=\"FALCE\",\"❸\",\"\")","v":""},{"$f":"IF(A384=\"FALCE\",\"❺\",\"\")","v":""},{"$f":"IF(A411=\"FALCE\",\"❻\",\"\")","v":""},{"$f":"IF(#REF!=\"FALCE\",\"❼\",\"\")","v":{"$error":"#REF!"}},{"$f":"IF(A498=\"FALCE\",\"❽\",\"\")","v":""},{"$f":"IF(A491=\"FALCE\",\"❾\",\"\")","v":""},{"$f":"IF(A519=\"FALCE\",\"❿\",\"\")","v":""},{"$f":"IF(A519=\"FALCE\",\"❿\",\"\")","v":""},null,null,null,null,null,null,{"$f":"IF(A357=\"FALSE\",\"THERE IS CHANGE IN THE IMPORT DATA. ADJUST THE INPUT !\",\"\")","v":""},"NET/LTC 0.00012874 ","NET/LTC",1.2873999999999999E-4,null,null,null,null,null,null,null,null,null,null,null,null,null,null,null,null,"RYC/LTC","RoyalCoin","0.12 BTC","0.00009733 LTC","0.00005486 LTC"]
[{"$f":"IF(V356=A356,\"TRUE\",\"FALSE\")","v":"TRUE"},"Price Yt",1.2547E-4,1.2742999999999999E-4,1.2742999999999999E-4,1.2742999999999999E-4,1.2742999999999999E-4,1.2742999999999999E-4,1.2742999999999999E-4,1.2742999999999999E-4,1.2742999999999999E-4,1.2742999999999999E-4,1.2742999999999999E-4,1.2740000000000001E-4,1.2740000000000001E-4,1.2740000000000001E-4,1.2740000000000001E-4,1.2740000000000001E-4,1.2740000000000001E-4,1.2740000000000001E-4,1.2873999999999999E-4,1.2873999999999999E-4,null,{"$f":"$X$3","v":20},"↙ Number of periods for A and B cycles",null,null,null,null,null,null,null,null,null,null,null,null,null,null,"NAN/BTC","NanoToken","0.110 BTC","0.00000331 BTC","0.00000189 BTC"]
["Fd","F↗↘",null,null,null,{"$f":"3/6*E357+2/6*D357+1/6*C357","v":1.2710333333333331E-4},1.2742999999999999E-4,1.2742999999999999E-4,1.2742999999999999E-4,1.2742999999999999E-4,1.2742999999999999E-4,1.2742999999999999E-4,1.2742999999999999E-4,1.2742999999999999E-4,1.27415E-4,1.27405E-4,1.2740000000000001E-4,1.2740000000000001E-4,1.2740000000000001E-4,1.2740000000000001E-4,1.2740000000000001E-4,1.2806999999999999E-4,1.2851666666666666E-4,2,0,null,null,null,null,null,null,null,null,null,null,null,null,null,null,"FFC/BTC","FireflyCoin","0.092 BTC","0.00000035 BTC","0.00000030 BTC"]
["⓮",null,null,null,null,null,null,null,null,null,null,null,null,null,null,null,null,null,null,null,null,null,null,{"$f":"IF(X358>$X$3,0,X358)","v":2},{"$f":"IF(Y358>$X$3,0,Y358)","v":0},null,null,null,null,null,null,null,null,null,null,null,null,null,null,"IFC/LTC","InfiniteCoin","0.08 BTC","0.00000222 LTC","0.00000214 LTC"]
[null,"Price Yt",1.4318999999999999E-4,1.4295000000000001E-4,1.4295000000000001E-4,1.4295000000000001E-4,1.4295000000000001E-4,1.3636E-4,1.3636E-4,1.3636E-4,1.3636E-4,1.3636E-4,1.3636E-4,1.3171E-4,1.3171E-4,1.2999999999999999E-4,1.2999999999999999E-4,1.2547E-4,1.2547E-4,1.2742999999999999E-4,1.2742999999999999E-4,1.2740000000000001E-4,null,null,null,null,null,null,null,null,null,null,null,null,null,null,null,null,null,"EZC/BTC","EZCoin","0.076 BTC","0.00000330 BTC","0.00000276 BTC"]
[{"$f":"A362/10","v":0.2},"F↗↘",{"$f":"ABS(C360)","v":1.4318999999999999E-4},{"$f":"ABS(C360)","v":1.4318999999999999E-4},{"$f":"D361+а142*(D360-D361)","v":1.4314199999999999E-4},1.4310359999999999E-4,1.4307287999999998E-4,1.4304830399999998E-4,1.4171064319999999E-4,1.4064051455999998E-4,1.3978441164799998E-4,1.3909952931839999E-4,1.3855162345472E-4,1.3811329876377599E-4,1.3683263901102078E-4,1.3580811120881664E-4,1.346464889670533E-4,1.3371719117364264E-4,1.3206775293891411E-4,1.307482023511313E-4,1.3008456188090504E-4,1.2955364950472404E-4,1.2912291960377924E-4,null,null,null,null,null,null,null,null,null,null,null,null,null,null,null,null,"ELP/LTC","ElephantCoin","0.07 BTC","0.00001949 LTC","0.00001450 LTC"]
["1900-01-02",null,null,null,null,null,null,null,null,null,null,null,null,null,null,null,null,null,null,null,null,"00:00:11.579",null,null,null,null,null,null,null,null,null,null,null,null,null,null,null,null,null,"ORB/BTC","Orbitcoin","0.067 BTC","0.00005105 BTC","0.00004902 BTC"]
[2,"Price Yt",1.5647697020466461E-4,1.5647697020466461E-4,1.5700757616373168E-4,1.6430653800312994E-4,1.6430653800312994E-4,1.6430653800312994E-4,1.6175518432200316E-4,1.6175518432200316E-4,1.5784814745760254E-4,1.4931675203650041E-4,1.4842397965798645E-4,1.4526611446451929E-4,1.4575689157161542E-4,1.4728093944681078E-4,1.4589174389631235E-4,1.3811726193144807E-4,1.3683580954515845E-4,1.2912291960377924E-4,1.2912291960377924E-4,1.2912291960377924E-4,null,null,null,null,null,null,null,null,null,null,null,null,null,null,null,null,null,"TIX/LTC","Tickets","0.07 BTC","0.00000065 LTC","0.00000058 LTC"]
[{"$f":"A365/10","v":0.2},"F↗↘",{"$f":"ABS(C363)","v":1.5647697020466461E-4},{"$f":"ABS(C363)","v":1.5647697020466461E-4},{"$f":"D364+а143*(D363-D364)","v":1.5647697020466461E-4},1.5658309139647802E-4,1.5812778071780839E-4,1.593635321748727E-4,1.6035213334052414E-4,1.6063274353681994E-4,1.6085723169385657E-4,1.6025541484660576E-4,1.5806768228458469E-4,1.5613894175926506E-4,1.5396437630031589E-4,1.5232287935457579E-4,1.5131449137302278E-4,1.5022994187768068E-4,1.4780740588843415E-4,1.4561308661977901E-4,1.4231505321657905E-4,1.3967662649401908E-4,1.3756588511597111E-4,null,null,null,null,null,null,null,null,null,null,null,null,null,null,null,null,"JKC/LTC","JunkCoin","0.06 BTC","0.00026953 LTC","0.00020489 LTC"]
["1900-01-02",null,null,null,null,null,null,null,null,null,null,null,null,null,null,null,null,null,null,null,null,null,null,null,null,null,null,null,null,null,null,null,null,null,null,null,null,null,null,"OSC/BTC","OpenSourceCoin","0.059 BTC","0.00000309 BTC","0.00000226 BTC"]
[2,"A",null,null,null,null,null,null,"  B",null,null,null,null,null,null,null,"     C",null,null,null,null,null,"Go to:","↙ Refresh",null,0,null,null,null,null,null,null,null,null,null,null,null,null,null,"TGC/BTC","TigerCoin","0.059 BTC","0.00000134 BTC","0.00000117 BTC"]
["α#",null,null,null,null,null,null,null,null,null,null,null,null,null,null,null,null,null,null,null,null,null,null,"Go to:",null,null,null,null,null,null,null,null,null,null,null,null,null,null,null,"STR/BTC","StarCoin","0.050 BTC","0.00000041 BTC","0.00000040 BTC"]
[null,null,null,null,null,null,null,null,null,null,null,null,null,null,null,null,null,null,null,null,null,null,null,null,null,null,null,null,null,null,null,null,null,null,null,null,null,null,null,"CPR/LTC","CopperBars","0.05 BTC","0.27871000 LTC","0.25000000 LTC"]
[null," NET",null,null,null,null,null,null,null,null,null,null,null,null,null,null,null,null,null,null,null,null,null,null,null,null,null,null,null,null,null,null,null,null,null,null,null,null,null,"CTM/LTC","Continuumcoin","0.05 BTC","0.00000007 LTC","0.00000006 LTC"]
[null,null,null,null,null,null,null,null,null,null,null,null,null,null,null,null,null,null,null,null,null,null,null,null,null,null,null,null,null,null,null,null,null,null,null,null,null,null,null,"BEN/BTC","Benjamins","0.048 BTC","0.00000675 BTC","0.00000511 BTC"]
[null,null,null,null,null,null,null,null,null,null,null,null,null,null,null,null,null,null,null,null,null,null,null,null,null,null,null,null,null,null,null,null,null,null,null,null,null,null,null,"MEM/LTC","MemeCoin","0.04 BTC","0.00002698 LTC","0.00001856 LTC"]
[null,null,null,null,null,null,null,null,null,null,null,null,null,null,null,null,null,null,null,null,null,null,null,null,null,0,null,null,null,null,null,null,null,null,null,null,null,null,null,"CAP/BTC","BottleCaps","0.041 BTC","0.00001222 BTC","0.00001045 BTC"]
[null,null,null,null,null,null,null,null,null,null,null,null,null,null,null,null,null,null,null,null,null,null,null,null,null,null,null,null,null,null,null,null,null,null,null,null,null,null,null,"DMC/LTC","DamaCoin","0.04 BTC","0.00000006 LTC","0.00000005 LTC"]
[null,null,null,null,null,null,null,null,null,null,null,null,null,null,null,null,null,null,null,null,null,null,null,null,null,null,null,null,null,null,null,null,null,null,null,null,null,null,null,"ADT/LTC","AndroidsTokensV2","0.04 BTC","0.00000019 LTC","0.00000017 LTC"]
["NetCoin",null,null,null,null,null,null,null,null,null,null,null,null,null,null,null,null,null,null,null,null,null,null,null,null,null,null,null,null,null,null,null,null,null,null,null,null,null,null,"FST/LTC","FastCoin","0.04 BTC","0.00013751 LTC","0.00011901 LTC"]
[null,null,null,null,null,null,null,null,null,null,null,null,null,null,null,null,null,null,null,null,null,null,null,null,null,null,null,null,null,null,null,null,null,null,null,null,null,null,null,"AMC/BTC","AmericanCoin","0.038 BTC","0.00000227 BTC","0.00000210 BTC"]
[null,null,null,null,null,null,null,null,null,null,null,null,null,null,null,null,null,null,null,null,null,null,null,null,null,null,null,null,null,null,null,null,null,null,null,null,null,null,null,"SMC/BTC","SmartCoin","0.033 BTC","0.00000256 BTC","0.00000252 BTC"]
[null,null,null,null,null,null,null,null,null,null,null,null,null,null,null,null,null,null,null,null,null,null,null,"  14 - NET",null,null,null,null,null,null,null,null,null,null,null,null,null,null,null,"YAC/LTC","YaCoin","0.03 BTC","0.00052800 LTC","0.00048165 LTC"]
[null,null,null,null,null,null,null,null,null,null,null,null,null,null,null,null,null,null,null,null,null,null,null,null,null,null,null,null,null,null,null,null,null,null,null,null,null,null,null,"LK7/BTC","Lucky7Coin","0.030 BTC","0.00000057 BTC","0.00000055 BTC"]
[null,null,null,null,null,null,null,null,null,null,null,null,null,null,null,null,null,null,null,null,null,null,null,null,null,null,null,null,null,null,null,null,null,null,null,null,null,null,null,"SBC/LTC","StableCoin","0.03 BTC","0.00014498 LTC","0.00013953 LTC"]
[null,null,null,null,null,null,null,null,null,null,null,null,null,null,null,null,null,null,null,null,null,null,null,null,null,null,null,null,null,null,null,null,null,null,null,null,null,null,null,"DBL/LTC","Doubloons","0.023 BTC","0.00032999 LTC","0.00028000 LTC"]
[null,null,null,null,null,null,null,null,null,null,null,null,null,null,null,null,null,null,null,null,null,null,null,null,null,"       To source","WdcCoin",null,null,null,null,null,null,null,null,null,null,null,null,"SPT/BTC","Spots","0.021 BTC","0.00000624 BTC","0.00000603 BTC"]
["WDC/LTC",null,{"$f":"IF(A276=\"FALCE\",\"❶\",\"\")","v":""},{"$f":"IF(A303=\"FALCE\",\"❷\",\"\")","v":""},{"$f":"IF(A330=\"FALCE\",\"❸\",\"\")","v":""},{"$f":"IF(A357=\"FALCE\",\"❹\",\"\")","v":""},{"$f":"IF(A357=\"FALCE\",\"❹\",\"\")","v":""},{"$f":"IF(A411=\"FALCE\",\"❻\",\"\")","v":""},{"$f":"IF(#REF!=\"FALCE\",\"❼\",\"\")","v":{"$error":"#REF!"}},{"$f":"IF(A498=\"FALCE\",\"❽\",\"\")","v":""},{"$f":"IF(A491=\"FALCE\",\"❾\",\"\")","v":""},{"$f":"IF(A519=\"FALCE\",\"❿\",\"\")","v":""},{"$f":"IF(A519=\"FALCE\",\"❿\",\"\")","v":""},null,null,null,null,null,null,{"$f":"IF(A384=\"FALSE\",\"THERE IS CHANGE IN THE IMPORT DATA. ADJUST THE INPUT !\",\"\")","v":""},"WDC/LTC 0.00273630 ","WDC/LTC",2.7363000000000001E-3,null,null,null,null,null,null,null,null,null,null,null,null,null,null,null,null,"COL/LTC","ColossusCoin","0.017 BTC","0.00000007 LTC","0.00000005 LTC"]
[{"$f":"IF(V383=A383,\"TRUE\",\"FALSE\")","v":"TRUE"},"Price Yt",2.8993399999999998E-3,2.8610699999999998E-3,2.8610699999999998E-3,2.8610699999999998E-3,2.8610699999999998E-3,2.8610699999999998E-3,2.8610699999999998E-3,2.8610699999999998E-3,2.8610699999999998E-3,2.8610699999999998E-3,2.8610699999999998E-3,2.9498900000000002E-3,2.9498900000000002E-3,2.9498900000000002E-3,2.9498900000000002E-3,2.9498900000000002E-3,2.9498900000000002E-3,2.9498900000000002E-3,2.7363000000000001E-3,2.7363000000000001E-3,null,{"$f":"$X$3","v":20},"↙ Number of periods for A and B cycles",null,null,null,null,null,null,null,null,null,null,null,null,null,null,"NRB/BTC","NoirBits","0.015 BTC","0.00000985 BTC","0.00000983 BTC"]
["Fd","F↗↘",null,null,null,{"$f":"3/6*E384+2/6*D384+1/6*C384","v":2.867448333333333E-3},2.8610699999999998E-3,2.8610699999999998E-3,2.8610699999999998E-3,2.8610699999999998E-3,2.8610699999999998E-3,2.8610699999999998E-3,2.8610699999999998E-3,2.8610699999999998E-3,2.9054800000000002E-3,2.9350866666666667E-3,2.9498900000000002E-3,2.9498900000000002E-3,2.9498900000000002E-3,2.9498900000000002E-3,2.9498900000000002E-3,2.8430949999999995E-3,2.7718983333333332E-3,2,0,null,null,null,null,null,null,null,null,null,null,null,null,null,null,"XNC/LTC","XenCoin","0.012 BTC","0.00000414 LTC","0.00000365 LTC"]
["⓯",null,null,null,null,null,null,null,null,null,null,null,null,null,null,null,null,null,null,null,null,null,null,{"$f":"IF(X385>$X$3,0,X385)","v":2},{"$f":"IF(Y385>$X$3,0,Y385)","v":0},null,null,null,null,null,null,null,null,null,null,null,null,null,null,"ZCC/BTC","ZcCoin","0.011 BTC","0.00008264 BTC","0.00006770 BTC"]
[null,"Price Yt",2.8099999999999996E-3,2.9485500000000003E-3,2.9485500000000003E-3,2.9485500000000003E-3,2.9485500000000003E-3,3.0085499999999996E-3,3.0085499999999996E-3,3.0085499999999996E-3,3.0085499999999996E-3,3.0085499999999996E-3,3.0085499999999996E-3,2.8806199999999995E-3,2.8806199999999995E-3,2.9272399999999998E-3,2.9272399999999998E-3,2.8993399999999998E-3,2.8993399999999998E-3,2.8610699999999998E-3,2.8610699999999998E-3,2.9498900000000002E-3,null,null,null,null,null,null,null,null,null,null,null,null,null,null,null,null,null,"CNC/LTC","CHNCoin","0.008 BTC","0.00017619 LTC","0.00016202 LTC"]
[{"$f":"A389/10","v":0.2},"F↗↘",{"$f":"ABS(C387)","v":2.8099999999999996E-3},{"$f":"ABS(C387)","v":2.8099999999999996E-3},{"$f":"D388+а152*(D387-D388)","v":2.8377099999999998E-3},2.8598779999999997E-3,2.8776124E-3,2.8917999200000002E-3,2.9151499360000003E-3,2.9338299488000001E-3,2.9487739590400002E-3,2.960729167232E-3,2.9702933337856E-3,2.9779446670284799E-3,2.958479733622784E-3,2.9429077868982269E-3,2.9397742295185817E-3,2.9372673836148655E-3,2.9296819068918923E-3,2.9236135255135136E-3,2.9111048204108108E-3,2.9010978563286487E-3,2.9108562850629189E-3,null,null,null,null,null,null,null,null,null,null,null,null,null,null,null,null,"FLAP/BTC","FlappyCoin","0.008 BTC","0.00000001 BTC","0.00000001 BTC"]
["1900-01-02",null,null,null,null,null,null,null,null,null,null,null,null,null,null,null,null,null,null,null,null,null,null,null,null,null,null,null,null,null,null,null,null,null,null,null,null,null,null,"BUK/BTC","CryptoBuck","0.007 BTC","0.00012395 BTC","0.00011525 BTC"]
[2,"Price Yt",3.2243764575400555E-3,3.1392594771761373E-3,3.1392594771761373E-3,3.1075715817409097E-3,3.0396066622753086E-3,3.0396066622753086E-3,3.0396066622753086E-3,3.0430173298202469E-3,2.9966138638561975E-3,2.7404272135004952E-3,2.8001122825623784E-3,2.9421088583237122E-3,2.9620494767525919E-3,3.0330348666163442E-3,3.0515374198434478E-3,2.9889680053947795E-3,2.9672984043158236E-3,2.9108562850629189E-3,2.9108562850629189E-3,2.9108562850629189E-3,null,null,null,null,null,null,null,null,null,null,null,null,null,null,null,null,null,"FRK/LTC","Franko","0.003 BTC","0.02049950 LTC","0.01980003 LTC"]
[{"$f":"A392/10","v":0.4},"F↗↘",{"$f":"ABS(C390)","v":3.2243764575400555E-3},{"$f":"ABS(C390)","v":3.2243764575400555E-3},{"$f":"D391+а153*(D390-D391)","v":3.1903296653944882E-3},3.1699015901071478E-3,3.1449695867606527E-3,3.1028244169665153E-3,3.0775373150900326E-3,3.0623650539641431E-3,3.0546259643065847E-3,3.0314211241264299E-3,2.9150235598760562E-3,2.8690590489505851E-3,2.8982789726998358E-3,2.9237871743209381E-3,2.9674862512391004E-3,3.0011067186808391E-3,2.9962512333664153E-3,2.9846701017461788E-3,2.955144575072875E-3,2.9374292590688927E-3,2.9268000694665031E-3,null,null,null,null,null,null,null,null,null,null,null,null,null,null,null,null,"NBL/BTC","Nibble","0.001 BTC","0.00001273 BTC","0.00001273 BTC"]
["1900-01-04",null,null,null,null,null,null,null,null,null,null,6.0422091629835352E-7,3.6888006545297356E-7,2.5353508870556855E-7,1.8497192885139795E-7,1.4196598885853475E-7,1.139132331558157E-7,9.5066721061764697E-8,8.2205083330640526E-8,7.3445863204096057E-8,6.7637551459632634E-8,null,null,null,null,null,null,null,null,null,null,null,null,null,null,null,null,null,null,"MST/LTC","MasterCoin (Hydro)","0.000 BTC","0.00002500 LTC","0.00002002 LTC"]
[2,"A",null,null,null,null,null,null,"  B",null,null,null,null,null,null,null,"     C",null,null,null,null,null,"Go to:","↙ Refresh",null,0,null,null,null,null,null,null,null,null,null,null,null,null,null,"PYC/BTC","PayCoin","0.000 BTC","0.00001620 BTC","0.00001601 BTC"]
["1900-01-02",null,null,null,null,null,null,null,null,null,null,null,null,null,null,null,null,null,null,null,null,null,null,"Go to:",null,null,null,null,null,null,null,null,null,null,null,null,null,null,null,"BTG/BTC","BitGem","0.000 BTC","0.00373395 BTC","0.00373395 BTC"]
[null,null,null,null,null,null,null,null,null,null,null,null,null,null,null,null,null,null,null,null,null,null,null,null,null,null,null,null,null,null,null,null,null,null,null,null,null,null,null,"YBC/BTC","YBCoin","0.000 BTC","0.00277334 BTC","0.00277334 BTC"]
[null,"WDC",null,null,null,null,null,null,null,null,null,null,null,null,null,null,null,null,null,null,null,null,null,null,null,null,null,null,null,null,null,null,null,null,null,null,null,null,null,"LTC/USD","LiteCoin","0.000 BTC","0.00000000 USD","0.00000000 USD"]
[null,null,null,null,null,null,null,null,null,null,null,null,null,null,null,null,null,null,null,null,null,null,null,null,null,null,null,null,null,null,null,null,null,null,null,null,null,null,null,"BTC/USD","BitCoin","0.000 BTC","0.00000000 USD","0.00000000 USD"]
[null,null,null,null,null,null,null,null,null,null,null,null,null,null,null,null,null,null,null,null,null,null,null,null,null,null,null,null,null,null,null,null,null,null,null,null,null,null,null,"FTC/USD","FeatherCoin","0.000 BTC","0.00000000 USD","0.00000000 USD"]
["1900-01-05",null,null,null,null,null,null,null,null,null,null,null,null,null,null,null,null,null,null,null,null,null,null,null,null,0,null,null,null,null,null,null,null,null,null,null,null,null,null,"DOGE/USD","Dogecoin","0.000 BTC","0.00000000 USD","0.00000000 USD"]
[null,null,null,null,null,null,null,null,null,null,null,null,null,null,null,null,null,null,null,null,null,null,null,null,null,null,null,null,null,null,null,null,null,null,null,null,null,null,null,null,"24 Hr Total Volume","2692.12 BTC"]
[]
["WCoin",null,null,null,null,null,null,null,null,null,null,null,null,null,null,null,null,null,null,null,null,null,null,null,null,null,null,null,null,null,null,null,null,null,null,null,null,null,null,"Tweets by @cryptsy"]
[]
[]
[null,null,null,null,null,null,null,null,null,null,null,null,null,null,null,null,null,null,null,null,null,null,null,null,null,null,null,null,null,null,null,null,null,null,null,null,null,null,null,"© 2014 Project Investors Inc - All Rights Reserved"]
[]
[null,null,null,null,null,null,null,null,null,null,null,null,null,null,null,null,null,null,null,null,null,null,null,"   15 -  WDC",null,null,null,null,null,null,"฿",null,null,null,null,null,null,null,null,"Terms"]
[null,null,null,null,null,null,null,null,null,null,null,null,null,null,null,null,null,null,null,null,null,null,null,null,null,null,null,null,null,null,null,null,null,null,null,null,null,null,null,"Privacy"]
[null,null,null,null,null,null,null,null,null,null,null,null,null,null,null,null,null,null,null,null,null,null,null,null,null,null,null,null,null,null,null,null,null,null,null,null,null,null,null,"Blog"]
[null,null," BTC ","   Buy"," Sell",null,null,null,null,null,null,null,null,null,null,null,null,null,null," LTC ","  Buy"," Sell",null,"฿ Buy",{"$f":"X1","v":"2014-04-29"},"฿ Sell","L Buy"," L Sell",null,null,null,null,null,null,null,null,null,null,null,"Support"]
["0.1.1900","00:00:00",{"$f":"C3","v":1},{"$f":"C411+1","v":2},3,{"$f":"E411+1","v":4},5,6,7,8,9,{"$f":"K411+1","v":10},{"$f":"L411+1","v":11},null,null,null,null,null,null,null,null,null,null,"0.01021719",null,"0.01021719","0.08336690","0.69655583",null,null,null,null,null,null,null,null,null,null,null,"API"]
["Invest \u0086",0.05,"2014-04-18","2014-04-19","2014-04-20","2014-04-21","2014-04-22","2014-04-23","2014-04-24","2014-04-25","2014-04-26","2014-04-27","2014-04-28",null,null,null,null,null,null,null,null,null,1.0217189999999999E-2,1.9565799999999999E-3,{"$f":"AA5+Z19+Z40+Z46+Z67+Z73+Z94+Z100+Z121+Z127+Z148+Z154+Z175+Z181+Z202+Z208+Z229+Z235+Z256+Z262+Z285+Z291+Z312+Z318+Z339+Z345+Z366+Z372+Z393+Z399","v":"1900-01-18"},1.0217189999999999E-2,8.3366899999999994E-2,0.69655582999999999,null,null,null,null,null,null,null,null,null,null,null,"Security"]
[null,"\u0086",1.4925299999999999E-3,null,8.4062300000000006E-3,1.5029999999999999E-4,2.9472E-4,1.6555999999999999E-3,4.3434000000000002E-4,null,"0,11061190 ",7.2144000000000002E-3,1.9565799999999999E-3,null,null,null,null,null,null,null,null,null,null,8.4177699999999998E-3,"2014-04-14",1.1167689999999999E-2,0.50746776999999998,0.1106707,null,null,null,null,null,null,null,null,null,null,null,"About"]
[null,null,"0.02335429 ",null,2.6455000000000001E-4,4.8132999999999997E-4,2.0596500000000001E-3,4.9390600000000003E-3,1.7502399999999999E-3,null,null,1.9478500000000001E-3,null,null,null,null,null,null,null,null,null,null,null,4.9390600000000003E-3,"2014-04-23",3.7053699999999999E-3,8.5544729999999999E-2,0.69655582999999999,null,null,null,null,null,null,null,null,null,null,null,"Jobs"]
[null,null,8.4177699999999998E-3,null,1.21357E-3,3.8507E-4,6.5610000000000004E-5,null,8.3106E-4,null,null,5.8957599999999999E-3,null,null,null,null,null,null,null,null,null,null,null,2.9531000000000002E-4,"2014-04-23",7.9179999999999995E-4,3.9342889999999998E-2,0.17304894000000001]
[null,"<",9.8265399999999999E-3,null,5.6701199999999998E-3,1.9268000000000001E-4,1.3509999999999999E-5,null,1.3643999999999999E-4,null,null,1.85771E-3,null,null,null,null,null,null,null,null,null,null,null,1.3540000000000001E-5,"2014-04-24",1.3599300000000001E-3,1.6143290000000001E-2,6.5322499999999999E-3,null,null,null,null,null,null,null,null,null,null,null,"Market volatility, volume, and system availability may delay account access and trade executions. Project Investors Inc. FinCEN BSA ID: 31000027060819"]
[null,null,null,null,null,9.6189999999999999E-5,3.21653E-3,null,3.9969999999999998E-5,null,null,null,null,null,null,null,null,null,null,null,null,null,null,3.22296E-3,"2014-04-24",7.5939400000000004E-3,0.10256418,0.30318663000000001,null,null,null,null,null,null,null,null,null,null,null,"This is not an offer or solicitation in any jurisdiction where we are not authorized to do business. Cryptsy is a registered trademark of Project Investors Inc."]
[null,null,null,null,null,9.6189999999999999E-5,2.0637699999999999E-3,null,3.9969999999999998E-5,null,null,null,null,null,null,null,null,null,null,null,null,null,null,2.0637699999999999E-3,"2014-04-24",8.9731399999999992E-3,8.3603060000000007E-2,3.6821699999999998E-3]
[null,null,null,null,null,9.6189999999999999E-5,2.9531000000000002E-4,null,4.1655000000000001E-4,null,null,null,null,null,null,null,null,null,null,null,null,null,null,1.65891E-3,"2014-04-24",5.52871E-3,8.3603060000000007E-2,0.30303058999999999]
[null,null,null,null,null,2.1175199999999999E-3,"0,00006574 ",null,1.6278000000000001E-4,null,null,null,null,null,null,null,null,null,null,null,null,null,null,4.3434000000000002E-4,"2014-04-26",3.9921000000000002E-3,0.12648013,"0,24992604 "]
[null,null,null,null,null,6.5322499999999999E-3,1.3540000000000001E-5,null,1.0776E-4,null,null,null,null,null,null,null,null,null,null,null,null,null,null,1.7502399999999999E-3,"2014-04-25",3.6889000000000002E-3,4.1483289999999999E-2,1.8511000000000001E-3,null,null,null,null,null,null,null,null,null,null,null,"Log In To Join Chat"]
[null,null,null,null,null,null,3.22296E-3,null,3.2335000000000003E-4,null,null,null,null,null,null,null,null,null,null,null,null,null,null,8.3106E-4,"2014-04-27",3.8055599999999999E-3,0.12622602999999999,3.9116699999999999E-3]
[null,null,null,null,null,null,1.65891E-3,null,4.0219999999999998E-5,null,null,null,null,null,null,null,null,null,null,null,null,null,null,1.3643999999999999E-4,"2014-04-28",1.97576E-3,0.12648013,1.066E-5]
[null,null,null,null,null,null,null,null,2.069E-5,null,null,null,null,null,null,null,null,null,null,null,null,null,null,3.9969999999999998E-5,"2014-04-28",1.0323010000000001E-2,0.12673296000000001,3.9116699999999999E-3]
[null,null,null,null,null,null,null,null,7.0389999999999995E-5,null,null,null,null,null,null,null,null,null,null,null,null,null,null,3.9969999999999998E-5,"2014-04-28",1.0323010000000001E-2,8.4319660000000005E-2,1.01925E-3]
[null,null,null,null,null,null,null,null,2.2918E-4,null,null,null,null,null,null,null,null,null,null,null,null,null,null,4.1655000000000001E-4,"2014-04-28",1.0247930000000001E-2,0.12673296000000001,1.9505099999999999E-3]
[null,null,null,null,null,null,null,null,4.1359999999999997E-5,null,null,null,null,null,null,null,null,null,null,null,null,null,null,1.6278000000000001E-4,"2014-04-28",1.0217189999999999E-2,8.3366899999999994E-2,3.0375880000000001E-2]
[null,null,null,null,null,null,null,null,2.1605999999999999E-4,null,null,null,null,null,null,null,null,null,null,null,null,null,null,1.0776E-4,"2014-04-24",null,0.1106119,3.5687249999999997E-2]
[null,null,null,null,null,null,null,null,5.448E-5,null,null,null,null,null,null,null,null,null,null,null,null,null,null,3.2335000000000003E-4,"2014-04-24",null,1.0181340000000001E-2]
[null,null,null,null,null,null,null,null,2.1232E-4,null,null,null,null,null,null,null,null,null,null,null,null,null,null,4.0219999999999998E-5,"2014-04-24",null,9.4774799999999999E-3]
[null,null,null,null,null,null,null,null,5.9891400000000004E-3,null,null,null,null,null,null,null,null,null,null,null,null,null,null,2.069E-5,"2014-04-24",null,8.0499999999999992E-6]
[null,null,"End","End","End","End","End","End","End","End","End","End","End","End","End","End","End","End","End","End","End","End","End",7.0389999999999995E-5,"2014-04-24",null,2.2151250000000001E-2]
[null,null,null,null,null,null,null,null,null,null,null,null,null,null,null,null,null,null,null,null,null,null,null,2.2918E-4,"2014-04-24",null,2.2060199999999999E-3]
["SubTOTAL ฿-Buy",null,{"$f":"SUM(C413:C431)","v":1.9736839999999999E-2},{"$f":"SUM(D413:D431)","v":0},{"$f":"SUM(E413:E431)","v":1.5554470000000001E-2},{"$f":"SUM(F413:F431)","v":1.0147719999999999E-2},1.2904509999999999E-2,6.5946600000000005E-3,1.1116299999999999E-2,0,{"$f":"SUM(K413:K431)","v":0},1.6915719999999999E-2,1.9565799999999999E-3,0,0,0,0,0,0,0,0,{"$f":"SUM(V413:V431)","v":0},{"$f":"SUM(C434:V434)","v":9.4926799999999992E-2},4.1359999999999997E-5,"2014-04-24",null,0.12634676]
["BTC ↓ Sell",null,{"$f":"D412","v":"2014-04-19"},{"$f":"E412","v":"2014-04-20"},{"$f":"E412","v":"2014-04-20"},{"$f":"F412","v":"2014-04-21"},"2014-04-22","2014-04-23","2014-04-24","2014-04-25","2014-04-26","2014-04-27","2014-04-28","00:00:00","00:00:00","00:00:00","00:00:00","00:00:00","00:00:00","00:00:00","00:00:00","00:00:00",null,2.1605999999999999E-4,"2014-04-24",null,5.2290499999999998E-3]
["Safe this record now",null,null,null,null,1.1167689999999999E-2,3.7053699999999999E-3,7.5939400000000004E-3,8.9731399999999992E-3,null,5.52871E-3,3.8055599999999999E-3,1.97576E-3,null,null,null,null,null,null,null,null,null,null,5.448E-5,"2014-04-24",null,9.7121499999999993E-3]
["BTC Sell",null,null,null,null,3.9921000000000002E-3,"0.17304894 ",null,null,null,null,null,1.0323010000000001E-2,null,null,null,null,null,null,null,null,null,null,2.1232E-4,"2014-04-24",null,2.943074E-2]
[null,null,null,null,null,3.6889000000000002E-3,7.9418000000000002E-4,null,null,null,null,null,1.0323010000000001E-2,null,null,null,null,null,null,null,null,null,null,1.0746E-4,"2014-04-24",null,0.11117876]
[null,null,null,null,null,3.7165200000000001E-3,1.3640200000000001E-3,null,null,null,null,null,1.0247930000000001E-2,null,null,null,null,null,null,null,null,null,null,8.6840000000000002E-5,"2014-04-24",null,0.63853320000000002]
[null,null,null,null,null,null,7.9179999999999995E-4,null,null,null,null,null,1.0217189999999999E-2,null,null,null,null,null,null,null,null,null,null,2.4153E-4,"2014-04-24",null,7.8596739999999998E-2]
[null,null,null,null,null,null,1.3599300000000001E-3,null,null,null,null,null,null,null,null,null,null,null,null,null,null,null,null,2.9009999999999998E-5,"2014-04-24",null,4.8400000000000002E-6]
[null,null,null,null,null,null,null,null,null,null,null,null,null,null,null,null,null,null,null,null,null,null,null,2.3305E-4,"2014-04-24"]
[null,null,null,null,null,null,null,null,null,null,null,null,null,null,null,null,null,null,null,null,null,null,null,4.1264999999999997E-4,"2014-04-24"]
[null,null,null,null,null,null,null,null,null,null,null,null,null,null,null,null,null,null,null,null,null,null,null,2.4835999999999999E-4,"2014-04-24"]
[null,null,null,null,null,null,null,null,null,null,null,null,null,null,null,null,null,null,null,null,null,null,null,4.6302399999999999E-3,"2014-04-24"]
[null,null,null,null,null,null,null,null,null,null,null,null,null,null,null,null,null,null,null,null,null,null,null,9.8265399999999999E-3,"2014-04-24"]
[null,null,null,null,null,null,null,null,null,null,null,null,null,null,null,null,null,null,null,null,null,null,null,2.6455000000000001E-4,"2014-04-24"]
[null,null,null,null,null,null,null,null,null,null,null,null,null,null,null,null,null,null,null,null,null,null,null,1.21357E-3,"2014-04-24"]
[null,null,{"$f":"C432","v":"End"},{"$f":"D432","v":"End"},"End","End","End","End","End","End","End","End","End","End","End","End","End","End","End","End","End","End","End",5.6701199999999998E-3,"2014-04-24"]
[null,null,null,null,null,null,null,null,null,null,null,null,null,null,null,null,null,null,null,null,null,null,null,3.8507E-4,"2014-04-24"]
["SubTOTAL ฿-Sell",null,{"$f":"SUM(C436:C448)","v":0},0,{"$f":"SUM(E436:E448)","v":0},2.2565210000000002E-2,{"$f":"SUM(G436:G448)","v":8.0152999999999995E-3},{"$f":"SUM(H436:H448)","v":7.5939400000000004E-3},{"$f":"SUM(I436:I448)","v":8.9731399999999992E-3},0,5.52871E-3,3.8055599999999999E-3,4.3086900000000004E-2,0,0,0,0,0,0,0,{"$f":"SUM(U436:U448)","v":0},{"$f":"SUM(V436:V448)","v":0},{"$f":"SUM(C451:V451)","v":9.9568760000000006E-2},4.8132999999999997E-4,"2014-04-24"]
[{"$f":"SUM(C452:V452)","v":4.6419600000000075E-3},null,{"$f":"C451-C434","v":-1.9736839999999999E-2},{"$f":"D451-D434","v":0},{"$f":"E451-E434","v":-1.5554470000000001E-2},{"$f":"F451-F434","v":1.2417490000000003E-2},{"$f":"G451-G434","v":-4.8892099999999997E-3},9.9927999999999996E-4,-2.1431599999999999E-3,{"$f":"J451-J434","v":0},5.52871E-3,-1.3110159999999999E-2,4.1130320000000005E-2,0,0,0,0,0,0,0,{"$f":"U451-U434","v":0},{"$f":"V451-V434","v":0},null,1.5029999999999999E-4,"2014-04-24"]
["00:00:00","00:00:00","LTC","Buy",null,null,null,null,null,null,null,null,null,null,null,null,null,null,null,null,null,null," Buy    Sell",1.9268000000000001E-4,"2014-04-24"]
[null,null,null,null,{"$f":"E3","v":3},4,5,6,7,8,9,10,11,12,13,14,15,16,17,18,19,20,null,9.6189999999999999E-5,"2014-04-24"]
[null,null,{"$f":"C412","v":"2014-04-18"},"2014-04-19","2014-04-20","2014-04-21","2014-04-22","2014-04-23","2014-04-24","2014-04-25","2014-04-26","2014-04-27","2014-04-28","00:00:00","00:00:00","00:00:00","00:00:00","00:00:00","00:00:00","00:00:00","00:00:00","00:00:00",null,9.6189999999999999E-5,"2014-04-24"]
["Buy",6.5188319999999994E-2,null,0.50746776999999998,9.7121499999999993E-3,8.5544729999999999E-2,null,null,null,8.3366899999999994E-2,8.5544729999999999E-2,null,null,null,null,null,null,null,null,null,null,null,null,9.6189999999999999E-5,"2014-04-24"]
[null,null,null,8.5544729999999999E-2,9.4774799999999999E-3,3.9342889999999998E-2,null,null,null,0.12673296000000001,1.6143290000000001E-2,null,null,null,null,null,null,null,null,null,null,null,null,2.1175199999999999E-3,"2014-04-24"]
[null,null,null,1.6143290000000001E-2,8.0499999999999992E-6,1.6143290000000001E-2,null,null,null,0.12673296000000001,"0.11061190 ",null,null,null,null,null,null,null,null,null,null,null,null,"0,00006574 ","2014-04-24"]
[null,null,null,null,2.2151250000000001E-2,0.1106119,null,null,null,null,0.10256418,null,null,null,null,null,null,null,null,null,null,null,null,7.2144000000000002E-3,"2014-04-27"]
[null,null,null,null,2.2060199999999999E-3,1.0181340000000001E-2,null,null,null,null,8.3603060000000007E-2,null,null,null,null,null,null,null,null,null,null,null,null,1.9478500000000001E-3,"2014-04-27"]
[null,null,null,null,0.12634676,5.2290499999999998E-3,null,null,null,null,8.3603060000000007E-2,null,null,null,null,null,null,null,null,null,null,null,null,5.8957599999999999E-3,"2014-04-28"]
[null,null,null,null,5.2290499999999998E-3,0.11117876,null,null,null,null,0.12648013,null,null,null,null,null,null,null,null,null,null,null,null,1.85771E-3,"2014-04-28"]
[null,null,null,null,2.943074E-2,null,null,null,null,null,4.1483289999999999E-2,null,null,null,null,null,null,null,null,null,null,null,null,1.9565799999999999E-3,"2014-04-28"]
[null,null,null,null,"0.11117876 ",null,null,null,null,null,0.12622602999999999]
[null,null,null,null,0.63853320000000002,null,null,null,null,null,0.12648013]
[null,null,null,null,7.8596739999999998E-2,null,null,null,null,null,8.4319660000000005E-2]
[null,null,null,null,4.8400000000000002E-6]
[]
[]
[]
[]
[]
[]
[]
[null,null,{"$f":"$C$432","v":"End"},{"$f":"$C$432","v":"End"},"End","End","End","End","End","End","End","End","End","End","End","End","End","End","End","End","End","End","End"]
[]
["SubTOTAL L-Buy",null,{"$f":"SUM(C456:C474)","v":0},{"$f":"SUM(D456:D474)","v":0.60915578999999997},{"$f":"SUM(E456:E474)","v":0.92169628000000003},{"$f":"SUM(F456:F474)","v":0.37823195999999998},{"$f":"SUM(G456:G474)","v":0},0,0,{"$f":"SUM(J456:J474)","v":0.33683282000000003},{"$f":"SUM(K456:K474)","v":0.87644756000000001},{"$f":"SUM(L456:L474)","v":0},0,0,0,{"$f":"SUM(P456:P474)","v":0},0,0,0,{"$f":"SUM(T456:T474)","v":0},0,0,{"$f":"SUM(C477:V477)","v":3.1223644099999999}]
["InFlow","↓ Sell","00:16:04.888",{"$f":"E412","v":"2014-04-20"},{"$f":"E412","v":"2014-04-20"},{"$f":"F412","v":"2014-04-21"},"2014-04-22","2014-04-23","2014-04-24","2014-04-25",{"$f":"K412","v":"2014-04-26"},"2014-04-27","2014-04-28","00:00:00","00:00:00","00:00:00","00:00:00","00:00:00","00:00:00","00:00:00","00:00:00","00:00:00"]
["LTC Sell",null,null,0.1106707,0.69655582999999999,"0,24992604 ",0.17304894000000001]
[null,null,null,null,null,0.30318663000000001]
[null,null,null,null,null,3.6821699999999998E-3]
[null,null,null,null,null,0.30303058999999999]
[null,null,null,null,null,"0.24992604 "]
[null,null,null,null,null,1.8511000000000001E-3]
[null,null,null,null,null,3.9116699999999999E-3]
[null,null,null,null,null,1.066E-5]
[null,null,null,null,null,3.9116699999999999E-3]
[null,null,null,null,null,1.01925E-3]
[null,null,null,null,null,1.9505099999999999E-3]
[null,null,null,null,null,3.0375880000000001E-2]
[null,null,null,null,null,3.5687249999999997E-2]
[null,null,{"$f":"$C$432","v":"End"},{"$f":"$C$432","v":"End"},"End","End","End","End","End","End","End","End","End","End","End","End","End","End","End","End","End","End","End"]
[]
["SubTOTAL L-Sell",null,{"$f":"SUM(C479:C491)","v":0},{"$f":"SUM(D479:D491)","v":0.1106707},{"$f":"SUM(E479:E491)","v":0.69655582999999999},{"$f":"SUM(F479:F491)","v":0.68861738000000017},0.17304894000000001,0,{"$f":"SUM(I479:I491)","v":0},0,0,0,0,0,0,0,0,0,0,0,0,0,{"$f":"SUM(C494:V494)","v":1.66889285}]
[{"$f":"SUM(C495:V495)","v":-1.4534715599999999},null,{"$f":"C494-C477","v":0},{"$f":"D494-D477","v":-0.49848508999999996},{"$f":"E494-E477","v":-0.22514045000000005},{"$f":"F494-F477","v":0.31038542000000019},0.17304894000000001,0,0,{"$f":"J494-J477","v":-0.33683282000000003},{"$f":"K494-K477","v":-0.87644756000000001},0,0,0,0,0,0,0,0,0,0,0]
["CashFlow",{"$f":"W499","v":2.3421910000000001E-2},{"$f":"$B$496*C495","v":0},{"$f":"$B$496*D495","v":-1.1675472914321899E-2},-5.2732193572595015E-3,7.2698193725522046E-3,4.0531366982754008E-3,0,0,-7.8892679950862011E-3,-2.0528075870039599E-2,0,0,0,0,0,0,0,0,0,0,0]
["Cash Flow ฿ + L",null,{"$f":"C452+C496","v":-1.9736839999999999E-2},-1.1675472914321899E-2,{"$f":"E452+E496","v":-2.0827689357259503E-2},1.9687309372552208E-2,-8.3607330172459898E-4,9.9927999999999996E-4,-2.1431599999999999E-3,-7.8892679950862011E-3,-1.49993658700396E-2,-1.3110159999999999E-2,4.1130320000000005E-2,0,0,0,0,0,0,0,0,0]
["CashComulative",null,{"$f":"C497","v":-1.9736839999999999E-2},{"$f":"IF((D497=0),0,(C498+D497))","v":-3.1412312914321894E-2},{"$f":"IF((E497=0),0,(D498+E497))","v":-5.2240002271581397E-2},{"$f":"IF((F497=0),0,(E498+F497))","v":-3.2552692899029192E-2},{"$f":"IF((G497=0),0,(F498+G497))","v":-3.3388766200753789E-2},{"$f":"IF((H497=0),0,(G498+H497))","v":-3.2389486200753791E-2},{"$f":"IF((I497=0),0,(H498+I497))","v":-3.4532646200753789E-2},{"$f":"IF((J497=0),0,(I498+J497))","v":-4.2421914195839988E-2},{"$f":"IF((K497=0),0,(J498+K497))","v":-5.7421280065879585E-2},-7.053144006587958E-2,-2.9401120065879575E-2,0,{"$f":"IF((O497=0),0,(N498+O497))","v":0},{"$f":"IF((P497=0),0,(O498+P497))","v":0},{"$f":"IF((Q497=0),0,(P498+Q497))","v":0},{"$f":"IF((R497=0),0,(Q498+R497))","v":0},{"$f":"IF((S497=0),0,(R498+S497))","v":0},{"$f":"IF((T497=0),0,(S498+T497))","v":0},{"$f":"IF((U497=0),0,(T498+U497))","v":0},{"$f":"IF((V497=0),0,(U498+V497))","v":0},{"$f":"V498","v":0}]
[null,null,null,null,null,null,null,null,null,null,null,null,null,null,null,null,null,null,null,null,"LTC/BTC 0.02342191 ","LTC/BTC",2.3421910000000001E-2]
[null,null,null,null,null,null,null,null,null,null,null,null,null,null,null,null,null,null,null,null,"LTC/BTC 0.02334825 ",null,{"$f":"X1","v":"2014-04-29"}]
[null,null,null,null,null,null,null,null,null,null,null,null,null,null,null,null,null,null,null,null,null,null,null,null,null,null,null,null,"The  END"]